Workbook

Sheet Monthly
A1: Estonian electricity balance, GWh | B1: Eesti elektribilanss, GWh | C1: 41640 | D1: 41671 | E1: 41699 | F1: 41730 | G1: 41760 | H1: 41791 | I1: 41821 | J1: 41852 | K1: 41883 | L1: 41913 | M1: 41944 | N1: 41974 | O1: 42005 | P1: 42036 | Q1: 42064 | R1: 42095 | S1: 42125 | T1: 42156 | U1: 42186 | V1: 42217 | W1: 42248 | X1: 42278 | Y1: 42309 | Z1: 42339 | AA1: 42370 | AB1: 42401 | AC1: 42430 | AD1: 42461 | AE1: 42491 | AF1: 42522 | AG1: 42552 | AH1: 42583 | AI1: 42614 | AJ1: 42644 | AK1: 42675 | AL1: 42705 | AM1: 42736 | AN1: 42767 | AO1: 42795 | AP1: 42826 | AQ1: 42856 | AR1: 42887 | AS1: 42917 | AT1: 42948 | AU1: 42979 | AV1: 43009 | AW1: 43040 | AX1: 43070 | AY1: 43101 | AZ1: 43132 | BA1: 43160 | BB1: 43191 | BC1: 43221 | BD1: 43252 | BE1: 43282 | BF1: 43313 | BG1: 43344 | BH1: 43374 | BI1: 43405 | BJ1: 43435 | BK1: 43466 | BL1: 43497 | BM1: 43525 | BN1: 43556 | BO1: 43586 | BP1: 43617 | BQ1: 43647 | BR1: 43678 | BS1: 43709 | BT1: 43739 | BU1: 43770 | BV1: 43800 | BW1: 43831 | BX1: 43862 | BY1: 43891 | BZ1: 43922 | CA1: 43952 | CB1: 43983 | CC1: 44013 | CD1: 44044 | CE1: 44075 | CF1: 44105 | CG1: 44136 | CH1: 44166
A2: Total electricity supplied to the network | B2: Võrku sisenenud | C2: 1411.0657 | D2: 1299.1118 | E2: 1235.8286 | F2: 1202.7466 | G2: 1198.1123 | H2: 1134.2389 | I2: 1143.5612 | J2: 1087.0559 | K2: 1126.177 | L2: 1228.7228 | M2: 1226.4412 | N2: 1375.7619 | O2: 1431.5562 | P2: 1261.9887 | Q2: 1195.307 | R2: 1210.1116 | S2: 1171.2688 | T2: 1130.9192 | U2: 1090.5893 | V2: 1045.5041 | W2: 1176.5459 | X2: 1338.4815 | Y2: 1159.19 | Z2: 1195.0113 | AA2: 1440.0302 | AB2: 1249.3158 | AC2: 1252.1315 | AD2: 1095.9381 | AE2: 1074.3078 | AF2: 1019.611 | AG2: 1103.079 | AH2: 1130.2723 | AI2: 1106.0602 | AJ2: 1161.54 | AK2: 1216.3706 | AL2: 1145.3022 | AM2: 1333.841 | AN2: 1176.912 | AO2: 1162.7509 | AP2: 1031.3139 | AQ2: 1120.3794 | AR2: 1072.9094 | AS2: 1049.1574 | AT2: 1068.6336 | AU2: 980.35191 | AV2: 1168.1107 | AW2: 1205.5312 | AX2: 1177.5161 | AY2: 1262.3244 | AZ2: 1213.1435 | BA2: 1394.3542 | BB2: 1143.1886 | BC2: 1035.1805 | BD2: 1007.5879 | BE2: 1039.9414 | BF2: 1155.5493 | BG2: 1126.5905 | BH2: 1195.6051 | BI2: 1277.1188 | BJ2: 1217.2358 | BK2: 1355.8467 | BL2: 1100.3301 | BM2: 1052.7573 | BN2: 1019.5706 | BO2: 979.91594 | BP2: 928.96181 | BQ2: 977.85101 | BR2: 869.61037 | BS2: 844.05518 | BT2: 950.98168 | BU2: 970.00958 | BV2: 1013.011 | BW2: 1068.0055 | BX2: 986.80263 | BY2: 988.39802 | BZ2: 922.87942 | CA2: 908.33639 | CB2: 874.04411 | CC2: 1044.1501 | CD2: 947.54487 | CE2: 971.7926 | CF2: 1035.1929 | CG2: 1099.7934 | CH2: 1116.2346
A3: Electricity generation in total (net) | B3: Sisemaine tootmine | C3: 939.04095 | D3: 865.09609 | E3: 861.68021 | F3: 807.03357 | G3: 890.96699 | H3: 935.65034 | I3: 918.32671 | J3: 854.32996 | K3: 874.05451 | L3: 975.5436 | M3: 952.71444 | N3: 1030.4353 | O3: 993.78633 | P3: 947.39136 | Q3: 743.4607 | R3: 687.4944 | S3: 764.22763 | T3: 538.18101 | U3: 570.41532 | V3: 674.91568 | W3: 797.61126 | X3: 779.78904 | Y3: 774.97132 | Z3: 790.0453 | AA3: 1088.5844 | AB3: 743.87135 | AC3: 672.33488 | AD3: 740.70149 | AE3: 611.79942 | AF3: 664.15756 | AG3: 834.12163 | AH3: 1005.9356 | AI3: 969.98328 | AJ3: 1066.42 | AK3: 1081.7503 | AL3: 942.45332 | AM3: 1142.1535 | AN3: 992.27169 | AO3: 1039.1216 | AP3: 889.67267 | AQ3: 1017.711 | AR3: 874.12369 | AS3: 768.94887 | AT3: 852.45582 | AU3: 827.05718 | AV3: 971.22106 | AW3: 980.07146 | AX3: 879.62505 | AY3: 1020.2909 | AZ3: 941.9713 | BA3: 1141.0373 | BB3: 997.72559 | BC3: 710.87103 | BD3: 696.14577 | BE3: 822.30666 | BF3: 935.82458 | BG3: 815.64153 | BH3: 814.52766 | BI3: 937.86076 | BJ3: 748.9718 | BK3: 1045.253 | BL3: 690.65861 | BM3: 677.49251 | BN3: 598.78764 | BO3: 490.87945 | BP3: 312.3661 | BQ3: 307.28686 | BR3: 402.6504 | BS3: 462.17775 | BT3: 439.62732 | BU3: 565.75619 | BV3: 454.29278 | BW3: 410.59687 | BX3: 368.02274 | BY3: 389.66187 | BZ3: 292.60963 | CA3: 282.10321 | CB3: 336.41062 | CC3: 336.68285 | CD3: 528.03372 | CE3: 464.85999 | CF3: 459.55495 | CG3: 450.6852 | CH3: 484.12529
A4: Electricity generated from renewable sources | B4: Taastuvenergia | C4: 109.19142 | D4: 108.97868 | E4: 127.94899 | F4: 108.96843 | G4: 88.192291 | H4: 98.022337 | I4: 84.926206 | J4: 109.70645 | K4: 103.04761 | L4: 146.86877 | M4: 114.74688 | N4: 155.3761 | O4: 159.20499 | P4: 135.06806 | Q4: 148.27587 | R4: 133.41375 | S4: 112.29723 | T4: 106.07171 | U4: 82.791841 | V4: 97.301799 | W4: 103.90651 | X4: 125.54082 | Y4: 137.08314 | Z4: 165.96754 | AA4: 110.57721 | AB4: 128.9609 | AC4: 105.78407 | AD4: 113.43916 | AE4: 86.550501 | AF4: 99.847643 | AG4: 75.112697 | AH4: 124.15644 | AI4: 104.04433 | AJ4: 153.83474 | AK4: 159.79446 | AL4: 150.19102 | AM4: 148.37804 | AN4: 126.54856 | AO4: 156.78 | AP4: 150.32637 | AQ4: 117.83887 | AR4: 121.91472 | AS4: 99.84318 | AT4: 116.39701 | AU4: 121.89529 | AV4: 155.55249 | AW4: 165.61122 | AX4: 172.353 | AY4: 141.6018 | AZ4: 116.04172 | BA4: 139.43022 | BB4: 145.37081 | BC4: 110.56791 | BD4: 120.55778 | BE4: 114.71111 | BF4: 129.12646 | BG4: 162.62855 | BH4: 172.57922 | BI4: 158.00193 | BJ4: 151.59648 | BK4: 155.67069 | BL4: 184.0316 | BM4: 186.33545 | BN4: 138.07778 | BO4: 150.03568 | BP4: 122.70213 | BQ4: 116.35961 | BR4: 142.06151 | BS4: 169.96109 | BT4: 184.06645 | BU4: 215.85226 | BV4: 181.14064 | BW4: 202.88972 | BX4: 194.00451 | BY4: 202.89337 | BZ4: 183.85465 | CA4: 161.5351 | CB4: 134.85249 | CC4: 167.05414 | CD4: 169.41988 | CE4: 200.82824 | CF4: 210.32392 | CG4: 216.41625 | CH4: 180.0779
A5: incl. wind | B5: sh tuuleenergia | C5: 46.218744 | D5: 50.21718 | E5: 65.629281 | F5: 44.330951 | G5: 35.742035 | H5: 33.024287 | I5: 29.932522 | J5: 42.232788 | K5: 38.681941 | L5: 63.048926 | M5: 43.965878 | N5: 83.010144 | O5: 87.708179 | P5: 69.406785 | Q5: 75.293617 | R5: 57.957676 | S5: 45.195772 | T5: 50.610305 | U5: 41.511383 | V5: 29.668325 | W5: 36.88062 | X5: 42.546099 | Y5: 63.117187 | Z5: 94.495032 | AA5: 46.331685 | AB5: 62.086089 | AC5: 36.108042 | AD5: 40.941833 | AE5: 21.799259 | AF5: 38.649464 | AG5: 37.493983 | AH5: 48.507564 | AI5: 36.70291 | AJ5: 72.071345 | AK5: 69.467773 | AL5: 79.826225 | AM5: 68.849613 | AN5: 53.563928 | AO5: 68.11518 | AP5: 56.271071 | AQ5: 30.896096 | AR5: 55.694168 | AS5: 34.133613 | AT5: 48.888393 | AU5: 45.971327 | AV5: 60.958503 | AW5: 67.633444 | AX5: 78.478187 | AY5: 59.558927 | AZ5: 34.667484 | BA5: 48.826256 | BB5: 49.752518 | BC5: 30.015123 | BD5: 45.043323 | BE5: 33.441824 | BF5: 39.453922 | BG5: 69.656749 | BH5: 71.334928 | BI5: 56.491062 | BJ5: 52.312205 | BK5: 59.707773 | BL5: 95.372091 | BM5: 84.540001 | BN5: 38.262145 | BO5: 44.263798 | BP5: 40.305628 | BQ5: 33.710441 | BR5: 35.176343 | BS5: 56.014381 | BT5: 54.089607 | BU5: 61.026449 | BV5: 89.206733 | BW5: 106.18997 | BX5: 104.43046 | BY5: 83.692211 | BZ5: 76.73709 | CA5: 49.563499 | CB5: 36.22468 | CC5: 48.573171 | CD5: 26.21055 | CE5: 66.577041 | CF5: 64.11129 | CG5: 81.876277 | CH5: 79.525904
A6: incl. hüdro | B6: sh hüdroenergia | C6: 3.7236597 | D6: 2.6173218 | E6: 3.6869666 | F6: 2.9486666 | G6: 2.7002781 | H6: 2.0273313 | I6: 1.518451 | J6: 1.0162894 | K6: 1.3019122 | L6: 1.2142346 | M6: 1.4275844 | N6: 2.4270183 | O6: 4.2103423 | P6: 3.540838 | Q6: 4.4585762 | R6: 3.750123 | S6: 2.9129253 | T6: 0.9302098 | U6: 0.70461799 | V6: 0.44168346 | W6: 0.78384553 | X6: 0.55446485 | Y6: 1.159811 | Z6: 3.1546062 | AA6: 1.5762232 | AB6: 4.0687105 | AC6: 3.8169652 | AD6: 4.3296054 | AE6: 2.8683726 | AF6: 1.3592425 | AG6: 2.103561 | AH6: 2.8688279 | AI6: 2.8326562 | AJ6: 1.8971962 | AK6: 3.1572912 | AL6: 3.7656162 | AM6: 2.8858955 | AN6: 1.8543971 | AO6: 3.30878 | AP6: 3.392911 | AQ6: 2.1291064 | AR6: 0.85232046 | AS6: 0.75766471 | AT6: 1.3641021 | AU6: 1.8865612 | AV6: 3.0200108 | AW6: 3.57194 | AX6: 4.0944937 | AY6: 3.6244304 | AZ6: 2.4433165 | BA6: 1.9917667 | BB6: 3.967074 | BC6: 2.9697305 | BD6: 0.56505718 | BE6: 0.35241141 | BF6: 0.2723009 | BG6: 0.30828545 | BH6: 0.6492139 | BI6: 1.1085302 | BJ6: 1.0004532 | BK6: 1.2484919 | BL6: 2.4158876 | BM6: 4.0242724 | BN6: 3.6165806 | BO6: 2.2778368 | BP6: 0.66140117 | BQ6: 0.45263012 | BR6: 0.31763641 | BS6: 0.46981874 | BT6: 1.8397633 | BU6: 2.3662873 | BV6: 1.9256107 | BW6: 2.3398006 | BX6: 4.0432615 | BY6: 4.4525471 | BZ6: 3.6914152 | CA6: 2.2637748 | CB6: 1.2848476 | CC6: 1.0423051 | CD6: 0.82609148 | CE6: 0.87848254 | CF6: 1.1376068 | CG6: 2.3396393 | CH6: 3.080516
A7: incl. biomass, biogas, waste | B7: sh biomass, biogaas | C7: 59.247078 | D7: 56.140207 | E7: 58.600606 | F7: 61.620988 | G7: 49.684017 | H7: 62.901651 | I7: 53.368488 | J7: 66.371182 | K7: 62.987983 | L7: 82.577029 | M7: 69.349661 | N7: 69.937979 | O7: 67.28512 | P7: 62.099636 | Q7: 68.441187 | R7: 71.598742 | S7: 63.980149 | T7: 54.29905 | U7: 40.340833 | V7: 66.903205 | W7: 66.117251 | X7: 82.286602 | Y7: 72.75431 | Z7: 68.272564 | AA7: 62.659957 | AB7: 62.766355 | AC7: 65.724916 | AD7: 67.923842 | AE7: 61.400765 | AF7: 59.388841 | AG7: 35.06529 | AH7: 72.435763 | AI7: 64.194191 | AJ7: 79.724182 | AK7: 87.079079 | AL7: 66.506271 | AM7: 76.623349 | AN7: 71.021356 | AO7: 85.051117 | AP7: 90.156708 | AQ7: 83.903459 | AR7: 64.49357 | AS7: 64.1547 | AT7: 65.438598 | AU7: 73.628519 | AV7: 91.386497 | AW7: 94.258144 | AX7: 89.740762 | AY7: 78.300186 | AZ7: 78.766518 | BA7: 87.953336 | BB7: 90.582588 | BC7: 75.433685 | BD7: 72.928418 | BE7: 78.968739 | BF7: 87.60427 | BG7: 91.103489 | BH7: 99.328738 | BI7: 100.22728 | BJ7: 98.236054 | BK7: 94.649487 | BL7: 85.619406 | BM7: 95.476271 | BN7: 89.728248 | BO7: 98.510755 | BP7: 74.430235 | BQ7: 74.553086 | BR7: 98.322547 | BS7: 106.11834 | BT7: 123.31838 | BU7: 148.49831 | BV7: 89.681271 | BW7: 93.535473 | BX7: 83.279209 | BY7: 106.27308 | BZ7: 90.933678 | CA7: 91.416477 | CB7: 78.945746 | CC7: 99.06325 | CD7: 124.6532 | CE7: 121.07295 | CF7: 138.0147 | CG7: 130.12376 | CH7: 96.765687
A8: Electricity generated from non-renewable sources | B8: Mittetaastuv | C8: 829.84953 | D8: 756.11741 | E8: 733.73122 | F8: 698.06513 | G8: 802.77469 | H8: 837.62801 | I8: 833.40051 | J8: 744.6235 | K8: 771.0069 | L8: 828.67483 | M8: 837.96756 | N8: 875.05918 | O8: 834.58133 | P8: 812.32331 | Q8: 595.18483 | R8: 554.08065 | S8: 651.93039 | T8: 432.1093 | U8: 487.62348 | V8: 577.61388 | W8: 693.70475 | X8: 654.24822 | Y8: 637.88818 | Z8: 624.07777 | AA8: 978.00718 | AB8: 614.91045 | AC8: 566.55082 | AD8: 627.26233 | AE8: 525.24892 | AF8: 564.30991 | AG8: 759.00893 | AH8: 881.77912 | AI8: 865.93895 | AJ8: 912.58529 | AK8: 921.95588 | AL8: 792.2623 | AM8: 993.77541 | AN8: 865.72314 | AO8: 882.34162 | AP8: 739.3463 | AQ8: 899.87216 | AR8: 752.20897 | AS8: 669.10569 | AT8: 736.05881 | AU8: 705.16189 | AV8: 815.66857 | AW8: 814.46024 | AX8: 707.27205 | AY8: 878.68914 | AZ8: 825.92958 | BA8: 1001.6071 | BB8: 852.35477 | BC8: 600.30312 | BD8: 575.58799 | BE8: 707.59555 | BF8: 806.69811 | BG8: 653.01298 | BH8: 641.94844 | BI8: 779.85883 | BJ8: 597.37532 | BK8: 889.5823 | BL8: 506.62701 | BM8: 491.15706 | BN8: 460.70986 | BO8: 340.84378 | BP8: 189.66397 | BQ8: 190.92725 | BR8: 260.58889 | BS8: 292.21666 | BT8: 255.56088 | BU8: 349.90393 | BV8: 273.15214 | BW8: 207.70715 | BX8: 174.01823 | BY8: 186.7685 | BZ8: 108.75499 | CA8: 120.56811 | CB8: 201.55813 | CC8: 169.62871 | CD8: 358.61385 | CE8: 264.03175 | CF8: 249.23104 | CG8: 234.26896 | CH8: 304.0474
A9: Total electricity import through cross-border lines | B9: Välisliinidelt import | C9: 472.02474 | D9: 434.01575 | E9: 374.14837 | F9: 395.71305 | G9: 307.14532 | H9: 198.58853 | I9: 225.23453 | J9: 232.72591 | K9: 252.12253 | L9: 253.17917 | M9: 273.72679 | N9: 345.32663 | O9: 437.76988 | P9: 314.59732 | Q9: 451.84632 | R9: 522.61719 | S9: 407.04122 | T9: 592.73819 | U9: 520.17402 | V9: 370.58839 | W9: 378.93464 | X9: 558.69242 | Y9: 384.21868 | Z9: 404.96604 | AA9: 351.44581 | AB9: 505.44444 | AC9: 579.79667 | AD9: 355.23659 | AE9: 462.50835 | AF9: 355.45349 | AG9: 268.95734 | AH9: 124.33674 | AI9: 136.07697 | AJ9: 95.119938 | AK9: 134.6203 | AL9: 202.84888 | AM9: 191.68758 | AN9: 184.64028 | AO9: 123.62926 | AP9: 141.64125 | AQ9: 102.66842 | AR9: 198.7857 | AS9: 280.20849 | AT9: 216.17781 | AU9: 153.29473 | AV9: 196.88961 | AW9: 225.4597 | AX9: 297.89102 | AY9: 242.03349 | AZ9: 271.17218 | BA9: 253.3169 | BB9: 145.46299 | BC9: 324.3095 | BD9: 311.44208 | BE9: 217.6347 | BF9: 219.72475 | BG9: 310.94897 | BH9: 381.07744 | BI9: 339.25807 | BJ9: 468.26399 | BK9: 310.59372 | BL9: 409.67151 | BM9: 375.26482 | BN9: 420.78293 | BO9: 489.03648 | BP9: 616.59571 | BQ9: 670.56415 | BR9: 466.95998 | BS9: 381.87743 | BT9: 511.35435 | BU9: 404.25339 | BV9: 558.71818 | BW9: 657.40864 | BX9: 618.77989 | BY9: 598.73616 | BZ9: 630.26978 | CA9: 626.23317 | CB9: 537.63349 | CC9: 707.46728 | CD9: 419.51115 | CE9: 506.93261 | CF9: 575.63793 | CG9: 649.10823 | CH9: 632.10933
A10: incl. physical import | B10: sh füüsiline import | C10: 5.864609 | D10: 0.189285 | E10: 4.410409 | F10: 1.836926 | G10: 0.28845 | H10: 0 | I10: 0 | J10: 0.027877 | K10: 0.020847 | L10: 0 | M10: 1.813479 | N10: 1.33823 | O10: 4.259038 | P10: 2.46921 | Q10: 50.934026 | R10: 37.412684 | S10: 28.092576 | T10: 59.851571 | U10: 48.008097 | V10: 41.099975 | W10: 14.759048 | X10: 26.952122 | Y10: 34.026454 | Z10: 53.926207 | AA10: 25.082841 | AB10: 69.961034 | AC10: 124.41512 | AD10: 34.268745 | AE10: 72.74711 | AF10: 13.168487 | AG10: 0.3508 | AH10: 0 | AI10: 0.167811 | AJ10: 0.813735 | AK10: 1.525494 | AL10: 30.114246 | AM10: 4.360725 | AN10: 6.737949 | AO10: 3.136643 | AP10: 13.132551 | AQ10: 0.02469 | AR10: 2.228327 | AS10: 22.615959 | AT10: 18.690313 | AU10: 5.960739 | AV10: 13.214138 | AW10: 8.780464 | AX10: 25.542464 | AY10: 18.900416 | AZ10: 19.986241 | BA10: 0.255665 | BB10: 2.386407 | BC10: 44.871978 | BD10: 18.917784 | BE10: 0.527472 | BF10: 3.024302 | BG10: 16.112675 | BH10: 17.727556 | BI10: 8.941271 | BJ10: 131.71911 | BK10: 22.350241 | BL10: 120.22091 | BM10: 132.69235 | BN10: 97.074011 | BO10: 185.02698 | BP10: 283.62292 | BQ10: 289.25814 | BR10: 224.44928 | BS10: 180.89068 | BT10: 301.41419 | BU10: 250.92423 | BV10: 340.61181 | BW10: 394.05955 | BX10: 412.48505 | BY10: 391.40194 | BZ10: 384.46415 | CA10: 361.52573 | CB10: 246.80925 | CC10: 253.75145 | CD10: 102.60191 | CE10: 179.17995 | CF10: 255.67915 | CG10: 301.25489 | CH10: 366.47069
A11: incl. transit flow | B11: sh füüsiline transiit | C11: 466.16013 | D11: 433.82647 | E11: 369.73796 | F11: 393.87612 | G11: 306.85687 | H11: 198.58853 | I11: 225.23453 | J11: 232.69803 | K11: 252.10168 | L11: 253.17917 | M11: 271.91331 | N11: 343.9884 | O11: 433.51085 | P11: 312.12811 | Q11: 400.91229 | R11: 485.20451 | S11: 378.94864 | T11: 532.88662 | U11: 472.16592 | V11: 329.48842 | W11: 364.1756 | X11: 531.74029 | Y11: 350.19223 | Z11: 351.03983 | AA11: 326.36297 | AB11: 435.4834 | AC11: 455.38155 | AD11: 320.9679 | AE11: 389.76124 | AF11: 342.28502 | AG11: 268.60654 | AH11: 124.33674 | AI11: 135.90915 | AJ11: 94.306203 | AK11: 133.0948 | AL11: 172.73464 | AM11: 187.32686 | AN11: 177.90233 | AO11: 120.49262 | AP11: 128.5087 | AQ11: 102.64373 | AR11: 196.55737 | AS11: 257.59253 | AT11: 197.48749 | AU11: 147.33399 | AV11: 183.67552 | AW11: 216.67923 | AX11: 272.34855 | AY11: 223.13307 | AZ11: 251.18594 | BA11: 253.06124 | BB11: 143.07659 | BC11: 279.43752 | BD11: 292.52358 | BE11: 217.10723 | BF11: 216.70045 | BG11: 294.83629 | BH11: 363.34988 | BI11: 330.31679 | BJ11: 336.54487 | BK11: 288.24348 | BL11: 289.45054 | BM11: 242.57247 | BN11: 323.70892 | BO11: 304.0095 | BP11: 332.97279 | BQ11: 381.30601 | BR11: 242.5107 | BS11: 200.98676 | BT11: 209.94016 | BU11: 153.32917 | BV11: 218.10638 | BW11: 263.34909 | BX11: 206.29484 | BY11: 207.33421 | BZ11: 245.80564 | CA11: 264.70745 | CB11: 290.82424 | CC11: 453.71579 | CD11: 316.90924 | CE11: 327.70931 | CF11: 319.95879 | CG11: 347.85335 | CH11: 265.63864
A12: Total electricity withdrawn from the network | B12: Võrku läbinud | C12: 1411.0657 | D12: 1299.1118 | E12: 1235.8286 | F12: 1202.7466 | G12: 1198.1123 | H12: 1134.2389 | I12: 1143.5612 | J12: 1087.0559 | K12: 1126.177 | L12: 1228.7228 | M12: 1226.4412 | N12: 1375.7619 | O12: 1431.5562 | P12: 1261.9887 | Q12: 1195.307 | R12: 1210.1116 | S12: 1171.2688 | T12: 1130.9192 | U12: 1090.5893 | V12: 1045.5041 | W12: 1176.5459 | X12: 1338.4815 | Y12: 1159.19 | Z12: 1195.0113 | AA12: 1440.0302 | AB12: 1249.3158 | AC12: 1252.1315 | AD12: 1095.9381 | AE12: 1074.3078 | AF12: 1019.611 | AG12: 1103.079 | AH12: 1130.2723 | AI12: 1106.0602 | AJ12: 1161.54 | AK12: 1216.3706 | AL12: 1145.3022 | AM12: 1333.841 | AN12: 1176.912 | AO12: 1162.7509 | AP12: 1031.3139 | AQ12: 1120.3794 | AR12: 1072.9094 | AS12: 1049.1574 | AT12: 1068.6336 | AU12: 980.35191 | AV12: 1168.1107 | AW12: 1205.5312 | AX12: 1177.5161 | AY12: 1262.3244 | AZ12: 1213.1435 | BA12: 1394.3542 | BB12: 1143.1886 | BC12: 1035.1805 | BD12: 1007.5879 | BE12: 1039.9414 | BF12: 1155.5493 | BG12: 1126.5905 | BH12: 1195.6051 | BI12: 1277.1188 | BJ12: 1217.2358 | BK12: 1355.8467 | BL12: 1100.3301 | BM12: 1052.7573 | BN12: 1019.5706 | BO12: 979.91594 | BP12: 928.96181 | BQ12: 977.85101 | BR12: 869.61037 | BS12: 844.05518 | BT12: 950.98168 | BU12: 970.00958 | BV12: 1013.011 | BW12: 1068.0055 | BX12: 986.80263 | BY12: 988.39802 | BZ12: 922.87942 | CA12: 908.33639 | CB12: 874.04411 | CC12: 1044.1501 | CD12: 947.54487 | CE12: 971.7926 | CF12: 1035.1929 | CG12: 1099.7934 | CH12: 1116.2346
... A16: incl. transit flow | B16: sh füüsiline transiit | C16: 466.16013 | D16: 433.82647 | E16: 369.73796 | F16: 393.87612 | G16: 306.85687 | H16: 198.58853 | I16: 225.23453 | J16: 232.69803 | K16: 252.10168 | L16: 253.17917 | M16: 271.91331 | N16: 343.9884 | O16: 433.51085 | P16: 312.12811 | Q16: 400.91229 | R16: 485.20451 | S16: 378.94864 | T16: 532.88662 | U16: 472.16592 | V16: 329.48842 | W16: 364.1756 | X16: 531.74029 | Y16: 350.19223 | Z16: 351.03983 | AA16: 326.36297 | AB16: 435.4834 | AC16: 455.38155 | AD16: 320.9679 | AE16: 389.76124 | AF16: 342.28502 | AG16: 268.60654 | AH16: 124.33674 | AI16: 135.90915 | AJ16: 94.306203 | AK16: 133.0948 | AL16: 172.73464 | AM16: 187.32686 | AN16: 177.90233 | AO16: 120.49262 | AP16: 128.5087 | AQ16: 102.64373 | AR16: 196.55737 | AS16: 257.59253 | AT16: 197.48749 | AU16: 147.33399 | AV16: 183.67552 | AW16: 216.67923 | AX16: 272.34855 | AY16: 223.13307 | AZ16: 251.18594 | BA16: 253.06124 | BB16: 143.07659 | BC16: 279.43752 | BD16: 292.52358 | BE16: 217.10723 | BF16: 216.70045 | BG16: 294.83629 | BH16: 363.34988 | BI16: 330.31679 | BJ16: 336.54487 | BK16: 288.24348 | BL16: 289.45054 | BM16: 242.57247 | BN16: 323.70892 | BO16: 304.0095 | BP16: 332.97279 | BQ16: 381.30601 | BR16: 242.5107 | BS16: 200.98676 | BT16: 209.94016 | BU16: 153.32917 | BV16: 218.10638 | BW16: 263.34909 | BX16: 206.29484 | BY16: 207.33421 | BZ16: 245.80564 | CA16: 264.70745 | CB16: 290.82424 | CC16: 453.71579 | CD16: 316.90924 | CE16: 327.70931 | CF16: 319.95879 | CG16: 347.85335 | CH16: 265.63864
A17: Balance | B17: Bilanss | C17: =C3-C13 -> 81.340443 | D17: =D3-D13 -> 140.94683 | E17: =E3-E13 -> 136.78067 | F17: =F3-F13 -> 156.01047 | G17: =G3-G13 -> 271.24111 | H17: =H3-H13 -> 374.75087 | I17: =I3-I13 -> 351.13656 | J17: =J3-J13 -> 266.5361 | ... CH17: =CH3-CH13 -> -366.43538
B19: Taastuvenergia osakaal tarbimisest | C19: =C4/(C3*9.5%+C13) -> 0.11531348 | D19: =D4/(D3*9.5%+D13) -> 0.13515338 | E19: =E4/(E3*9.5%+E13) -> 0.15859627 | F19: =F4/(F3*9.5%+F13) -> 0.14974542 | G19: =G4/(G3*9.5%+G13) -> 0.12520774 | H19: =H4/(H3*9.5%+H13) -> 0.1508532 | I19: =I4/(I3*9.5%+I13) -> 0.12977102 | J19: =J4/(J3*9.5%+J13) -> 0.16399671 | ... CH19: =CH4/(CH3*9.5%+CH13) -> 0.20085592
B21: Sisemaine tootmine | O21: =O3/C3-1 -> 0.058299239 | P21: =P3/D3-1 -> 0.095128482 | Q21: =Q3/E3-1 -> -0.1371965 | R21: =R3/F3-1 -> -0.14812167 | S21: =S3/G3-1 -> -0.14224922 | T21: =T3/H3-1 -> -0.42480542 | U21: =U3/I3-1 -> -0.37885361 | V21: =V3/J3-1 -> -0.21000584 | ... CH21: =CH3/BV3-1 -> 0.065668032
B22: Taastuvenergia | O22: =O4/C4-1 -> 0.45803571 | P22: =P4/D4-1 -> 0.23939892 | Q22: =Q4/E4-1 -> 0.15886702 | R22: =R4/F4-1 -> 0.22433392 | S22: =S4/G4-1 -> 0.27332256 | T22: =T4/H4-1 -> 0.0821177 | U22: =U4/I4-1 -> -0.025131995 | V22: =V4/J4-1 -> -0.11307134 | ... CH22: =CH4/BV4-1 -> -0.0058669563
B23: sh tuuleenergia | O23: =O5/C5-1 -> 0.89767549 | P23: =P5/D5-1 -> 0.38213226 | Q23: =Q5/E5-1 -> 0.14725647 | R23: =R5/F5-1 -> 0.30738626 | S23: =S5/G5-1 -> 0.26449914 | T23: =T5/H5-1 -> 0.53251775 | U23: =U5/I5-1 -> 0.38683212 | V23: =V5/J5-1 -> -0.29750492 | ... CH23: =CH5/BV5-1 -> -0.10852129
B24: sh hüdroenergia | O24: =O6/C6-1 -> 0.13070008 | P24: =P6/D6-1 -> 0.35284778 | Q24: =Q6/E6-1 -> 0.20928031 | R24: =R6/F6-1 -> 0.27180301 | S24: =S6/G6-1 -> 0.078750114 | T24: =T6/H6-1 -> -0.54116537 | U24: =U6/I6-1 -> -0.53596264 | V24: =V6/J6-1 -> -0.565396 | ... CH24: =CH6/BV6-1 -> 0.5997605
B25: sh biomass, biogaas | O25: =O7/C7-1 -> 0.13566983 | P25: =P7/D7-1 -> 0.10615261 | Q25: =Q7/E7-1 -> 0.16792626 | R25: =R7/F7-1 -> 0.16192135 | S25: =S7/G7-1 -> 0.28774106 | T25: =T7/H7-1 -> -0.13676272 | U25: =U7/I7-1 -> -0.24410763 | V25: =V7/J7-1 -> 0.0080158798 | ... CH25: =CH7/BV7-1 -> 0.078995487
B26: Mittetaastuv | O26: =O8/C8-1 -> 0.0057019995 | P26: =P8/D8-1 -> 0.074334884 | Q26: =Q8/E8-1 -> -0.18882444 | R26: =R8/F8-1 -> -0.20626224 | S26: =S8/G8-1 -> -0.18790366 | T26: =T8/H8-1 -> -0.48412744 | U26: =U8/I8-1 -> -0.41489899 | V26: =V8/J8-1 -> -0.22428734 | ... CH26: =CH8/BV8-1 -> 0.11310641
B27: Sisemaine tarbimine | O27: =O13/C13-1 -> -0.049286679 | P27: =P13/D13-1 -> -0.0077160172 | Q27: =Q13/E13-1 -> 0.027280938 | R27: =R13/F13-1 -> 0.042503836 | S27: =S13/G13-1 -> 0.023258426 | T27: =T13/H13-1 -> 0.021568129 | U27: =U13/I13-1 -> 0.010277027 | V27: =V13/J13-1 -> 0.0088308069 | ... CH27: =CH13/BV13-1 -> 0.070016052
B29: Baltikumi elektribilanss, GWh | C29: 41640 | D29: 41671 | E29: 41699 | F29: 41730 | G29: 41760 | H29: 41791 | I29: 41821 | J29: 41852 | K29: 41883 | L29: 41913 | M29: 41944 | N29: 41974 | O29: 42005 | P29: 42036 | Q29: 42064 | R29: 42095 | S29: 42125 | T29: 42156 | U29: 42186 | V29: 42217 | W29: 42248 | X29: 42278 | Y29: 42309 | Z29: 42339 | AA29: 42370 | AB29: 42401 | AC29: 42430 | AD29: 42461 | AE29: 42491 | AF29: 42522 | AG29: 42552 | AH29: 42583 | AI29: 42614 | AJ29: 42644 | AK29: 42675 | AL29: 42705 | AM29: 42736 | AN29: 42767 | AO29: 42795 | AP29: 42826 | AQ29: 42856 | AR29: 42887 | AS29: 42917 | AT29: 42948 | AU29: 42979 | AV29: 43009 | AW29: 43040 | AX29: 43070 | AY29: 43101 | AZ29: 43132 | BA29: 43160 | BB29: 43191 | BC29: 43221 | BD29: 43252 | BE29: 43282 | BF29: 43313 | BG29: 43344 | BH29: 43374 | BI29: 43405 | BJ29: 43435 | BK29: 43466 | BL29: 43497 | BM29: 43525 | BN29: 43556 | BO29: 43586 | BP29: 43617 | BQ29: 43647 | BR29: 43678 | BS29: 43709 | BT29: 43739 | BU29: 43770 | BV29: 43800 | BW29: 43831 | BX29: 43862 | BY29: 43891 | BZ29: 43922 | CA29: 43952 | CB29: 43983 | CC29: 44013 | CD29: 44044 | CE29: 44075 | CF29: 44105 | CG29: 44136 | CH29: 44166
B30: Tootmine Eestis | C30: =C3 -> 939.04095 | D30: =D3 -> 865.09609 | E30: =E3 -> 861.68021 | F30: =F3 -> 807.03357 | G30: =G3 -> 890.96699 | H30: =H3 -> 935.65034 | I30: =I3 -> 918.32671 | J30: =J3 -> 854.32996 | ... CH30: =CH3 -> 484.12529
B31: Tootmine Lätis | C31: 594.40696 | D31: 489.13662 | E31: 505.2732 | F31: 533.32499 | G31: 401.71834 | H31: 274.72509 | I31: 293.53103 | J31: 294.40114 | K31: 234.42123 | L31: 433.00182 | M31: 430.51258 | N31: 441.59638 | O31: 439.10425 | P31: 388.60796 | Q31: 608.11508 | R31: 574.53421 | S31: 386.76581 | T31: 279.03842 | U31: 303.55181 | V31: 421.78267 | W31: 338.80469 | X31: 481.95762 | Y31: 571.15223 | Z31: 528.99944 | AA31: 642.92032 | AB31: 440.52435 | AC31: 577.92215 | AD31: 595.26371 | AE31: 528.31959 | AF31: 414.17598 | AG31: 330.264 | AH31: 354.31202 | AI31: 266.10568 | AJ31: 525.0736 | AK31: 814.51651 | AL31: 727.58272 | AM31: 739.68237 | AN31: 596.99442 | AO31: 948.57826 | AP31: 735.46 | AQ31: 581.11607 | AR31: 361.51 | AS31: 360.466 | AT31: 391.178 | AU31: 526.167 | AV31: 618.19 | AW31: 725.053 | AX31: 719.098 | AY31: 876.823 | AZ31: 716.196 | BA31: 723.588 | BB31: 816.677 | BC31: 431.337 | BD31: 299.3 | BE31: 373.756 | BF31: 444.315 | BG31: 376.652 | BH31: 383.518 | BI31: 487.85 | BJ31: 524.195 | BK31: 592.395 | BL31: 466.164 | BM31: 679.053 | BN31: 497.655 | BO31: 419.228 | BP31: 408.017 | BQ31: 354.092 | BR31: 522.215 | BS31: 544.817 | BT31: 503.934 | BU31: 580.625 | BV31: 551.994 | BW31: 623.65 | BX31: 597.865 | BY31: 670.704 | BZ31: 376.197 | CA31: 437.749 | CB31: 475.485 | CC31: 253.167 | CD31: 389.349 | CE31: 334.009 | CF31: 326.407 | CG31: 452.496 | CH31: 502.391
B32: Tootmine Leedus | C32: 304.85888 | D32: 236.89263 | E32: 227.61889 | F32: 128.25952 | G32: 137.36032 | H32: 216.88982 | I32: 336.04483 | J32: 312.66815 | K32: 337.25712 | L32: 243.1139 | M32: 217.7584 | N32: 282.50936 | O32: 270.45375 | P32: 230.00628 | Q32: 243.00924 | R32: 236.20631 | S32: 297.30612 | T32: 296.85377 | U32: 302.72509 | V32: 278.94248 | W32: 298.06698 | X32: 251.5516 | Y32: 236.10923 | Z32: 327.31978 | AA32: 259.189 | AB32: 228.07 | AC32: 179.225 | AD32: 169.669 | AE32: 165.16 | AF32: 243.155 | AG32: 170.247 | AH32: 181.336 | AI32: 224.807 | AJ32: 217.336 | AK32: 328.785 | AL32: 292.943 | AM32: 202.406 | AN32: 205.716 | AO32: 203.29 | AP32: 182.595 | AQ32: 193.59134 | AR32: 201.274 | AS32: 161.796 | AT32: 197.623 | AU32: 206.637 | AV32: 258.166 | AW32: 226.713 | AX32: 243.602 | AY32: 356.548 | AZ32: 251.494 | BA32: 303.507 | BB32: 314.671 | BC32: 267.447 | BD32: 205.137 | BE32: 185.606 | BF32: 267.426 | BG32: 300.374 | BH32: 336.55 | BI32: 216.206 | BJ32: 242.165 | BK32: 317.241 | BL32: 314.967 | BM32: 358.581 | BN32: 294.742 | BO32: 280.301 | BP32: 255.123 | BQ32: 299.762 | BR32: 259.779 | BS32: 323.751 | BT32: 305.641 | BU32: 277.897 | BV32: 347.526 | BW32: 383.77 | BX32: 426.3 | BY32: 359.58 | BZ32: 334.189 | CA32: 366.439 | CB32: 426.199 | CC32: 464.055 | CD32: 451.994 | CE32: 481.31 | CF32: 395.338 | CG32: 425.109 | CH32: 482.978
B33: Kokku | C33: =SUM(C30:C32) -> 1838.3068 | D33: =SUM(D30:D32) -> 1591.1253 | E33: =SUM(E30:E32) -> 1594.5723 | F33: =SUM(F30:F32) -> 1468.6181 | G33: =SUM(G30:G32) -> 1430.0456 | H33: =SUM(H30:H32) -> 1427.2653 | I33: =SUM(I30:I32) -> 1547.9026 | J33: =SUM(J30:J32) -> 1461.3993 | ... CH33: =SUM(CH30:CH32) -> 1469.4943
B34: Tarbimine Eestis | C34: =C13 -> 857.70051 | D34: =D13 -> 724.14925 | E34: =E13 -> 724.89953 | F34: =F13 -> 651.02309 | G34: =G13 -> 619.72588 | H34: =H13 -> 560.89947 | I34: =I13 -> 567.19015 | J34: =J13 -> 587.79386 | ... CH34: =CH13 -> 850.56067
B35: Tarbimine Lätis | C35: 725.53364 | D35: 626.70218 | E35: 629.30559 | F35: 558.25538 | G35: 547.04 | H35: 510.31754 | I35: 552.61576 | J35: 554.6592 | K35: 550.1055 | L35: 620.86733 | M35: 628.76375 | N35: 681.04601 | O35: 679.99592 | P35: 605.24753 | Q35: 630.4987 | R35: 580.25967 | S35: 554.39111 | T35: 510.85598 | U35: 537.91774 | V35: 556.48102 | W35: 552.44688 | X35: 614.82722 | Y35: 616.23812 | Z35: 646.69423 | AA35: 724.86334 | AB35: 620.3649 | AC35: 640.37351 | AD35: 576.68596 | AE35: 557.5625 | AF35: 526.04404 | AG35: 540.611 | AH35: 558.92194 | AI35: 550.44234 | AJ35: 615.91032 | AK35: 647.01138 | AL35: 665.25331 | AM35: 695.04173 | AN35: 621.81278 | AO35: 645.62902 | AP35: 575.261 | AQ35: 567.76678 | AR35: 524.555 | AS35: 536.122 | AT35: 567.136 | AU35: 565.365 | AV35: 631.466 | AW35: 638.768 | AX35: 658.815 | AY35: 691.686 | AZ35: 644.592 | BA35: 675.107 | BB35: 577.536 | BC35: 569.807 | BD35: 541.775 | BE35: 569.385 | BF35: 583.925 | BG35: 554.723 | BH35: 620.625 | BI35: 637.336 | BJ35: 678.918 | BK35: 697.001 | BL35: 610.72 | BM35: 643.287 | BN35: 577.509 | BO35: 579.082 | BP35: 551.763 | BQ35: 551.98 | BR35: 575.755 | BS35: 562.067 | BT35: 611.299 | BU35: 622.086 | BV35: 643.864 | BW35: 655.181 | BX35: 614.215 | BY35: 625.92 | BZ35: 553.255 | CA35: 547.572 | CB35: 527.408 | CC35: 545.409 | CD35: 561.778 | CE35: 558.403 | CF35: 610.668 | CG35: 606.013 | CH35: 653.253
B36: Tarbimine Leedus | C36: 980.95231 | D36: 851.17588 | E36: 840.9355 | F36: 798.50277 | G36: 828.77194 | H36: 788.69783 | I36: 875.5875 | J36: 872.21561 | K36: 879.14305 | L36: 935.94286 | M36: 953.91726 | N36: 1012.2567 | O36: 971.74313 | P36: 855.92093 | Q36: 866.2349 | R36: 824.87703 | S36: 823.52436 | T36: 807.7118 | U36: 833.18658 | V36: 850.28286 | W36: 873.99158 | X36: 907.96909 | Y36: 921.20738 | Z36: 907.88258 | AA36: 962.781 | AB36: 820.838 | AC36: 865.642 | AD36: 785.879 | AE36: 783.498 | AF36: 771.91 | AG36: 795.853 | AH36: 838.847 | AI36: 800.68 | AJ36: 875.62 | AK36: 891.49 | AL36: 921.24 | AM36: 1046.1602 | AN36: 917.1891 | AO36: 904.65245 | AP36: 845.00843 | AQ36: 866.8672 | AR36: 862.76313 | AS36: 862.13464 | AT36: 954.36501 | AU36: 927.35114 | AV36: 971.79372 | AW36: 971.62023 | AX36: 1017.5607 | AY36: 1194.2404 | AZ36: 1086.6842 | BA36: 1144.1931 | BB36: 940.85395 | BC36: 1028.2053 | BD36: 976.42452 | BE36: 993.17402 | BF36: 1040.5299 | BG36: 1041.1859 | BH36: 1152.8207 | BI36: 1115.508 | BJ36: 1171.5625 | BK36: 1223.2226 | BL36: 1019.2121 | BM36: 1082.4568 | BN36: 988.44131 | BO36: 1043.3554 | BP36: 1040.6081 | BQ36: 1069.8386 | BR36: 1092.0626 | BS36: 1068.7293 | BT36: 1112.8809 | BU36: 1088.3466 | BV36: 1152.4486 | BW36: 1168.7745 | BX36: 1122.0496 | BY36: 1120.5855 | BZ36: 946.09398 | CA36: 977.3887 | CB36: 995.00229 | CC36: 1012.2354 | CD36: 1062.5005 | CE36: 1047.9808 | CF36: 1089.9648 | CG36: 1150.473 | CH36: 1214.5649
B37: Kokku | C37: =SUM(C34:C36) -> 2564.1865 | D37: =SUM(D34:D36) -> 2202.0273 | E37: =SUM(E34:E36) -> 2195.1406 | F37: =SUM(F34:F36) -> 2007.7812 | G37: =SUM(G34:G36) -> 1995.5378 | H37: =SUM(H34:H36) -> 1859.9148 | I37: =SUM(I34:I36) -> 1995.3934 | J37: =SUM(J34:J36) -> 2014.6687 | ... CH37: =SUM(CH34:CH36) -> 2718.3786
B38: Eesti saldo | C38: =C30-C34 -> 81.340443 | D38: =D30-D34 -> 140.94683 | E38: =E30-E34 -> 136.78067 | F38: =F30-F34 -> 156.01047 | G38: =G30-G34 -> 271.24111 | H38: =H30-H34 -> 374.75087 | I38: =I30-I34 -> 351.13656 | J38: =J30-J34 -> 266.5361 | ... CH38: =CH30-CH34 -> -366.43538
B39: Läti saldo | C39: =C31-C35 -> -131.12668 | D39: =D31-D35 -> -137.56556 | E39: =E31-E35 -> -124.03239 | F39: =F31-F35 -> -24.930385 | G39: =G31-G35 -> -145.32166 | H39: =H31-H35 -> -235.59245 | I39: =I31-I35 -> -259.08473 | J39: =J31-J35 -> -260.25806 | ... CH39: =CH31-CH35 -> -150.862
B40: Leedu saldo | C40: =C32-C36 -> -676.09343 | D40: =D32-D36 -> -614.28325 | E40: =E32-E36 -> -613.31661 | F40: =F32-F36 -> -670.24324 | G40: =G32-G36 -> -691.41162 | H40: =H32-H36 -> -571.80801 | I40: =I32-I36 -> -539.54267 | J40: =J32-J36 -> -559.54746 | ... CH40: =CH32-CH36 -> -731.58694
B41: Saldo Kokku | C41: =C33-C37 -> -725.87966 | D41: =D33-D37 -> -610.90198 | E41: =E33-E37 -> -600.56833 | F41: =F33-F37 -> -539.16316 | G41: =G33-G37 -> -565.49217 | H41: =H33-H37 -> -432.64959 | I41: =I33-I37 -> -447.49083 | J41: =J33-J37 -> -553.26942 | ... CH41: =CH33-CH37 -> -1248.8843
B43: Tootmine Eestis | O43: =O30/C30-1 -> 0.058299239 | P43: =P30/D30-1 -> 0.095128482 | Q43: =Q30/E30-1 -> -0.1371965 | R43: =R30/F30-1 -> -0.14812167 | S43: =S30/G30-1 -> -0.14224922 | T43: =T30/H30-1 -> -0.42480542 | U43: =U30/I30-1 -> -0.37885361 | V43: =V30/J30-1 -> -0.21000584 | ... CH43: =CH30/BV30-1 -> 0.065668032
B44: Tootmine Lätis | O44: =O31/C31-1 -> -0.26127337 | P44: =P31/D31-1 -> -0.20552266 | Q44: =Q31/E31-1 -> 0.20353718 | R44: =R31/F31-1 -> 0.077268494 | S44: =S31/G31-1 -> -0.037221433 | T44: =T31/H31-1 -> 0.015700523 | U44: =U31/I31-1 -> 0.03413874 | V44: =V31/J31-1 -> 0.43268013 | ... CH44: =CH31/BV31-1 -> -0.089861484
B45: Tootmine Leedus | O45: =O32/C32-1 -> -0.11285592 | P45: =P32/D32-1 -> -0.029069486 | Q45: =Q32/E32-1 -> 0.067614568 | R45: =R32/F32-1 -> 0.84162784 | S45: =S32/G32-1 -> 1.164425 | T45: =T32/H32-1 -> 0.36868463 | U45: =U32/I32-1 -> -0.099152663 | V45: =V32/J32-1 -> -0.1078641 | ... CH45: =CH32/BV32-1 -> 0.38976077
B46: Kokku | O46: =O33/C33-1 -> -0.073416726 | P46: =P33/D33-1 -> -0.015787396 | Q46: =Q33/E33-1 -> 7.9800505e-06 | R46: =R33/F33-1 -> 0.02016647 | S46: =S33/G33-1 -> 0.012764561 | T46: =T33/H33-1 -> -0.21943508 | U46: =U33/I33-1 -> -0.23981506 | V46: =V33/J33-1 -> -0.058682405 | ... CH46: =CH33/BV33-1 -> 0.085448678
B47: Tarbimine Eestis | O47: =O34/C34-1 -> -0.049286679 | P47: =P34/D34-1 -> -0.0077160172 | Q47: =Q34/E34-1 -> 0.027280938 | R47: =R34/F34-1 -> 0.042503836 | S47: =S34/G34-1 -> 0.023258426 | T47: =T34/H34-1 -> 0.021568129 | U47: =U34/I34-1 -> 0.010277027 | V47: =V34/J34-1 -> 0.0088308069 | ... CH47: =CH34/BV34-1 -> 0.070016052
...

Sheet Quarterly
B1: Eesti elektribilanss, GWh | C1: 2014-Q1 | D1: 2014-Q2 | E1: 2014-Q3 | F1: 2014-Q4 | G1: 2015-Q1 | H1: 2015-Q2 | I1: 2015-Q3 | J1: 2015-Q4 | K1: 2016-Q1 | L1: 2016-Q2 | M1: 2016-Q3 | N1: 2016-Q4 | O1: 2017-Q1 | P1: 2017-Q2 | Q1: 2017-Q3 | R1: 2017-Q4 | S1: 2018-Q1 | T1: 2018-Q2 | U1: 2018-Q3 | V1: 2018-Q4 | W1: 2019-Q1 | X1: 2019-Q2 | Y1: 2019-Q3 | Z1: 2019-Q4 | AA1: 2020-Q1 | AB1: 2020-Q2 | AC1: 2020-Q3 | AD1: 2020-Q4 | AE1: 2021-Q1 | AF1: 2021-Q2 | AG1: 2021-Q3 | AH1: 2021-Q4
B2: Võrku sisenenud | C2: =SUM(Monthly!C2:E2) -> 3946.0061 | D2: =SUM(Monthly!F2:H2) -> 3535.0978 | E2: =SUM(Monthly!I2:K2) -> 3356.7942 | F2: =SUM(Monthly!L2:N2) -> 3830.9259 | G2: =SUM(Monthly!O2:Q2) -> 3888.8519 | H2: =SUM(Monthly!R2:T2) -> 3512.2996 | I2: =SUM(Monthly!U2:W2) -> 3312.6393 | J2: =SUM(Monthly!X2:Z2) -> 3692.6828 | K2: =SUM(Monthly!AA2:AC2) -> 3941.4775 | L2: =SUM(Monthly!AD2:AF2) -> 3189.8569 | M2: =SUM(Monthly!AG2:AI2) -> 3339.4115 | N2: =SUM(Monthly!AJ2:AL2) -> 3523.2128 | O2: =SUM(Monthly!AM2:AO2) -> 3673.5039 | P2: =SUM(Monthly!AP2:AR2) -> 3224.6028 | Q2: =SUM(Monthly!AS2:AU2) -> 3098.1429 | R2: =SUM(Monthly!AV2:AX2) -> 3551.1579 | S2: =SUM(Monthly!AY2:BA2) -> 3869.8221 | T2: =SUM(Monthly!BB2:BD2) -> 3185.957 | U2: =SUM(Monthly!BE2:BG2) -> 3322.0812 | V2: =SUM(Monthly!BH2:BJ2) -> 3689.9597 | W2: =SUM(Monthly!BK2:BM2) -> 3508.9342 | X2: =SUM(Monthly!BN2:BP2) -> 2928.4483 | Y2: =SUM(Monthly!BQ2:BS2) -> 2691.5166 | Z2: =SUM(Monthly!BT2:BV2) -> 2934.0022 | AA2: =SUM(Monthly!BW2:BY2) -> 3043.2062 | AB2: =SUM(Monthly!BZ2:CB2) -> 2705.2599 | AC2: =SUM(Monthly!CC2:CE2) -> 2963.4876 | AD2: =SUM(Monthly!CF2:CH2) -> 3251.2209
B3: Sisemaine tootmine | C3: =SUM(Monthly!C3:E3) -> 2665.8172 | D3: =SUM(Monthly!F3:H3) -> 2633.6509 | E3: =SUM(Monthly!I3:K3) -> 2646.7112 | F3: =SUM(Monthly!L3:N3) -> 2958.6933 | G3: =SUM(Monthly!O3:Q3) -> 2684.6384 | H3: =SUM(Monthly!R3:T3) -> 1989.903 | I3: =SUM(Monthly!U3:W3) -> 2042.9423 | J3: =SUM(Monthly!X3:Z3) -> 2344.8057 | K3: =SUM(Monthly!AA3:AC3) -> 2504.7906 | L3: =SUM(Monthly!AD3:AF3) -> 2016.6585 | M3: =SUM(Monthly!AG3:AI3) -> 2810.0405 | N3: =SUM(Monthly!AJ3:AL3) -> 3090.6237 | O3: =SUM(Monthly!AM3:AO3) -> 3173.5468 | P3: =SUM(Monthly!AP3:AR3) -> 2781.5074 | Q3: =SUM(Monthly!AS3:AU3) -> 2448.4619 | R3: =SUM(Monthly!AV3:AX3) -> 2830.9176 | S3: =SUM(Monthly!AY3:BA3) -> 3103.2995 | T3: =SUM(Monthly!BB3:BD3) -> 2404.7424 | U3: =SUM(Monthly!BE3:BG3) -> 2573.7728 | V3: =SUM(Monthly!BH3:BJ3) -> 2501.3602 | W3: =SUM(Monthly!BK3:BM3) -> 2413.4041 | X3: =SUM(Monthly!BN3:BP3) -> 1402.0332 | Y3: =SUM(Monthly!BQ3:BS3) -> 1172.115 | Z3: =SUM(Monthly!BT3:BV3) -> 1459.6763 | AA3: =SUM(Monthly!BW3:BY3) -> 1168.2815 | AB3: =SUM(Monthly!BZ3:CB3) -> 911.12346 | AC3: =SUM(Monthly!CC3:CE3) -> 1329.5766 | AD3: =SUM(Monthly!CF3:CH3) -> 1394.3654
B4: Taastuvenergia | C4: =SUM(Monthly!C4:E4) -> 346.11909 | D4: =SUM(Monthly!F4:H4) -> 295.18306 | E4: =SUM(Monthly!I4:K4) -> 297.68027 | F4: =SUM(Monthly!L4:N4) -> 416.99175 | G4: =SUM(Monthly!O4:Q4) -> 442.54892 | H4: =SUM(Monthly!R4:T4) -> 351.78269 | I4: =SUM(Monthly!U4:W4) -> 284.00015 | J4: =SUM(Monthly!X4:Z4) -> 428.5915 | K4: =SUM(Monthly!AA4:AC4) -> 345.32217 | L4: =SUM(Monthly!AD4:AF4) -> 299.8373 | M4: =SUM(Monthly!AG4:AI4) -> 303.31347 | N4: =SUM(Monthly!AJ4:AL4) -> 463.82022 | O4: =SUM(Monthly!AM4:AO4) -> 431.7066 | P4: =SUM(Monthly!AP4:AR4) -> 390.07995 | Q4: =SUM(Monthly!AS4:AU4) -> 338.13547 | R4: =SUM(Monthly!AV4:AX4) -> 493.51671 | S4: =SUM(Monthly!AY4:BA4) -> 397.07375 | T4: =SUM(Monthly!BB4:BD4) -> 376.4965 | U4: =SUM(Monthly!BE4:BG4) -> 406.46612 | V4: =SUM(Monthly!BH4:BJ4) -> 482.17763 | W4: =SUM(Monthly!BK4:BM4) -> 526.03774 | X4: =SUM(Monthly!BN4:BP4) -> 410.81559 | Y4: =SUM(Monthly!BQ4:BS4) -> 428.38221 | Z4: =SUM(Monthly!BT4:BV4) -> 581.05935 | AA4: =SUM(Monthly!BW4:BY4) -> 599.78759 | AB4: =SUM(Monthly!BZ4:CB4) -> 480.24224 | AC4: =SUM(Monthly!CC4:CE4) -> 537.30226 | AD4: =SUM(Monthly!CF4:CH4) -> 606.81806
B5: sh tuuleenergia | C5: =SUM(Monthly!C5:E5) -> 162.06521 | D5: =SUM(Monthly!F5:H5) -> 113.09727 | E5: =SUM(Monthly!I5:K5) -> 110.84725 | F5: =SUM(Monthly!L5:N5) -> 190.02495 | G5: =SUM(Monthly!O5:Q5) -> 232.40858 | H5: =SUM(Monthly!R5:T5) -> 153.76375 | I5: =SUM(Monthly!U5:W5) -> 108.06033 | J5: =SUM(Monthly!X5:Z5) -> 200.15832 | K5: =SUM(Monthly!AA5:AC5) -> 144.52582 | L5: =SUM(Monthly!AD5:AF5) -> 101.39056 | M5: =SUM(Monthly!AG5:AI5) -> 122.70446 | N5: =SUM(Monthly!AJ5:AL5) -> 221.36534 | O5: =SUM(Monthly!AM5:AO5) -> 190.52872 | P5: =SUM(Monthly!AP5:AR5) -> 142.86133 | Q5: =SUM(Monthly!AS5:AU5) -> 128.99333 | R5: =SUM(Monthly!AV5:AX5) -> 207.07013 | S5: =SUM(Monthly!AY5:BA5) -> 143.05267 | T5: =SUM(Monthly!BB5:BD5) -> 124.81096 | U5: =SUM(Monthly!BE5:BG5) -> 142.55249 | V5: =SUM(Monthly!BH5:BJ5) -> 180.1382 | W5: =SUM(Monthly!BK5:BM5) -> 239.61987 | X5: =SUM(Monthly!BN5:BP5) -> 122.83157 | Y5: =SUM(Monthly!BQ5:BS5) -> 124.90116 | Z5: =SUM(Monthly!BT5:BV5) -> 204.32279 | AA5: =SUM(Monthly!BW5:BY5) -> 294.31264 | AB5: =SUM(Monthly!BZ5:CB5) -> 162.52527 | AC5: =SUM(Monthly!CC5:CE5) -> 141.36076 | AD5: =SUM(Monthly!CF5:CH5) -> 225.51347
B6: sh hüdroenergia | C6: =SUM(Monthly!C6:E6) -> 10.027948 | D6: =SUM(Monthly!F6:H6) -> 7.6762759 | E6: =SUM(Monthly!I6:K6) -> 3.8366526 | F6: =SUM(Monthly!L6:N6) -> 5.0688374 | G6: =SUM(Monthly!O6:Q6) -> 12.209756 | H6: =SUM(Monthly!R6:T6) -> 7.5932581 | I6: =SUM(Monthly!U6:W6) -> 1.930147 | J6: =SUM(Monthly!X6:Z6) -> 4.868882 | K6: =SUM(Monthly!AA6:AC6) -> 9.4618989 | L6: =SUM(Monthly!AD6:AF6) -> 8.5572205 | M6: =SUM(Monthly!AG6:AI6) -> 7.8050451 | N6: =SUM(Monthly!AJ6:AL6) -> 8.8201036 | O6: =SUM(Monthly!AM6:AO6) -> 8.0490726 | P6: =SUM(Monthly!AP6:AR6) -> 6.3743379 | Q6: =SUM(Monthly!AS6:AU6) -> 4.008328 | R6: =SUM(Monthly!AV6:AX6) -> 10.686445 | S6: =SUM(Monthly!AY6:BA6) -> 8.0595137 | T6: =SUM(Monthly!BB6:BD6) -> 7.5018617 | U6: =SUM(Monthly!BE6:BG6) -> 0.93299776 | V6: =SUM(Monthly!BH6:BJ6) -> 2.7581973 | W6: =SUM(Monthly!BK6:BM6) -> 7.6886519 | X6: =SUM(Monthly!BN6:BP6) -> 6.5558185 | Y6: =SUM(Monthly!BQ6:BS6) -> 1.2400853 | Z6: =SUM(Monthly!BT6:BV6) -> 6.1316613 | AA6: =SUM(Monthly!BW6:BY6) -> 10.835609 | AB6: =SUM(Monthly!BZ6:CB6) -> 7.2400376 | AC6: =SUM(Monthly!CC6:CE6) -> 2.7468792 | AD6: =SUM(Monthly!CF6:CH6) -> 6.5577621
B7: sh biomass, biogaas | C7: =SUM(Monthly!C7:E7) -> 173.98789 | D7: =SUM(Monthly!F7:H7) -> 174.20666 | E7: =SUM(Monthly!I7:K7) -> 182.72765 | F7: =SUM(Monthly!L7:N7) -> 221.86467 | G7: =SUM(Monthly!O7:Q7) -> 197.82594 | H7: =SUM(Monthly!R7:T7) -> 189.87794 | I7: =SUM(Monthly!U7:W7) -> 173.36129 | J7: =SUM(Monthly!X7:Z7) -> 223.31348 | K7: =SUM(Monthly!AA7:AC7) -> 191.15123 | L7: =SUM(Monthly!AD7:AF7) -> 188.71345 | M7: =SUM(Monthly!AG7:AI7) -> 171.69524 | N7: =SUM(Monthly!AJ7:AL7) -> 233.30953 | O7: =SUM(Monthly!AM7:AO7) -> 232.69582 | P7: =SUM(Monthly!AP7:AR7) -> 238.55374 | Q7: =SUM(Monthly!AS7:AU7) -> 203.22182 | R7: =SUM(Monthly!AV7:AX7) -> 275.3854 | S7: =SUM(Monthly!AY7:BA7) -> 245.02004 | T7: =SUM(Monthly!BB7:BD7) -> 238.94469 | U7: =SUM(Monthly!BE7:BG7) -> 257.6765 | V7: =SUM(Monthly!BH7:BJ7) -> 297.79208 | W7: =SUM(Monthly!BK7:BM7) -> 275.74516 | X7: =SUM(Monthly!BN7:BP7) -> 262.66924 | Y7: =SUM(Monthly!BQ7:BS7) -> 278.99397 | Z7: =SUM(Monthly!BT7:BV7) -> 361.49796 | AA7: =SUM(Monthly!BW7:BY7) -> 283.08776 | AB7: =SUM(Monthly!BZ7:CB7) -> 261.2959 | AC7: =SUM(Monthly!CC7:CE7) -> 344.78941 | AD7: =SUM(Monthly!CF7:CH7) -> 364.90415
B8: Mittetaastuv | C8: =SUM(Monthly!C8:E8) -> 2319.6982 | D8: =SUM(Monthly!F8:H8) -> 2338.4678 | E8: =SUM(Monthly!I8:K8) -> 2349.0309 | F8: =SUM(Monthly!L8:N8) -> 2541.7016 | G8: =SUM(Monthly!O8:Q8) -> 2242.0895 | H8: =SUM(Monthly!R8:T8) -> 1638.1203 | I8: =SUM(Monthly!U8:W8) -> 1758.9421 | J8: =SUM(Monthly!X8:Z8) -> 1916.2142 | K8: =SUM(Monthly!AA8:AC8) -> 2159.4684 | L8: =SUM(Monthly!AD8:AF8) -> 1716.8212 | M8: =SUM(Monthly!AG8:AI8) -> 2506.727 | N8: =SUM(Monthly!AJ8:AL8) -> 2626.8035 | O8: =SUM(Monthly!AM8:AO8) -> 2741.8402 | P8: =SUM(Monthly!AP8:AR8) -> 2391.4274 | Q8: =SUM(Monthly!AS8:AU8) -> 2110.3264 | R8: =SUM(Monthly!AV8:AX8) -> 2337.4009 | S8: =SUM(Monthly!AY8:BA8) -> 2706.2258 | T8: =SUM(Monthly!BB8:BD8) -> 2028.2459 | U8: =SUM(Monthly!BE8:BG8) -> 2167.3066 | V8: =SUM(Monthly!BH8:BJ8) -> 2019.1826 | W8: =SUM(Monthly!BK8:BM8) -> 1887.3664 | X8: =SUM(Monthly!BN8:BP8) -> 991.21761 | Y8: =SUM(Monthly!BQ8:BS8) -> 743.7328 | Z8: =SUM(Monthly!BT8:BV8) -> 878.61694 | AA8: =SUM(Monthly!BW8:BY8) -> 568.49388 | AB8: =SUM(Monthly!BZ8:CB8) -> 430.88122 | AC8: =SUM(Monthly!CC8:CE8) -> 792.27431 | AD8: =SUM(Monthly!CF8:CH8) -> 787.54739
B9: Välisliinidelt import | C9: =SUM(Monthly!C9:E9) -> 1280.1889 | D9: =SUM(Monthly!F9:H9) -> 901.4469 | E9: =SUM(Monthly!I9:K9) -> 710.08297 | F9: =SUM(Monthly!L9:N9) -> 872.23259 | G9: =SUM(Monthly!O9:Q9) -> 1204.2135 | H9: =SUM(Monthly!R9:T9) -> 1522.3966 | I9: =SUM(Monthly!U9:W9) -> 1269.6971 | J9: =SUM(Monthly!X9:Z9) -> 1347.8771 | K9: =SUM(Monthly!AA9:AC9) -> 1436.6869 | L9: =SUM(Monthly!AD9:AF9) -> 1173.1984 | M9: =SUM(Monthly!AG9:AI9) -> 529.37105 | N9: =SUM(Monthly!AJ9:AL9) -> 432.58912 | O9: =SUM(Monthly!AM9:AO9) -> 499.95712 | P9: =SUM(Monthly!AP9:AR9) -> 443.09537 | Q9: =SUM(Monthly!AS9:AU9) -> 649.68103 | R9: =SUM(Monthly!AV9:AX9) -> 720.24033 | S9: =SUM(Monthly!AY9:BA9) -> 766.52257 | T9: =SUM(Monthly!BB9:BD9) -> 781.21457 | U9: =SUM(Monthly!BE9:BG9) -> 748.30842 | V9: =SUM(Monthly!BH9:BJ9) -> 1188.5995 | W9: =SUM(Monthly!BK9:BM9) -> 1095.5301 | X9: =SUM(Monthly!BN9:BP9) -> 1526.4151 | Y9: =SUM(Monthly!BQ9:BS9) -> 1519.4016 | Z9: =SUM(Monthly!BT9:BV9) -> 1474.3259 | AA9: =SUM(Monthly!BW9:BY9) -> 1874.9247 | AB9: =SUM(Monthly!BZ9:CB9) -> 1794.1364 | AC9: =SUM(Monthly!CC9:CE9) -> 1633.911 | AD9: =SUM(Monthly!CF9:CH9) -> 1856.8555
B10: sh füüsiline import | C10: =SUM(Monthly!C10:E10) -> 10.464303 | D10: =SUM(Monthly!F10:H10) -> 2.125376 | E10: =SUM(Monthly!I10:K10) -> 0.048724 | F10: =SUM(Monthly!L10:N10) -> 3.151709 | G10: =SUM(Monthly!O10:Q10) -> 57.662274 | H10: =SUM(Monthly!R10:T10) -> 125.35683 | I10: =SUM(Monthly!U10:W10) -> 103.86712 | J10: =SUM(Monthly!X10:Z10) -> 114.90478 | K10: =SUM(Monthly!AA10:AC10) -> 219.45899 | L10: =SUM(Monthly!AD10:AF10) -> 120.18434 | M10: =SUM(Monthly!AG10:AI10) -> 0.518611 | N10: =SUM(Monthly!AJ10:AL10) -> 32.453475 | O10: =SUM(Monthly!AM10:AO10) -> 14.235317 | P10: =SUM(Monthly!AP10:AR10) -> 15.385568 | Q10: =SUM(Monthly!AS10:AU10) -> 47.267011 | R10: =SUM(Monthly!AV10:AX10) -> 47.537066 | S10: =SUM(Monthly!AY10:BA10) -> 39.142322 | T10: =SUM(Monthly!BB10:BD10) -> 66.176169 | U10: =SUM(Monthly!BE10:BG10) -> 19.664449 | V10: =SUM(Monthly!BH10:BJ10) -> 158.38794 | W10: =SUM(Monthly!BK10:BM10) -> 275.26351 | X10: =SUM(Monthly!BN10:BP10) -> 565.7239 | Y10: =SUM(Monthly!BQ10:BS10) -> 694.59809 | Z10: =SUM(Monthly!BT10:BV10) -> 892.95023 | AA10: =SUM(Monthly!BW10:BY10) -> 1197.9465 | AB10: =SUM(Monthly!BZ10:CB10) -> 992.79913 | AC10: =SUM(Monthly!CC10:CE10) -> 535.53331 | AD10: =SUM(Monthly!CF10:CH10) -> 923.40473
B11: sh füüsiline transiit | C11: =SUM(Monthly!C11:E11) -> 1269.7246 | D11: =SUM(Monthly!F11:H11) -> 899.32153 | E11: =SUM(Monthly!I11:K11) -> 710.03424 | F11: =SUM(Monthly!L11:N11) -> 869.08088 | G11: =SUM(Monthly!O11:Q11) -> 1146.5513 | H11: =SUM(Monthly!R11:T11) -> 1397.0398 | I11: =SUM(Monthly!U11:W11) -> 1165.8299 | J11: =SUM(Monthly!X11:Z11) -> 1232.9724 | K11: =SUM(Monthly!AA11:AC11) -> 1217.2279 | L11: =SUM(Monthly!AD11:AF11) -> 1053.0142 | M11: =SUM(Monthly!AG11:AI11) -> 528.85244 | N11: =SUM(Monthly!AJ11:AL11) -> 400.13565 | O11: =SUM(Monthly!AM11:AO11) -> 485.7218 | P11: =SUM(Monthly!AP11:AR11) -> 427.7098 | Q11: =SUM(Monthly!AS11:AU11) -> 602.41402 | R11: =SUM(Monthly!AV11:AX11) -> 672.70331 | S11: =SUM(Monthly!AY11:BA11) -> 727.38025 | T11: =SUM(Monthly!BB11:BD11) -> 715.03769 | U11: =SUM(Monthly!BE11:BG11) -> 728.64397 | V11: =SUM(Monthly!BH11:BJ11) -> 1030.2116 | W11: =SUM(Monthly!BK11:BM11) -> 820.26649 | X11: =SUM(Monthly!BN11:BP11) -> 960.69122 | Y11: =SUM(Monthly!BQ11:BS11) -> 824.80347 | Z11: =SUM(Monthly!BT11:BV11) -> 581.3757 | AA11: =SUM(Monthly!BW11:BY11) -> 676.97815 | AB11: =SUM(Monthly!BZ11:CB11) -> 801.33732 | AC11: =SUM(Monthly!CC11:CE11) -> 1098.3343 | AD11: =SUM(Monthly!CF11:CH11) -> 933.45077
B12: Võrku läbinud | C12: =SUM(Monthly!C12:E12) -> 3946.0061 | D12: =SUM(Monthly!F12:H12) -> 3535.0978 | E12: =SUM(Monthly!I12:K12) -> 3356.7942 | F12: =SUM(Monthly!L12:N12) -> 3830.9259 | G12: =SUM(Monthly!O12:Q12) -> 3888.8519 | H12: =SUM(Monthly!R12:T12) -> 3512.2996 | I12: =SUM(Monthly!U12:W12) -> 3312.6393 | J12: =SUM(Monthly!X12:Z12) -> 3692.6828 | K12: =SUM(Monthly!AA12:AC12) -> 3941.4775 | L12: =SUM(Monthly!AD12:AF12) -> 3189.8569 | M12: =SUM(Monthly!AG12:AI12) -> 3339.4115 | N12: =SUM(Monthly!AJ12:AL12) -> 3523.2128 | O12: =SUM(Monthly!AM12:AO12) -> 3673.5039 | P12: =SUM(Monthly!AP12:AR12) -> 3224.6028 | Q12: =SUM(Monthly!AS12:AU12) -> 3098.1429 | R12: =SUM(Monthly!AV12:AX12) -> 3551.1579 | S12: =SUM(Monthly!AY12:BA12) -> 3869.8221 | T12: =SUM(Monthly!BB12:BD12) -> 3185.957 | U12: =SUM(Monthly!BE12:BG12) -> 3322.0812 | V12: =SUM(Monthly!BH12:BJ12) -> 3689.9597 | W12: =SUM(Monthly!BK12:BM12) -> 3508.9342 | X12: =SUM(Monthly!BN12:BP12) -> 2928.4483 | Y12: =SUM(Monthly!BQ12:BS12) -> 2691.5166 | Z12: =SUM(Monthly!BT12:BV12) -> 2934.0022 | AA12: =SUM(Monthly!BW12:BY12) -> 3043.2062 | AB12: =SUM(Monthly!BZ12:CB12) -> 2705.2599 | AC12: =SUM(Monthly!CC12:CE12) -> 2963.4876 | AD12: =SUM(Monthly!CF12:CH12) -> 3251.2209
B13: Sisemaine tarbimine | C13: =SUM(Monthly!C13:E13) -> 2306.7493 | D13: =SUM(Monthly!F13:H13) -> 1831.6484 | E13: =SUM(Monthly!I13:K13) -> 1761.1163 | F13: =SUM(Monthly!L13:N13) -> 2220.9139 | G13: =SUM(Monthly!O13:Q13) -> 2278.6645 | H13: =SUM(Monthly!R13:T13) -> 1885.8308 | I13: =SUM(Monthly!U13:W13) -> 1789.6225 | J13: =SUM(Monthly!X13:Z13) -> 2182.998 | K13: =SUM(Monthly!AA13:AC13) -> 2424.0041 | L13: =SUM(Monthly!AD13:AF13) -> 1860.6162 | M13: =SUM(Monthly!AG13:AI13) -> 1800.2729 | N13: =SUM(Monthly!AJ13:AL13) -> 2299.6978 | O13: =SUM(Monthly!AM13:AO13) -> 2380.8305 | P13: =SUM(Monthly!AP13:AR13) -> 1929.6094 | Q13: =SUM(Monthly!AS13:AU13) -> 1846.4528 | R13: =SUM(Monthly!AV13:AX13) -> 2343.1731 | S13: =SUM(Monthly!AY13:BA13) -> 2549.9808 | T13: =SUM(Monthly!BB13:BD13) -> 1953.9677 | U13: =SUM(Monthly!BE13:BG13) -> 1865.7097 | V13: =SUM(Monthly!BH13:BJ13) -> 2347.7557 | W13: =SUM(Monthly!BK13:BM13) -> 2472.4633 | X13: =SUM(Monthly!BN13:BP13) -> 1956.7089 | Y13: =SUM(Monthly!BQ13:BS13) -> 1863.8249 | Z13: =SUM(Monthly!BT13:BV13) -> 2352.6248 | AA13: =SUM(Monthly!BW13:BY13) -> 2366.228 | AB13: =SUM(Monthly!BZ13:CB13) -> 1902.8773 | AC13: =SUM(Monthly!CC13:CE13) -> 1846.808 | AD13: =SUM(Monthly!CF13:CH13) -> 2317.7349
... B16: sh füüsiline transiit | C16: =SUM(Monthly!C16:E16) -> 1269.7246 | D16: =SUM(Monthly!F16:H16) -> 899.32153 | E16: =SUM(Monthly!I16:K16) -> 710.03424 | F16: =SUM(Monthly!L16:N16) -> 869.08088 | G16: =SUM(Monthly!O16:Q16) -> 1146.5513 | H16: =SUM(Monthly!R16:T16) -> 1397.0398 | I16: =SUM(Monthly!U16:W16) -> 1165.8299 | J16: =SUM(Monthly!X16:Z16) -> 1232.9724 | K16: =SUM(Monthly!AA16:AC16) -> 1217.2279 | L16: =SUM(Monthly!AD16:AF16) -> 1053.0142 | M16: =SUM(Monthly!AG16:AI16) -> 528.85244 | N16: =SUM(Monthly!AJ16:AL16) -> 400.13565 | O16: =SUM(Monthly!AM16:AO16) -> 485.7218 | P16: =SUM(Monthly!AP16:AR16) -> 427.7098 | Q16: =SUM(Monthly!AS16:AU16) -> 602.41402 | R16: =SUM(Monthly!AV16:AX16) -> 672.70331 | S16: =SUM(Monthly!AY16:BA16) -> 727.38025 | T16: =SUM(Monthly!BB16:BD16) -> 715.03769 | U16: =SUM(Monthly!BE16:BG16) -> 728.64397 | V16: =SUM(Monthly!BH16:BJ16) -> 1030.2116 | W16: =SUM(Monthly!BK16:BM16) -> 820.26649 | X16: =SUM(Monthly!BN16:BP16) -> 960.69122 | Y16: =SUM(Monthly!BQ16:BS16) -> 824.80347 | Z16: =SUM(Monthly!BT16:BV16) -> 581.3757 | AA16: =SUM(Monthly!BW16:BY16) -> 676.97815 | AB16: =SUM(Monthly!BZ16:CB16) -> 801.33732 | AC16: =SUM(Monthly!CC16:CE16) -> 1098.3343 | AD16: =SUM(Monthly!CF16:CH16) -> 933.45077
B17: Bilanss | C17: =C3-C13 -> 359.06795 | D17: =D3-D13 -> 802.00245 | E17: =E3-E13 -> 885.59488 | F17: =F3-F13 -> 737.77946 | G17: =G3-G13 -> 405.97391 | H17: =H3-H13 -> 104.07221 | I17: =I3-I13 -> 253.31971 | J17: =J3-J13 -> 161.80765 | ... AG17: =AG3-AG13 -> 0
B19: Sisemaine tootmine | G19: =G3/C3-1 -> 0.0070601773 | H19: =H3/D3-1 -> -0.24443174 | I19: =I3/E3-1 -> -0.22812044 | J19: =J3/F3-1 -> -0.20748607 | K19: =K3/G3-1 -> -0.066991433 | L19: =L3/H3-1 -> 0.013445596 | M19: =M3/I3-1 -> 0.37548698 | N19: =N3/J3-1 -> 0.31807243 | ... AG19: =AG3/AC3-1 -> -1
B20: Taastuvenergia | G20: =G4/C4-1 -> 0.27860302 | H20: =H4/D4-1 -> 0.19174416 | I20: =I4/E4-1 -> -0.045955762 | J20: =J4/F4-1 -> 0.027817709 | K20: =K4/G4-1 -> -0.21969717 | L20: =L4/H4-1 -> -0.14766329 | M20: =M4/I4-1 -> 0.068004632 | N20: =N4/J4-1 -> 0.082196479 | ... AG20: =AG4/AC4-1 -> -1
B21: sh tuuleenergia | G21: =G5/C5-1 -> 0.43404366 | H21: =H5/D5-1 -> 0.35957084 | I21: =I5/E5-1 -> -0.025142002 | J21: =J5/F5-1 -> 0.053326517 | K21: =K5/G5-1 -> -0.37813907 | L21: =L5/H5-1 -> -0.34060822 | M21: =M5/I5-1 -> 0.13551808 | N21: =N5/J5-1 -> 0.10595126 | ... AG21: =AG5/AC5-1 -> -1
B22: sh hüdroenergia | G22: =G6/C6-1 -> 0.21757276 | H22: =H6/D6-1 -> -0.010814856 | I22: =I6/E6-1 -> -0.49691902 | J22: =J6/F6-1 -> -0.039447974 | K22: =K6/G6-1 -> -0.22505425 | L22: =L6/H6-1 -> 0.12694978 | M22: =M6/I6-1 -> 3.0437569 | N22: =N6/J6-1 -> 0.81152544 | ... AG22: =AG6/AC6-1 -> -1
B23: sh biomass, biogaas | G23: =G7/C7-1 -> 0.13700983 | H23: =H7/D7-1 -> 0.08995801 | I23: =I7/E7-1 -> -0.051258596 | J23: =J7/F7-1 -> 0.0065301329 | K23: =K7/G7-1 -> -0.033740344 | L23: =L7/H7-1 -> -0.0061328423 | M23: =M7/I7-1 -> -0.0096102472 | N23: =N7/J7-1 -> 0.044762446 | ... AG23: =AG7/AC7-1 -> -1
B24: Mittetaastuv | G24: =G8/C8-1 -> -0.033456371 | H24: =H8/D8-1 -> -0.2994899 | I24: =I8/E8-1 -> -0.25120521 | J24: =J8/F8-1 -> -0.24609003 | K24: =K8/G8-1 -> -0.036850015 | L24: =L8/H8-1 -> 0.04804337 | M24: =M8/I8-1 -> 0.42513331 | N24: =N8/J8-1 -> 0.3708298 | ... AG24: =AG8/AC8-1 -> -1
B25: Sisemaine tarbimine | G25: =G13/C13-1 -> -0.012175063 | H25: =H13/D13-1 -> 0.029581211 | I25: =I13/E13-1 -> 0.016186459 | J25: =J13/F13-1 -> -0.017072186 | K25: =K13/G13-1 -> 0.063782819 | L25: =L13/H13-1 -> -0.013370549 | M25: =M13/I13-1 -> 0.0059511655 | N25: =N13/J13-1 -> 0.053458494 | ... AG25: =AG13/AC13-1 -> -1
B27: Baltikumi elektribilanss, GWh | C27: 2014-Q1 | D27: 2014-Q2 | E27: 2014-Q3 | F27: 2014-Q4 | G27: 2015-Q1 | H27: 2015-Q2 | I27: 2015-Q3 | J27: 2015-Q4 | K27: 2016-Q1 | L27: 2016-Q2 | M27: 2016-Q3 | N27: 2016-Q4 | O27: 2017-Q1 | P27: 2017-Q2 | Q27: 2017-Q3 | R27: 2017-Q4 | S27: 2018-Q1 | T27: 2018-Q2 | U27: 2018-Q3 | V27: 2018-Q4 | W27: 2019-Q1 | X27: 2019-Q2 | Y27: 2019-Q3 | Z27: 2019-Q4 | AA27: 2020-Q1 | AB27: 2020-Q2 | AC27: 2020-Q3 | AD27: 2020-Q4 | AE27: 2021-Q1 | AF27: 2021-Q2 | AG27: 2021-Q3 | AH27: 2021-Q4
B28: Tootmine Eestis | C28: =SUM(Monthly!C30:E30) -> 2665.8172 | D28: =SUM(Monthly!F30:H30) -> 2633.6509 | E28: =SUM(Monthly!I30:K30) -> 2646.7112 | F28: =SUM(Monthly!L30:N30) -> 2958.6933 | G28: =SUM(Monthly!O30:Q30) -> 2684.6384 | H28: =SUM(Monthly!R30:T30) -> 1989.903 | I28: =SUM(Monthly!U30:W30) -> 2042.9423 | J28: =SUM(Monthly!X30:Z30) -> 2344.8057 | K28: =SUM(Monthly!AA30:AC30) -> 2504.7906 | L28: =SUM(Monthly!AD30:AF30) -> 2016.6585 | M28: =SUM(Monthly!AG30:AI30) -> 2810.0405 | N28: =SUM(Monthly!AJ30:AL30) -> 3090.6237 | O28: =SUM(Monthly!AM30:AO30) -> 3173.5468 | P28: =SUM(Monthly!AP30:AR30) -> 2781.5074 | Q28: =SUM(Monthly!AS30:AU30) -> 2448.4619 | R28: =SUM(Monthly!AV30:AX30) -> 2830.9176 | S28: =SUM(Monthly!AY30:BA30) -> 3103.2995 | T28: =SUM(Monthly!BB30:BD30) -> 2404.7424 | U28: =SUM(Monthly!BE30:BG30) -> 2573.7728 | V28: =SUM(Monthly!BH30:BJ30) -> 2501.3602 | W28: =SUM(Monthly!BK30:BM30) -> 2413.4041 | X28: =SUM(Monthly!BN30:BP30) -> 1402.0332 | Y28: =SUM(Monthly!BQ30:BS30) -> 1172.115 | Z28: =SUM(Monthly!BT30:BV30) -> 1459.6763 | AA28: =SUM(Monthly!BW30:BY30) -> 1168.2815 | AB28: =SUM(Monthly!BZ30:CB30) -> 911.12346 | AC28: =SUM(Monthly!CC30:CE30) -> 1329.5766 | AD28: =SUM(Monthly!CF30:CH30) -> 1394.3654
B29: Tootmine Lätis | C29: =SUM(Monthly!C31:E31) -> 1588.8168 | D29: =SUM(Monthly!F31:H31) -> 1209.7684 | E29: =SUM(Monthly!I31:K31) -> 822.35341 | F29: =SUM(Monthly!L31:N31) -> 1305.1108 | G29: =SUM(Monthly!O31:Q31) -> 1435.8273 | H29: =SUM(Monthly!R31:T31) -> 1240.3384 | I29: =SUM(Monthly!U31:W31) -> 1064.1392 | J29: =SUM(Monthly!X31:Z31) -> 1582.1093 | K29: =SUM(Monthly!AA31:AC31) -> 1661.3668 | L29: =SUM(Monthly!AD31:AF31) -> 1537.7593 | M29: =SUM(Monthly!AG31:AI31) -> 950.6817 | N29: =SUM(Monthly!AJ31:AL31) -> 2067.1728 | O29: =SUM(Monthly!AM31:AO31) -> 2285.255 | P29: =SUM(Monthly!AP31:AR31) -> 1678.0861 | Q29: =SUM(Monthly!AS31:AU31) -> 1277.811 | R29: =SUM(Monthly!AV31:AX31) -> 2062.341 | S29: =SUM(Monthly!AY31:BA31) -> 2316.607 | T29: =SUM(Monthly!BB31:BD31) -> 1547.314 | U29: =SUM(Monthly!BE31:BG31) -> 1194.723 | V29: =SUM(Monthly!BH31:BJ31) -> 1395.563 | W29: =SUM(Monthly!BK31:BM31) -> 1737.612 | X29: =SUM(Monthly!BN31:BP31) -> 1324.9 | Y29: =SUM(Monthly!BQ31:BS31) -> 1421.124 | Z29: =SUM(Monthly!BT31:BV31) -> 1636.553 | AA29: =SUM(Monthly!BW31:BY31) -> 1892.219 | AB29: =SUM(Monthly!BZ31:CB31) -> 1289.431 | AC29: =SUM(Monthly!CC31:CE31) -> 976.525 | AD29: =SUM(Monthly!CF31:CH31) -> 1281.294
B30: Tootmine Leedus | C30: =SUM(Monthly!C32:E32) -> 769.37039 | D30: =SUM(Monthly!F32:H32) -> 482.50967 | E30: =SUM(Monthly!I32:K32) -> 985.97011 | F30: =SUM(Monthly!L32:N32) -> 743.38166 | G30: =SUM(Monthly!O32:Q32) -> 743.46927 | H30: =SUM(Monthly!R32:T32) -> 830.3662 | I30: =SUM(Monthly!U32:W32) -> 879.73455 | J30: =SUM(Monthly!X32:Z32) -> 814.98061 | K30: =SUM(Monthly!AA32:AC32) -> 666.484 | L30: =SUM(Monthly!AD32:AF32) -> 577.984 | M30: =SUM(Monthly!AG32:AI32) -> 576.39 | N30: =SUM(Monthly!AJ32:AL32) -> 839.064 | O30: =SUM(Monthly!AM32:AO32) -> 611.412 | P30: =SUM(Monthly!AP32:AR32) -> 577.46034 | Q30: =SUM(Monthly!AS32:AU32) -> 566.056 | R30: =SUM(Monthly!AV32:AX32) -> 728.481 | S30: =SUM(Monthly!AY32:BA32) -> 911.549 | T30: =SUM(Monthly!BB32:BD32) -> 787.255 | U30: =SUM(Monthly!BE32:BG32) -> 753.406 | V30: =SUM(Monthly!BH32:BJ32) -> 794.921 | W30: =SUM(Monthly!BK32:BM32) -> 990.789 | X30: =SUM(Monthly!BN32:BP32) -> 830.166 | Y30: =SUM(Monthly!BQ32:BS32) -> 883.292 | Z30: =SUM(Monthly!BT32:BV32) -> 931.064 | AA30: =SUM(Monthly!BW32:BY32) -> 1169.65 | AB30: =SUM(Monthly!BZ32:CB32) -> 1126.827 | AC30: =SUM(Monthly!CC32:CE32) -> 1397.359 | AD30: =SUM(Monthly!CF32:CH32) -> 1303.425
B31: Kokku | C31: =SUM(Monthly!C33:E33) -> 5024.0044 | D31: =SUM(Monthly!F33:H33) -> 4325.929 | E31: =SUM(Monthly!I33:K33) -> 4455.0347 | F31: =SUM(Monthly!L33:N33) -> 5007.1858 | G31: =SUM(Monthly!O33:Q33) -> 4863.935 | H31: =SUM(Monthly!R33:T33) -> 4060.6077 | I31: =SUM(Monthly!U33:W33) -> 3986.816 | J31: =SUM(Monthly!X33:Z33) -> 4741.8956 | K31: =SUM(Monthly!AA33:AC33) -> 4832.6414 | L31: =SUM(Monthly!AD33:AF33) -> 4132.4017 | M31: =SUM(Monthly!AG33:AI33) -> 4337.1122 | N31: =SUM(Monthly!AJ33:AL33) -> 5996.8605 | O31: =SUM(Monthly!AM33:AO33) -> 6070.2138 | P31: =SUM(Monthly!AP33:AR33) -> 5037.0538 | Q31: =SUM(Monthly!AS33:AU33) -> 4292.3289 | R31: =SUM(Monthly!AV33:AX33) -> 5621.7396 | S31: =SUM(Monthly!AY33:BA33) -> 6331.4555 | T31: =SUM(Monthly!BB33:BD33) -> 4739.3114 | U31: =SUM(Monthly!BE33:BG33) -> 4521.9018 | V31: =SUM(Monthly!BH33:BJ33) -> 4691.8442 | W31: =SUM(Monthly!BK33:BM33) -> 5141.8051 | X31: =SUM(Monthly!BN33:BP33) -> 3557.0992 | Y31: =SUM(Monthly!BQ33:BS33) -> 3476.531 | Z31: =SUM(Monthly!BT33:BV33) -> 4027.2933 | AA31: =SUM(Monthly!BW33:BY33) -> 4230.1505 | AB31: =SUM(Monthly!BZ33:CB33) -> 3327.3815 | AC31: =SUM(Monthly!CC33:CE33) -> 3703.4606 | AD31: =SUM(Monthly!CF33:CH33) -> 3979.0844
B32: Tarbimine Eestis | C32: =SUM(Monthly!C34:E34) -> 2306.7493 | D32: =SUM(Monthly!F34:H34) -> 1831.6484 | E32: =SUM(Monthly!I34:K34) -> 1761.1163 | F32: =SUM(Monthly!L34:N34) -> 2220.9139 | G32: =SUM(Monthly!O34:Q34) -> 2278.6645 | H32: =SUM(Monthly!R34:T34) -> 1885.8308 | I32: =SUM(Monthly!U34:W34) -> 1789.6225 | J32: =SUM(Monthly!X34:Z34) -> 2182.998 | K32: =SUM(Monthly!AA34:AC34) -> 2424.0041 | L32: =SUM(Monthly!AD34:AF34) -> 1860.6162 | M32: =SUM(Monthly!AG34:AI34) -> 1800.2729 | N32: =SUM(Monthly!AJ34:AL34) -> 2299.6978 | O32: =SUM(Monthly!AM34:AO34) -> 2380.8305 | P32: =SUM(Monthly!AP34:AR34) -> 1929.6094 | Q32: =SUM(Monthly!AS34:AU34) -> 1846.4528 | R32: =SUM(Monthly!AV34:AX34) -> 2343.1731 | S32: =SUM(Monthly!AY34:BA34) -> 2549.9808 | T32: =SUM(Monthly!BB34:BD34) -> 1953.9677 | U32: =SUM(Monthly!BE34:BG34) -> 1865.7097 | V32: =SUM(Monthly!BH34:BJ34) -> 2347.7557 | W32: =SUM(Monthly!BK34:BM34) -> 2472.4633 | X32: =SUM(Monthly!BN34:BP34) -> 1956.7089 | Y32: =SUM(Monthly!BQ34:BS34) -> 1863.8249 | Z32: =SUM(Monthly!BT34:BV34) -> 2352.6248 | AA32: =SUM(Monthly!BW34:BY34) -> 2366.228 | AB32: =SUM(Monthly!BZ34:CB34) -> 1902.8773 | AC32: =SUM(Monthly!CC34:CE34) -> 1846.808 | AD32: =SUM(Monthly!CF34:CH34) -> 2317.7349
B33: Tarbimine Lätis | C33: =SUM(Monthly!C35:E35) -> 1981.5414 | D33: =SUM(Monthly!F35:H35) -> 1615.6129 | E33: =SUM(Monthly!I35:K35) -> 1657.3805 | F33: =SUM(Monthly!L35:N35) -> 1930.6771 | G33: =SUM(Monthly!O35:Q35) -> 1915.7422 | H33: =SUM(Monthly!R35:T35) -> 1645.5068 | I33: =SUM(Monthly!U35:W35) -> 1646.8456 | J33: =SUM(Monthly!X35:Z35) -> 1877.7596 | K33: =SUM(Monthly!AA35:AC35) -> 1985.6017 | L33: =SUM(Monthly!AD35:AF35) -> 1660.2925 | M33: =SUM(Monthly!AG35:AI35) -> 1649.9753 | N33: =SUM(Monthly!AJ35:AL35) -> 1928.175 | O33: =SUM(Monthly!AM35:AO35) -> 1962.4835 | P33: =SUM(Monthly!AP35:AR35) -> 1667.5828 | Q33: =SUM(Monthly!AS35:AU35) -> 1668.623 | R33: =SUM(Monthly!AV35:AX35) -> 1929.049 | S33: =SUM(Monthly!AY35:BA35) -> 2011.385 | T33: =SUM(Monthly!BB35:BD35) -> 1689.118 | U33: =SUM(Monthly!BE35:BG35) -> 1708.033 | V33: =SUM(Monthly!BH35:BJ35) -> 1936.879 | W33: =SUM(Monthly!BK35:BM35) -> 1951.008 | X33: =SUM(Monthly!BN35:BP35) -> 1708.354 | Y33: =SUM(Monthly!BQ35:BS35) -> 1689.802 | Z33: =SUM(Monthly!BT35:BV35) -> 1877.249 | AA33: =SUM(Monthly!BW35:BY35) -> 1895.316 | AB33: =SUM(Monthly!BZ35:CB35) -> 1628.235 | AC33: =SUM(Monthly!CC35:CE35) -> 1665.59 | AD33: =SUM(Monthly!CF35:CH35) -> 1869.934
B34: Tarbimine Leedus | C34: =SUM(Monthly!C36:E36) -> 2673.0637 | D34: =SUM(Monthly!F36:H36) -> 2415.9725 | E34: =SUM(Monthly!I36:K36) -> 2626.9462 | F34: =SUM(Monthly!L36:N36) -> 2902.1168 | G34: =SUM(Monthly!O36:Q36) -> 2693.899 | H34: =SUM(Monthly!R36:T36) -> 2456.1132 | I34: =SUM(Monthly!U36:W36) -> 2557.461 | J34: =SUM(Monthly!X36:Z36) -> 2737.059 | K34: =SUM(Monthly!AA36:AC36) -> 2649.261 | L34: =SUM(Monthly!AD36:AF36) -> 2341.287 | M34: =SUM(Monthly!AG36:AI36) -> 2435.38 | N34: =SUM(Monthly!AJ36:AL36) -> 2688.35 | O34: =SUM(Monthly!AM36:AO36) -> 2868.0018 | P34: =SUM(Monthly!AP36:AR36) -> 2574.6388 | Q34: =SUM(Monthly!AS36:AU36) -> 2743.8508 | R34: =SUM(Monthly!AV36:AX36) -> 2960.9746 | S34: =SUM(Monthly!AY36:BA36) -> 3425.1176 | T34: =SUM(Monthly!BB36:BD36) -> 2945.4838 | U34: =SUM(Monthly!BE36:BG36) -> 3074.8899 | V34: =SUM(Monthly!BH36:BJ36) -> 3439.8912 | W34: =SUM(Monthly!BK36:BM36) -> 3324.8915 | X34: =SUM(Monthly!BN36:BP36) -> 3072.4048 | Y34: =SUM(Monthly!BQ36:BS36) -> 3230.6304 | Z34: =SUM(Monthly!BT36:BV36) -> 3353.6762 | AA34: =SUM(Monthly!BW36:BY36) -> 3411.4096 | AB34: =SUM(Monthly!BZ36:CB36) -> 2918.485 | AC34: =SUM(Monthly!CC36:CE36) -> 3122.7168 | AD34: =SUM(Monthly!CF36:CH36) -> 3455.0027
