Workbook

Sheet Monthly
A1: Estonian electricity balance, GWh | B1: Eesti elektribilanss, GWh | C1: 41640 | D1: 41671 | E1: 41699 | F1: 41730 | G1: 41760 | H1: 41791 | I1: 41821 | J1: 41852 | K1: 41883 | L1: 41913 | M1: 41944 | N1: 41974 | O1: 42005 | P1: 42036 | Q1: 42064 | R1: 42095 | S1: 42125 | T1: 42156 | U1: 42186 | V1: 42217 | W1: 42248 | X1: 42278 | Y1: 42309 | Z1: 42339 | AA1: 42370 | AB1: 42401 | AC1: 42430 | AD1: 42461 | AE1: 42491 | AF1: 42522 | AG1: 42552 | AH1: 42583 | AI1: 42614 | AJ1: 42644 | AK1: 42675 | AL1: 42705 | AM1: 42736 | AN1: 42767 | AO1: 42795 | AP1: 42826 | AQ1: 42856 | AR1: 42887 | AS1: 42917 | AT1: 42948 | AU1: 42979 | AV1: 43009 | AW1: 43040 | AX1: 43070 | AY1: 43101 | AZ1: 43132 | BA1: 43160 | BB1: 43191 | BC1: 43221 | BD1: 43252 | BE1: 43282 | BF1: 43313 | BG1: 43344 | BH1: 43374 | BI1: 43405 | BJ1: 43435 | BK1: 43466 | BL1: 43497 | BM1: 43525 | BN1: 43556 | BO1: 43586 | BP1: 43617 | BQ1: 43647 | BR1: 43678 | BS1: 43709 | BT1: 43739 | BU1: 43770 | BV1: 43800 | BW1: 43831 | BX1: 43862 | BY1: 43891 | BZ1: 43922 | CA1: 43952 | CB1: 43983 | CC1: 44013 | CD1: 44044 | CE1: 44075 | CF1: 44105 | CG1: 44136 | CH1: 44166
A2: Total electricity supplied to the network | B2: Võrku sisenenud | C2: 1411.0657 | D2: 1299.1118 | E2: 1235.8286 | F2: 1202.7466 | G2: 1198.1123 | H2: 1134.2389 | I2: 1143.5612 | J2: 1087.0559 | K2: 1126.177 | L2: 1228.7228 | M2: 1226.4412 | N2: 1375.7619 | O2: 1431.5562 | P2: 1261.9887 | Q2: 1195.307 | R2: 1210.1116 | S2: 1171.2688 | T2: 1130.9192 | U2: 1090.5893 | V2: 1045.5041 | W2: 1176.5459 | X2: 1338.4815 | Y2: 1159.19 | Z2: 1195.0113 | AA2: 1440.0302 | AB2: 1249.3158 | AC2: 1252.1315 | AD2: 1095.9381 | AE2: 1074.3078 | AF2: 1019.611 | AG2: 1103.079 | AH2: 1130.2723 | AI2: 1106.0602 | AJ2: 1161.54 | AK2: 1216.3706 | AL2: 1145.3022 | AM2: 1333.841 | AN2: 1176.912 | AO2: 1162.7509 | AP2: 1031.3139 | AQ2: 1120.3794 | AR2: 1072.9094 | AS2: 1049.1574 | AT2: 1068.6336 | AU2: 980.35191 | AV2: 1168.1107 | AW2: 1205.5312 | AX2: 1177.5161 | AY2: 1262.3244 | AZ2: 1213.1435 | BA2: 1394.3542 | BB2: 1143.1886 | BC2: 1035.1805 | BD2: 1007.5879 | BE2: 1039.9414 | BF2: 1155.5493 | BG2: 1126.5905 | BH2: 1195.6051 | BI2: 1277.1188 | BJ2: 1217.2358 | BK2: 1355.8467 | BL2: 1100.3301 | BM2: 1052.7573 | BN2: 1019.5706 | BO2: 979.91594 | BP2: 928.96181 | BQ2: 977.85101 | BR2: 869.61037 | BS2: 844.05518 | BT2: 950.98168 | BU2: 970.00958 | BV2: 1013.011 | BW2: 1068.0055 | BX2: 986.80263 | BY2: 988.39802 | BZ2: 922.87942 | CA2: 908.33639 | CB2: 874.04411 | CC2: 1044.1501 | CD2: 947.54487 | CE2: 971.7926 | CF2: 1035.1929 | CG2: 1099.7934 | CH2: 1116.2346
A3: Electricity generation in total (net) | B3: Sisemaine tootmine | C3: 939.04095 | D3: 865.09609 | E3: 861.68021 | F3: 807.03357 | G3: 890.96699 | H3: 935.65034 | I3: 918.32671 | J3: 854.32996 | K3: 874.05451 | L3: 975.5436 | M3: 952.71444 | N3: 1030.4353 | O3: 993.78633 | P3: 947.39136 | Q3: 743.4607 | R3: 687.4944 | S3: 764.22763 | T3: 538.18101 | U3: 570.41532 | V3: 674.91568 | W3: 797.61126 | X3: 779.78904 | Y3: 774.97132 | Z3: 790.0453 | AA3: 1088.5844 | AB3: 743.87135 | AC3: 672.33488 | AD3: 740.70149 | AE3: 611.79942 | AF3: 664.15756 | AG3: 834.12163 | AH3: 1005.9356 | AI3: 969.98328 | AJ3: 1066.42 | AK3: 1081.7503 | AL3: 942.45332 | AM3: 1142.1535 | AN3: 992.27169 | AO3: 1039.1216 | AP3: 889.67267 | AQ3: 1017.711 | AR3: 874.12369 | AS3: 768.94887 | AT3: 852.45582 | AU3: 827.05718 | AV3: 971.22106 | AW3: 980.07146 | AX3: 879.62505 | AY3: 1020.2909 | AZ3: 941.9713 | BA3: 1141.0373 | BB3: 997.72559 | BC3: 710.87103 | BD3: 696.14577 | BE3: 822.30666 | BF3: 935.82458 | BG3: 815.64153 | BH3: 814.52766 | BI3: 937.86076 | BJ3: 748.9718 | BK3: 1045.253 | BL3: 690.65861 | BM3: 677.49251 | BN3: 598.78764 | BO3: 490.87945 | BP3: 312.3661 | BQ3: 307.28686 | BR3: 402.6504 | BS3: 462.17775 | BT3: 439.62732 | BU3: 565.75619 | BV3: 454.29278 | BW3: 410.59687 | BX3: 368.02274 | BY3: 389.66187 | BZ3: 292.60963 | CA3: 282.10321 | CB3: 336.41062 | CC3: 336.68285 | CD3: 528.03372 | CE3: 464.85999 | CF3: 459.55495 | CG3: 450.6852 | CH3: 484.12529
A4: Electricity generated from renewable sources | B4: Taastuvenergia | C4: 109.19142 | D4: 108.97868 | E4: 127.94899 | F4: 108.96843 | G4: 88.192291 | H4: 98.022337 | I4: 84.926206 | J4: 109.70645 | K4: 103.04761 | L4: 146.86877 | M4: 114.74688 | N4: 155.3761 | O4: 159.20499 | P4: 135.06806 | Q4: 148.27587 | R4: 133.41375 | S4: 112.29723 | T4: 106.07171 | U4: 82.791841 | V4: 97.301799 | W4: 103.90651 | X4: 125.54082 | Y4: 137.08314 | Z4: 165.96754 | AA4: 110.57721 | AB4: 128.9609 | AC4: 105.78407 | AD4: 113.43916 | AE4: 86.550501 | AF4: 99.847643 | AG4: 75.112697 | AH4: 124.15644 | AI4: 104.04433 | AJ4: 153.83474 | AK4: 159.79446 | AL4: 150.19102 | AM4: 148.37804 | AN4: 126.54856 | AO4: 156.78 | AP4: 150.32637 | AQ4: 117.83887 | AR4: 121.91472 | AS4: 99.84318 | AT4: 116.39701 | AU4: 121.89529 | AV4: 155.55249 | AW4: 165.61122 | AX4: 172.353 | AY4: 141.6018 | AZ4: 116.04172 | BA4: 139.43022 | BB4: 145.37081 | BC4: 110.56791 | BD4: 120.55778 | BE4: 114.71111 | BF4: 129.12646 | BG4: 162.62855 | BH4: 172.57922 | BI4: 158.00193 | BJ4: 151.59648 | BK4: 155.67069 | BL4: 184.0316 | BM4: 186.33545 | BN4: 138.07778 | BO4: 150.03568 | BP4: 122.70213 | BQ4: 116.35961 | BR4: 142.06151 | BS4: 169.96109 | BT4: 184.06645 | BU4: 215.85226 | BV4: 181.14064 | BW4: 202.88972 | BX4: 194.00451 | BY4: 202.89337 | BZ4: 183.85465 | CA4: 161.5351 | CB4: 134.85249 | CC4: 167.05414 | CD4: 169.41988 | CE4: 200.82824 | CF4: 210.32392 | CG4: 216.41625 | CH4: 180.0779
A5: incl. wind | B5: sh tuuleenergia | C5: 46.218744 | D5: 50.21718 | E5: 65.629281 | F5: 44.330951 | G5: 35.742035 | H5: 33.024287 | I5: 29.932522 | J5: 42.232788 | K5: 38.681941 | L5: 63.048926 | M5: 43.965878 | N5: 83.010144 | O5: 87.708179 | P5: 69.406785 | Q5: 75.293617 | R5: 57.957676 | S5: 45.195772 | T5: 50.610305 | U5: 41.511383 | V5: 29.668325 | W5: 36.88062 | X5: 42.546099 | Y5: 63.117187 | Z5: 94.495032 | AA5: 46.331685 | AB5: 62.086089 | AC5: 36.108042 | AD5: 40.941833 | AE5: 21.799259 | AF5: 38.649464 | AG5: 37.493983 | AH5: 48.507564 | AI5: 36.70291 | AJ5: 72.071345 | AK5: 69.467773 | AL5: 79.826225 | AM5: 68.849613 | AN5: 53.563928 | AO5: 68.11518 | AP5: 56.271071 | AQ5: 30.896096 | AR5: 55.694168 | AS5: 34.133613 | AT5: 48.888393 | AU5: 45.971327 | AV5: 60.958503 | AW5: 67.633444 | AX5: 78.478187 | AY5: 59.558927 | AZ5: 34.667484 | BA5: 48.826256 | BB5: 49.752518 | BC5: 30.015123 | BD5: 45.043323 | BE5: 33.441824 | BF5: 39.453922 | BG5: 69.656749 | BH5: 71.334928 | BI5: 56.491062 | BJ5: 52.312205 | BK5: 59.707773 | BL5: 95.372091 | BM5: 84.540001 | BN5: 38.262145 | BO5: 44.263798 | BP5: 40.305628 | BQ5: 33.710441 | BR5: 35.176343 | BS5: 56.014381 | BT5: 54.089607 | BU5: 61.026449 | BV5: 89.206733 | BW5: 106.18997 | BX5: 104.43046 | BY5: 83.692211 | BZ5: 76.73709 | CA5: 49.563499 | CB5: 36.22468 | CC5: 48.573171 | CD5: 26.21055 | CE5: 66.577041 | CF5: 64.11129 | CG5: 81.876277 | CH5: 79.525904
A6: incl. hüdro | B6: sh hüdroenergia | C6: 3.7236597 | D6: 2.6173218 | E6: 3.6869666 | F6: 2.9486666 | G6: 2.7002781 | H6: 2.0273313 | I6: 1.518451 | J6: 1.0162894 | K6: 1.3019122 | L6: 1.2142346 | M6: 1.4275844 | N6: 2.4270183 | O6: 4.2103423 | P6: 3.540838 | Q6: 4.4585762 | R6: 3.750123 | S6: 2.9129253 | T6: 0.9302098 | U6: 0.70461799 | V6: 0.44168346 | W6: 0.78384553 | X6: 0.55446485 | Y6: 1.159811 | Z6: 3.1546062 | AA6: 1.5762232 | AB6: 4.0687105 | AC6: 3.8169652 | AD6: 4.3296054 | AE6: 2.8683726 | AF6: 1.3592425 | AG6: 2.103561 | AH6: 2.8688279 | AI6: 2.8326562 | AJ6: 1.8971962 | AK6: 3.1572912 | AL6: 3.7656162 | AM6: 2.8858955 | AN6: 1.8543971 | AO6: 3.30878 | AP6: 3.392911 | AQ6: 2.1291064 | AR6: 0.85232046 | AS6: 0.75766471 | AT6: 1.3641021 | AU6: 1.8865612 | AV6: 3.0200108 | AW6: 3.57194 | AX6: 4.0944937 | AY6: 3.6244304 | AZ6: 2.4433165 | BA6: 1.9917667 | BB6: 3.967074 | BC6: 2.9697305 | BD6: 0.56505718 | BE6: 0.35241141 | BF6: 0.2723009 | BG6: 0.30828545 | BH6: 0.6492139 | BI6: 1.1085302 | BJ6: 1.0004532 | BK6: 1.2484919 | BL6: 2.4158876 | BM6: 4.0242724 | BN6: 3.6165806 | BO6: 2.2778368 | BP6: 0.66140117 | BQ6: 0.45263012 | BR6: 0.31763641 | BS6: 0.46981874 | BT6: 1.8397633 | BU6: 2.3662873 | BV6: 1.9256107 | BW6: 2.3398006 | BX6: 4.0432615 | BY6: 4.4525471 | BZ6: 3.6914152 | CA6: 2.2637748 | CB6: 1.2848476 | CC6: 1.0423051 | CD6: 0.82609148 | CE6: 0.87848254 | CF6: 1.1376068 | CG6: 2.3396393 | CH6: 3.080516
A7: incl. biomass, biogas, waste | B7: sh biomass, biogaas | C7: 59.247078 | D7: 56.140207 | E7: 58.600606 | F7: 61.620988 | G7: 49.684017 | H7: 62.901651 | I7: 53.368488 | J7: 66.371182 | K7: 62.987983 | L7: 82.577029 | M7: 69.349661 | N7: 69.937979 | O7: 67.28512 | P7: 62.099636 | Q7: 68.441187 | R7: 71.598742 | S7: 63.980149 | T7: 54.29905 | U7: 40.340833 | V7: 66.903205 | W7: 66.117251 | X7: 82.286602 | Y7: 72.75431 | Z7: 68.272564 | AA7: 62.659957 | AB7: 62.766355 | AC7: 65.724916 | AD7: 67.923842 | AE7: 61.400765 | AF7: 59.388841 | AG7: 35.06529 | AH7: 72.435763 | AI7: 64.194191 | AJ7: 79.724182 | AK7: 87.079079 | AL7: 66.506271 | AM7: 76.623349 | AN7: 71.021356 | AO7: 85.051117 | AP7: 90.156708 | AQ7: 83.903459 | AR7: 64.49357 | AS7: 64.1547 | AT7: 65.438598 | AU7: 73.628519 | AV7: 91.386497 | AW7: 94.258144 | AX7: 89.740762 | AY7: 78.300186 | AZ7: 78.766518 | BA7: 87.953336 | BB7: 90.582588 | BC7: 75.433685 | BD7: 72.928418 | BE7: 78.968739 | BF7: 87.60427 | BG7: 91.103489 | BH7: 99.328738 | BI7: 100.22728 | BJ7: 98.236054 | BK7: 94.649487 | BL7: 85.619406 | BM7: 95.476271 | BN7: 89.728248 | BO7: 98.510755 | BP7: 74.430235 | BQ7: 74.553086 | BR7: 98.322547 | BS7: 106.11834 | BT7: 123.31838 | BU7: 148.49831 | BV7: 89.681271 | BW7: 93.535473 | BX7: 83.279209 | BY7: 106.27308 | BZ7: 90.933678 | CA7: 91.416477 | CB7: 78.945746 | CC7: 99.06325 | CD7: 124.6532 | CE7: 121.07295 | CF7: 138.0147 | CG7: 130.12376 | CH7: 96.765687
A8: Electricity generated from non-renewable sources | B8: Mittetaastuv | C8: 829.84953 | D8: 756.11741 | E8: 733.73122 | F8: 698.06513 | G8: 802.77469 | H8: 837.62801 | I8: 833.40051 | J8: 744.6235 | K8: 771.0069 | L8: 828.67483 | M8: 837.96756 | N8: 875.05918 | O8: 834.58133 | P8: 812.32331 | Q8: 595.18483 | R8: 554.08065 | S8: 651.93039 | T8: 432.1093 | U8: 487.62348 | V8: 577.61388 | W8: 693.70475 | X8: 654.24822 | Y8: 637.88818 | Z8: 624.07777 | AA8: 978.00718 | AB8: 614.91045 | AC8: 566.55082 | AD8: 627.26233 | AE8: 525.24892 | AF8: 564.30991 | AG8: 759.00893 | AH8: 881.77912 | AI8: 865.93895 | AJ8: 912.58529 | AK8: 921.95588 | AL8: 792.2623 | AM8: 993.77541 | AN8: 865.72314 | AO8: 882.34162 | AP8: 739.3463 | AQ8: 899.87216 | AR8: 752.20897 | AS8: 669.10569 | AT8: 736.05881 | AU8: 705.16189 | AV8: 815.66857 | AW8: 814.46024 | AX8: 707.27205 | AY8: 878.68914 | AZ8: 825.92958 | BA8: 1001.6071 | BB8: 852.35477 | BC8: 600.30312 | BD8: 575.58799 | BE8: 707.59555 | BF8: 806.69811 | BG8: 653.01298 | BH8: 641.94844 | BI8: 779.85883 | BJ8: 597.37532 | BK8: 889.5823 | BL8: 506.62701 | BM8: 491.15706 | BN8: 460.70986 | BO8: 340.84378 | BP8: 189.66397 | BQ8: 190.92725 | BR8: 260.58889 | BS8: 292.21666 | BT8: 255.56088 | BU8: 349.90393 | BV8: 273.15214 | BW8: 207.70715 | BX8: 174.01823 | BY8: 186.7685 | BZ8: 108.75499 | CA8: 120.56811 | CB8: 201.55813 | CC8: 169.62871 | CD8: 358.61385 | CE8: 264.03175 | CF8: 249.23104 | CG8: 234.26896 | CH8: 304.0474
A9: Total electricity import through cross-border lines | B9: Välisliinidelt import | C9: 472.02474 | D9: 434.01575 | E9: 374.14837 | F9: 395.71305 | G9: 307.14532 | H9: 198.58853 | I9: 225.23453 | J9: 232.72591 | K9: 252.12253 | L9: 253.17917 | M9: 273.72679 | N9: 345.32663 | O9: 437.76988 | P9: 314.59732 | Q9: 451.84632 | R9: 522.61719 | S9: 407.04122 | T9: 592.73819 | U9: 520.17402 | V9: 370.58839 | W9: 378.93464 | X9: 558.69242 | Y9: 384.21868 | Z9: 404.96604 | AA9: 351.44581 | AB9: 505.44444 | AC9: 579.79667 | AD9: 355.23659 | AE9: 462.50835 | AF9: 355.45349 | AG9: 268.95734 | AH9: 124.33674 | AI9: 136.07697 | AJ9: 95.119938 | AK9: 134.6203 | AL9: 202.84888 | AM9: 191.68758 | AN9: 184.64028 | AO9: 123.62926 | AP9: 141.64125 | AQ9: 102.66842 | AR9: 198.7857 | AS9: 280.20849 | AT9: 216.17781 | AU9: 153.29473 | AV9: 196.88961 | AW9: 225.4597 | AX9: 297.89102 | AY9: 242.03349 | AZ9: 271.17218 | BA9: 253.3169 | BB9: 145.46299 | BC9: 324.3095 | BD9: 311.44208 | BE9: 217.6347 | BF9: 219.72475 | BG9: 310.94897 | BH9: 381.07744 | BI9: 339.25807 | BJ9: 468.26399 | BK9: 310.59372 | BL9: 409.67151 | BM9: 375.26482 | BN9: 420.78293 | BO9: 489.03648 | BP9: 616.59571 | BQ9: 670.56415 | BR9: 466.95998 | BS9: 381.87743 | BT9: 511.35435 | BU9: 404.25339 | BV9: 558.71818 | BW9: 657.40864 | BX9: 618.77989 | BY9: 598.73616 | BZ9: 630.26978 | CA9: 626.23317 | CB9: 537.63349 | CC9: 707.46728 | CD9: 419.51115 | CE9: 506.93261 | CF9: 575.63793 | CG9: 649.10823 | CH9: 632.10933
A10: incl. physical import | B10: sh füüsiline import | C10: 5.864609 | D10: 0.189285 | E10: 4.410409 | F10: 1.836926 | G10: 0.28845 | H10: 0 | I10: 0 | J10: 0.027877 | K10: 0.020847 | L10: 0 | M10: 1.813479 | N10: 1.33823 | O10: 4.259038 | P10: 2.46921 | Q10: 50.934026 | R10: 37.412684 | S10: 28.092576 | T10: 59.851571 | U10: 48.008097 | V10: 41.099975 | W10: 14.759048 | X10: 26.952122 | Y10: 34.026454 | Z10: 53.926207 | AA10: 25.082841 | AB10: 69.961034 | AC10: 124.41512 | AD10: 34.268745 | AE10: 72.74711 | AF10: 13.168487 | AG10: 0.3508 | AH10: 0 | AI10: 0.167811 | AJ10: 0.813735 | AK10: 1.525494 | AL10: 30.114246 | AM10: 4.360725 | AN10: 6.737949 | AO10: 3.136643 | AP10: 13.132551 | AQ10: 0.02469 | AR10: 2.228327 | AS10: 22.615959 | AT10: 18.690313 | AU10: 5.960739 | AV10: 13.214138 | AW10: 8.780464 | AX10: 25.542464 | AY10: 18.900416 | AZ10: 19.986241 | BA10: 0.255665 | BB10: 2.386407 | BC10: 44.871978 | BD10: 18.917784 | BE10: 0.527472 | BF10: 3.024302 | BG10: 16.112675 | BH10: 17.727556 | BI10: 8.941271 | BJ10: 131.71911 | BK10: 22.350241 | BL10: 120.22091 | BM10: 132.69235 | BN10: 97.074011 | BO10: 185.02698 | BP10: 283.62292 | BQ10: 289.25814 | BR10: 224.44928 | BS10: 180.89068 | BT10: 301.41419 | BU10: 250.92423 | BV10: 340.61181 | BW10: 394.05955 | BX10: 412.48505 | BY10: 391.40194 | BZ10: 384.46415 | CA10: 361.52573 | CB10: 246.80925 | CC10: 253.75145 | CD10: 102.60191 | CE10: 179.17995 | CF10: 255.67915 | CG10: 301.25489 | CH10: 366.47069
A11: incl. transit flow | B11: sh füüsiline transiit | C11: 466.16013 | D11: 433.82647 | E11: 369.73796 | F11: 393.87612 | G11: 306.85687 | H11: 198.58853 | I11: 225.23453 | J11: 232.69803 | K11: 252.10168 | L11: 253.17917 | M11: 271.91331 | N11: 343.9884 | O11: 433.51085 | P11: 312.12811 | Q11: 400.91229 | R11: 485.20451 | S11: 378.94864 | T11: 532.88662 | U11: 472.16592 | V11: 329.48842 | W11: 364.1756 | X11: 531.74029 | Y11: 350.19223 | Z11: 351.03983 | AA11: 326.36297 | AB11: 435.4834 | AC11: 455.38155 | AD11: 320.9679 | AE11: 389.76124 | AF11: 342.28502 | AG11: 268.60654 | AH11: 124.33674 | AI11: 135.90915 | AJ11: 94.306203 | AK11: 133.0948 | AL11: 172.73464 | AM11: 187.32686 | AN11: 177.90233 | AO11: 120.49262 | AP11: 128.5087 | AQ11: 102.64373 | AR11: 196.55737 | AS11: 257.59253 | AT11: 197.48749 | AU11: 147.33399 | AV11: 183.67552 | AW11: 216.67923 | AX11: 272.34855 | AY11: 223.13307 | AZ11: 251.18594 | BA11: 253.06124 | BB11: 143.07659 | BC11: 279.43752 | BD11: 292.52358 | BE11: 217.10723 | BF11: 216.70045 | BG11: 294.83629 | BH11: 363.34988 | BI11: 330.31679 | BJ11: 336.54487 | BK11: 288.24348 | BL11: 289.45054 | BM11: 242.57247 | BN11: 323.70892 | BO11: 304.0095 | BP11: 332.97279 | BQ11: 381.30601 | BR11: 242.5107 | BS11: 200.98676 | BT11: 209.94016 | BU11: 153.32917 | BV11: 218.10638 | BW11: 263.34909 | BX11: 206.29484 | BY11: 207.33421 | BZ11: 245.80564 | CA11: 264.70745 | CB11: 290.82424 | CC11: 453.71579 | CD11: 316.90924 | CE11: 327.70931 | CF11: 319.95879 | CG11: 347.85335 | CH11: 265.63864
A12: Total electricity withdrawn from the network | B12: Võrku läbinud | C12: 1411.0657 | D12: 1299.1118 | E12: 1235.8286 | F12: 1202.7466 | G12: 1198.1123 | H12: 1134.2389 | I12: 1143.5612 | J12: 1087.0559 | K12: 1126.177 | L12: 1228.7228 | M12: 1226.4412 | N12: 1375.7619 | O12: 1431.5562 | P12: 1261.9887 | Q12: 1195.307 | R12: 1210.1116 | S12: 1171.2688 | T12: 1130.9192 | U12: 1090.5893 | V12: 1045.5041 | W12: 1176.5459 | X12: 1338.4815 | Y12: 1159.19 | Z12: 1195.0113 | AA12: 1440.0302 | AB12: 1249.3158 | AC12: 1252.1315 | AD12: 1095.9381 | AE12: 1074.3078 | AF12: 1019.611 | AG12: 1103.079 | AH12: 1130.2723 | AI12: 1106.0602 | AJ12: 1161.54 | AK12: 1216.3706 | AL12: 1145.3022 | AM12: 1333.841 | AN12: 1176.912 | AO12: 1162.7509 | AP12: 1031.3139 | AQ12: 1120.3794 | AR12: 1072.9094 | AS12: 1049.1574 | AT12: 1068.6336 | AU12: 980.35191 | AV12: 1168.1107 | AW12: 1205.5312 | AX12: 1177.5161 | AY12: 1262.3244 | AZ12: 1213.1435 | BA12: 1394.3542 | BB12: 1143.1886 | BC12: 1035.1805 | BD12: 1007.5879 | BE12: 1039.9414 | BF12: 1155.5493 | BG12: 1126.5905 | BH12: 1195.6051 | BI12: 1277.1188 | BJ12: 1217.2358 | BK12: 1355.8467 | BL12: 1100.3301 | BM12: 1052.7573 | BN12: 1019.5706 | BO12: 979.91594 | BP12: 928.96181 | BQ12: 977.85101 | BR12: 869.61037 | BS12: 844.05518 | BT12: 950.98168 | BU12: 970.00958 | BV12: 1013.011 | BW12: 1068.0055 | BX12: 986.80263 | BY12: 988.39802 | BZ12: 922.87942 | CA12: 908.33639 | CB12: 874.04411 | CC12: 1044.1501 | CD12: 947.54487 | CE12: 971.7926 | CF12: 1035.1929 | CG12: 1099.7934 | CH12: 1116.2346
... A16: incl. transit flow | B16: sh füüsiline transiit | C16: 466.16013 | D16: 433.82647 | E16: 369.73796 | F16: 393.87612 | G16: 306.85687 | H16: 198.58853 | I16: 225.23453 | J16: 232.69803 | K16: 252.10168 | L16: 253.17917 | M16: 271.91331 | N16: 343.9884 | O16: 433.51085 | P16: 312.12811 | Q16: 400.91229 | R16: 485.20451 | S16: 378.94864 | T16: 532.88662 | U16: 472.16592 | V16: 329.48842 | W16: 364.1756 | X16: 531.74029 | Y16: 350.19223 | Z16: 351.03983 | AA16: 326.36297 | AB16: 435.4834 | AC16: 455.38155 | AD16: 320.9679 | AE16: 389.76124 | AF16: 342.28502 | AG16: 268.60654 | AH16: 124.33674 | AI16: 135.90915 | AJ16: 94.306203 | AK16: 133.0948 | AL16: 172.73464 | AM16: 187.32686 | AN16: 177.90233 | AO16: 120.49262 | AP16: 128.5087 | AQ16: 102.64373 | AR16: 196.55737 | AS16: 257.59253 | AT16: 197.48749 | AU16: 147.33399 | AV16: 183.67552 | AW16: 216.67923 | AX16: 272.34855 | AY16: 223.13307 | AZ16: 251.18594 | BA16: 253.06124 | BB16: 143.07659 | BC16: 279.43752 | BD16: 292.52358 | BE16: 217.10723 | BF16: 216.70045 | BG16: 294.83629 | BH16: 363.34988 | BI16: 330.31679 | BJ16: 336.54487 | BK16: 288.24348 | BL16: 289.45054 | BM16: 242.57247 | BN16: 323.70892 | BO16: 304.0095 | BP16: 332.97279 | BQ16: 381.30601 | BR16: 242.5107 | BS16: 200.98676 | BT16: 209.94016 | BU16: 153.32917 | BV16: 218.10638 | BW16: 263.34909 | BX16: 206.29484 | BY16: 207.33421 | BZ16: 245.80564 | CA16: 264.70745 | CB16: 290.82424 | CC16: 453.71579 | CD16: 316.90924 | CE16: 327.70931 | CF16: 319.95879 | CG16: 347.85335 | CH16: 265.63864
A17: Balance | B17: Bilanss | C17: =C3-C13 -> 81.340443 | D17: =D3-D13 -> 140.94683 | E17: =E3-E13 -> 136.78067 | F17: =F3-F13 -> 156.01047 | G17: =G3-G13 -> 271.24111 | H17: =H3-H13 -> 374.75087 | I17: =I3-I13 -> 351.13656 | J17: =J3-J13 -> 266.5361 | ... CH17: =CH3-CH13 -> -366.43538
B19: Taastuvenergia osakaal tarbimisest | C19: =C4/(C3*9.5%+C13) -> 0.11531348 | D19: =D4/(D3*9.5%+D13) -> 0.13515338 | E19: =E4/(E3*9.5%+E13) -> 0.15859627 | F19: =F4/(F3*9.5%+F13) -> 0.14974542 | G19: =G4/(G3*9.5%+G13) -> 0.12520774 | H19: =H4/(H3*9.5%+H13) -> 0.1508532 | I19: =I4/(I3*9.5%+I13) -> 0.12977102 | J19: =J4/(J3*9.5%+J13) -> 0.16399671 | ... CH19: =CH4/(CH3*9.5%+CH13) -> 0.20085592
B21: Sisemaine tootmine | O21: =O3/C3-1 -> 0.058299239 | P21: =P3/D3-1 -> 0.095128482 | Q21: =Q3/E3-1 -> -0.1371965 | R21: =R3/F3-1 -> -0.14812167 | S21: =S3/G3-1 -> -0.14224922 | T21: =T3/H3-1 -> -0.42480542 | U21: =U3/I3-1 -> -0.37885361 | V21: =V3/J3-1 -> -0.21000584 | ... CH21: =CH3/BV3-1 -> 0.065668032
B22: Taastuvenergia | O22: =O4/C4-1 -> 0.45803571 | P22: =P4/D4-1 -> 0.23939892 | Q22: =Q4/E4-1 -> 0.15886702 | R22: =R4/F4-1 -> 0.22433392 | S22: =S4/G4-1 -> 0.27332256 | T22: =T4/H4-1 -> 0.0821177 | U22: =U4/I4-1 -> -0.025131995 | V22: =V4/J4-1 -> -0.11307134 | ... CH22: =CH4/BV4-1 -> -0.0058669563
B23: sh tuuleenergia | O23: =O5/C5-1 -> 0.89767549 | P23: =P5/D5-1 -> 0.38213226 | Q23: =Q5/E5-1 -> 0.14725647 | R23: =R5/F5-1 -> 0.30738626 | S23: =S5/G5-1 -> 0.26449914 | T23: =T5/H5-1 -> 0.53251775 | U23: =U5/I5-1 -> 0.38683212 | V23: =V5/J5-1 -> -0.29750492 | ... CH23: =CH5/BV5-1 -> -0.10852129
B24: sh hüdroenergia | O24: =O6/C6-1 -> 0.13070008 | P24: =P6/D6-1 -> 0.35284778 | Q24: =Q6/E6-1 -> 0.20928031 | R24: =R6/F6-1 -> 0.27180301 | S24: =S6/G6-1 -> 0.078750114 | T24: =T6/H6-1 -> -0.54116537 | U24: =U6/I6-1 -> -0.53596264 | V24: =V6/J6-1 -> -0.565396 | ... CH24: =CH6/BV6-1 -> 0.5997605
B25: sh biomass, biogaas | O25: =O7/C7-1 -> 0.13566983 | P25: =P7/D7-1 -> 0.10615261 | Q25: =Q7/E7-1 -> 0.16792626 | R25: =R7/F7-1 -> 0.16192135 | S25: =S7/G7-1 -> 0.28774106 | T25: =T7/H7-1 -> -0.13676272 | U25: =U7/I7-1 -> -0.24410763 | V25: =V7/J7-1 -> 0.0080158798 | ... CH25: =CH7/BV7-1 -> 0.078995487
B26: Mittetaastuv | O26: =O8/C8-1 -> 0.0057019995 | P26: =P8/D8-1 -> 0.074334884 | Q26: =Q8/E8-1 -> -0.18882444 | R26: =R8/F8-1 -> -0.20626224 | S26: =S8/G8-1 -> -0.18790366 | T26: =T8/H8-1 -> -0.48412744 | U26: =U8/I8-1 -> -0.41489899 | V26: =V8/J8-1 -> -0.22428734 | ... CH26: =CH8/BV8-1 -> 0.11310641
B27: Sisemaine tarbimine | O27: =O13/C13-1 -> -0.049286679 | P27: =P13/D13-1 -> -0.0077160172 | Q27: =Q13/E13-1 -> 0.027280938 | R27: =R13/F13-1 -> 0.042503836 | S27: =S13/G13-1 -> 0.023258426 | T27: =T13/H13-1 -> 0.021568129 | U27: =U13/I13-1 -> 0.010277027 | V27: =V13/J13-1 -> 0.0088308069 | ... CH27: =CH13/BV13-1 -> 0.070016052
B29: Baltikumi elektribilanss, GWh | C29: 41640 | D29: 41671 | E29: 41699 | F29: 41730 | G29: 41760 | H29: 41791 | I29: 41821 | J29: 41852 | K29: 41883 | L29: 41913 | M29: 41944 | N29: 41974 | O29: 42005 | P29: 42036 | Q29: 42064 | R29: 42095 | S29: 42125 | T29: 42156 | U29: 42186 | V29: 42217 | W29: 42248 | X29: 42278 | Y29: 42309 | Z29: 42339 | AA29: 42370 | AB29: 42401 | AC29: 42430 | AD29: 42461 | AE29: 42491 | AF29: 42522 | AG29: 42552 | AH29: 42583 | AI29: 42614 | AJ29: 42644 | AK29: 42675 | AL29: 42705 | AM29: 42736 | AN29: 42767 | AO29: 42795 | AP29: 42826 | AQ29: 42856 | AR29: 42887 | AS29: 42917 | AT29: 42948 | AU29: 42979 | AV29: 43009 | AW29: 43040 | AX29: 43070 | AY29: 43101 | AZ29: 43132 | BA29: 43160 | BB29: 43191 | BC29: 43221 | BD29: 43252 | BE29: 43282 | BF29: 43313 | BG29: 43344 | BH29: 43374 | BI29: 43405 | BJ29: 43435 | BK29: 43466 | BL29: 43497 | BM29: 43525 | BN29: 43556 | BO29: 43586 | BP29: 43617 | BQ29: 43647 | BR29: 43678 | BS29: 43709 | BT29: 43739 | BU29: 43770 | BV29: 43800 | BW29: 43831 | BX29: 43862 | BY29: 43891 | BZ29: 43922 | CA29: 43952 | CB29: 43983 | CC29: 44013 | CD29: 44044 | CE29: 44075 | CF29: 44105 | CG29: 44136 | CH29: 44166
B30: Tootmine Eestis | C30: =C3 -> 939.04095 | D30: =D3 -> 865.09609 | E30: =E3 -> 861.68021 | F30: =F3 -> 807.03357 | G30: =G3 -> 890.96699 | H30: =H3 -> 935.65034 | I30: =I3 -> 918.32671 | J30: =J3 -> 854.32996 | ... CH30: =CH3 -> 484.12529
B31: Tootmine Lätis | C31: 594.40696 | D31: 489.13662 | E31: 505.2732 | F31: 533.32499 | G31: 401.71834 | H31: 274.72509 | I31: 293.53103 | J31: 294.40114 | K31: 234.42123 | L31: 433.00182 | M31: 430.51258 | N31: 441.59638 | O31: 439.10425 | P31: 388.60796 | Q31: 608.11508 | R31: 574.53421 | S31: 386.76581 | T31: 279.03842 | U31: 303.55181 | V31: 421.78267 | W31: 338.80469 | X31: 481.95762 | Y31: 571.15223 | Z31: 528.99944 | AA31: 642.92032 | AB31: 440.52435 | AC31: 577.92215 | AD31: 595.26371 | AE31: 528.31959 | AF31: 414.17598 | AG31: 330.264 | AH31: 354.31202 | AI31: 266.10568 | AJ31: 525.0736 | AK31: 814.51651 | AL31: 727.58272 | AM31: 739.68237 | AN31: 596.99442 | AO31: 948.57826 | AP31: 735.46 | AQ31: 581.11607 | AR31: 361.51 | AS31: 360.466 | AT31: 391.178 | AU31: 526.167 | AV31: 618.19 | AW31: 725.053 | AX31: 719.098 | AY31: 876.823 | AZ31: 716.196 | BA31: 723.588 | BB31: 816.677 | BC31: 431.337 | BD31: 299.3 | BE31: 373.756 | BF31: 444.315 | BG31: 376.652 | BH31: 383.518 | BI31: 487.85 | BJ31: 524.195 | BK31: 592.395 | BL31: 466.164 | BM31: 679.053 | BN31: 497.655 | BO31: 419.228 | BP31: 408.017 | BQ31: 354.092 | BR31: 522.215 | BS31: 544.817 | BT31: 503.934 | BU31: 580.625 | BV31: 551.994 | BW31: 623.65 | BX31: 597.865 | BY31: 670.704 | BZ31: 376.197 | CA31: 437.749 | CB31: 475.485 | CC31: 253.167 | CD31: 389.349 | CE31: 334.009 | CF31: 326.407 | CG31: 452.496 | CH31: 502.391
B32: Tootmine Leedus | C32: 304.85888 | D32: 236.89263 | E32: 227.61889 | F32: 128.25952 | G32: 137.36032 | H32: 216.88982 | I32: 336.04483 | J32: 312.66815 | K32: 337.25712 | L32: 243.1139 | M32: 217.7584 | N32: 282.50936 | O32: 270.45375 | P32: 230.00628 | Q32: 243.00924 | R32: 236.20631 | S32: 297.30612 | T32: 296.85377 | U32: 302.72509 | V32: 278.94248 | W32: 298.06698 | X32: 251.5516 | Y32: 236.10923 | Z32: 327.31978 | AA32: 259.189 | AB32: 228.07 | AC32: 179.225 | AD32: 169.669 | AE32: 165.16 | AF32: 243.155 | AG32: 170.247 | AH32: 181.336 | AI32: 224.807 | AJ32: 217.336 | AK32: 328.785 | AL32: 292.943 | AM32: 202.406 | AN32: 205.716 | AO32: 203.29 | AP32: 182.595 | AQ32: 193.59134 | AR32: 201.274 | AS32: 161.796 | AT32: 197.623 | AU32: 206.637 | AV32: 258.166 | AW32: 226.713 | AX32: 243.602 | AY32: 356.548 | AZ32: 251.494 | BA32: 303.507 | BB32: 314.671 | BC32: 267.447 | BD32: 205.137 | BE32: 185.606 | BF32: 267.426 | BG32: 300.374 | BH32: 336.55 | BI32: 216.206 | BJ32: 242.165 | BK32: 317.241 | BL32: 314.967 | BM32: 358.581 | BN32: 294.742 | BO32: 280.301 | BP32: 255.123 | BQ32: 299.762 | BR32: 259.779 | BS32: 323.751 | BT32: 305.641 | BU32: 277.897 | BV32: 347.526 | BW32: 383.77 | BX32: 426.3 | BY32: 359.58 | BZ32: 334.189 | CA32: 366.439 | CB32: 426.199 | CC32: 464.055 | CD32: 451.994 | CE32: 481.31 | CF32: 395.338 | CG32: 425.109 | CH32: 482.978
B33: Kokku | C33: =SUM(C30:C32) -> 1838.3068 | D33: =SUM(D30:D32) -> 1591.1253 | E33: =SUM(E30:E32) -> 1594.5723 | F33: =SUM(F30:F32) -> 1468.6181 | G33: =SUM(G30:G32) -> 1430.0456 | H33: =SUM(H30:H32) -> 1427.2653 | I33: =SUM(I30:I32) -> 1547.9026 | J33: =SUM(J30:J32) -> 1461.3993 | ... CH33: =SUM(CH30:CH32) -> 1469.4943
B34: Tarbimine Eestis | C34: =C13 -> 857.70051 | D34: =D13 -> 724.14925 | E34: =E13 -> 724.89953 | F34: =F13 -> 651.02309 | G34: =G13 -> 619.72588 | H34: =H13 -> 560.89947 | I34: =I13 -> 567.19015 | J34: =J13 -> 587.79386 | ... CH34: =CH13 -> 850.56067
B35: Tarbimine Lätis | C35: 725.53364 | D35: 626.70218 | E35: 629.30559 | F35: 558.25538 | G35: 547.04 | H35: 510.31754 | I35: 552.61576 | J35: 554.6592 | K35: 550.1055 | L35: 620.86733 | M35: 628.76375 | N35: 681.04601 | O35: 679.99592 | P35: 605.24753 | Q35: 630.4987 | R35: 580.25967 | S35: 554.39111 | T35: 510.85598 | U35: 537.91774 | V35: 556.48102 | W35: 552.44688 | X35: 614.82722 | Y35: 616.23812 | Z35: 646.69423 | AA35: 724.86334 | AB35: 620.3649 | AC35: 640.37351 | AD35: 576.68596 | AE35: 557.5625 | AF35: 526.04404 | AG35: 540.611 | AH35: 558.92194 | AI35: 550.44234 | AJ35: 615.91032 | AK35: 647.01138 | AL35: 665.25331 | AM35: 695.04173 | AN35: 621.81278 | AO35: 645.62902 | AP35: 575.261 | AQ35: 567.76678 | AR35: 524.555 | AS35: 536.122 | AT35: 567.136 | AU35: 565.365 | AV35: 631.466 | AW35: 638.768 | AX35: 658.815 | AY35: 691.686 | AZ35: 644.592 | BA35: 675.107 | BB35: 577.536 | BC35: 569.807 | BD35: 541.775 | BE35: 569.385 | BF35: 583.925 | BG35: 554.723 | BH35: 620.625 | BI35: 637.336 | BJ35: 678.918 | BK35: 697.001 | BL35: 610.72 | BM35: 643.287 | BN35: 577.509 | BO35: 579.082 | BP35: 551.763 | BQ35: 551.98 | BR35: 575.755 | BS35: 562.067 | BT35: 611.299 | BU35: 622.086 | BV35: 643.864 | BW35: 655.181 | BX35: 614.215 | BY35: 625.92 | BZ35: 553.255 | CA35: 547.572 | CB35: 527.408 | CC35: 545.409 | CD35: 561.778 | CE35: 558.403 | CF35: 610.668 | CG35: 606.013 | CH35: 653.253
B36: Tarbimine Leedus | C36: 980.95231 | D36: 851.17588 | E36: 840.9355 | F36: 798.50277 | G36: 828.77194 | H36: 788.69783 | I36: 875.5875 | J36: 872.21561 | K36: 879.14305 | L36: 935.94286 | M36: 953.91726 | N36: 1012.2567 | O36: 971.74313 | P36: 855.92093 | Q36: 866.2349 | R36: 824.87703 | S36: 823.52436 | T36: 807.7118 | U36: 833.18658 | V36: 850.28286 | W36: 873.99158 | X36: 907.96909 | Y36: 921.20738 | Z36: 907.88258 | AA36: 962.781 | AB36: 820.838 | AC36: 865.642 | AD36: 785.879 | AE36: 783.498 | AF36: 771.91 | AG36: 795.853 | AH36: 838.847 | AI36: 800.68 | AJ36: 875.62 | AK36: 891.49 | AL36: 921.24 | AM36: 1046.1602 | AN36: 917.1891 | AO36: 904.65245 | AP36: 845.00843 | AQ36: 866.8672 | AR36: 862.76313 | AS36: 862.13464 | AT36: 954.36501 | AU36: 927.35114 | AV36: 971.79372 | AW36: 971.62023 | AX36: 1017.5607 | AY36: 1194.2404 | AZ36: 1086.6842 | BA36: 1144.1931 | BB36: 940.85395 | BC36: 1028.2053 | BD36: 976.42452 | BE36: 993.17402 | BF36: 1040.5299 | BG36: 1041.1859 | BH36: 1152.8207 | BI36: 1115.508 | BJ36: 1171.5625 | BK36: 1223.2226 | BL36: 1019.2121 | BM36: 1082.4568 | BN36: 988.44131 | BO36: 1043.3554 | BP36: 1040.6081 | BQ36: 1069.8386 | BR36: 1092.0626 | BS36: 1068.7293 | BT36: 1112.8809 | BU36: 1088.3466 | BV36: 1152.4486 | BW36: 1168.7745 | BX36: 1122.0496 | BY36: 1120.5855 | BZ36: 946.09398 | CA36: 977.3887 | CB36: 995.00229 | CC36: 1012.2354 | CD36: 1062.5005 | CE36: 1047.9808 | CF36: 1089.9648 | CG36: 1150.473 | CH36: 1214.5649
B37: Kokku | C37: =SUM(C34:C36) -> 2564.1865 | D37: =SUM(D34:D36) -> 2202.0273 | E37: =SUM(E34:E36) -> 2195.1406 | F37: =SUM(F34:F36) -> 2007.7812 | G37: =SUM(G34:G36) -> 1995.5378 | H37: =SUM(H34:H36) -> 1859.9148 | I37: =SUM(I34:I36) -> 1995.3934 | J37: =SUM(J34:J36) -> 2014.6687 | ... CH37: =SUM(CH34:CH36) -> 2718.3786
B38: Eesti saldo | C38: =C30-C34 -> 81.340443 | D38: =D30-D34 -> 140.94683 | E38: =E30-E34 -> 136.78067 | F38: =F30-F34 -> 156.01047 | G38: =G30-G34 -> 271.24111 | H38: =H30-H34 -> 374.75087 | I38: =I30-I34 -> 351.13656 | J38: =J30-J34 -> 266.5361 | ... CH38: =CH30-CH34 -> -366.43538
B39: Läti saldo | C39: =C31-C35 -> -131.12668 | D39: =D31-D35 -> -137.56556 | E39: =E31-E35 -> -124.03239 | F39: =F31-F35 -> -24.930385 | G39: =G31-G35 -> -145.32166 | H39: =H31-H35 -> -235.59245 | I39: =I31-I35 -> -259.08473 | J39: =J31-J35 -> -260.25806 | ... CH39: =CH31-CH35 -> -150.862
B40: Leedu saldo | C40: =C32-C36 -> -676.09343 | D40: =D32-D36 -> -614.28325 | E40: =E32-E36 -> -613.31661 | F40: =F32-F36 -> -670.24324 | G40: =G32-G36 -> -691.41162 | H40: =H32-H36 -> -571.80801 | I40: =I32-I36 -> -539.54267 | J40: =J32-J36 -> -559.54746 | ... CH40: =CH32-CH36 -> -731.58694
B41: Saldo Kokku | C41: =C33-C37 -> -725.87966 | D41: =D33-D37 -> -610.90198 | E41: =E33-E37 -> -600.56833 | F41: =F33-F37 -> -539.16316 | G41: =G33-G37 -> -565.49217 | H41: =H33-H37 -> -432.64959 | I41: =I33-I37 -> -447.49083 | J41: =J33-J37 -> -553.26942 | ... CH41: =CH33-CH37 -> -1248.8843
B43: Tootmine Eestis | O43: =O30/C30-1 -> 0.058299239 | P43: =P30/D30-1 -> 0.095128482 | Q43: =Q30/E30-1 -> -0.1371965 | R43: =R30/F30-1 -> -0.14812167 | S43: =S30/G30-1 -> -0.14224922 | T43: =T30/H30-1 -> -0.42480542 | U43: =U30/I30-1 -> -0.37885361 | V43: =V30/J30-1 -> -0.21000584 | ... CH43: =CH30/BV30-1 -> 0.065668032
B44: Tootmine Lätis | O44: =O31/C31-1 -> -0.26127337 | P44: =P31/D31-1 -> -0.20552266 | Q44: =Q31/E31-1 -> 0.20353718 | R44: =R31/F31-1 -> 0.077268494 | S44: =S31/G31-1 -> -0.037221433 | T44: =T31/H31-1 -> 0.015700523 | U44: =U31/I31-1 -> 0.03413874 | V44: =V31/J31-1 -> 0.43268013 | ... CH44: =CH31/BV31-1 -> -0.089861484
B45: Tootmine Leedus | O45: =O32/C32-1 -> -0.11285592 | P45: =P32/D32-1 -> -0.029069486 | Q45: =Q32/E32-1 -> 0.067614568 | R45: =R32/F32-1 -> 0.84162784 | S45: =S32/G32-1 -> 1.164425 | T45: =T32/H32-1 -> 0.36868463 | U45: =U32/I32-1 -> -0.099152663 | V45: =V32/J32-1 -> -0.1078641 | ... CH45: =CH32/BV32-1 -> 0.38976077
B46: Kokku | O46: =O33/C33-1 -> -0.073416726 | P46: =P33/D33-1 -> -0.015787396 | Q46: =Q33/E33-1 -> 7.9800505e-06 | R46: =R33/F33-1 -> 0.02016647 | S46: =S33/G33-1 -> 0.012764561 | T46: =T33/H33-1 -> -0.21943508 | U46: =U33/I33-1 -> -0.23981506 | V46: =V33/J33-1 -> -0.058682405 | ... CH46: =CH33/BV33-1 -> 0.085448678
B47: Tarbimine Eestis | O47: =O34/C34-1 -> -0.049286679 | P47: =P34/D34-1 -> -0.0077160172 | Q47: =Q34/E34-1 -> 0.027280938 | R47: =R34/F34-1 -> 0.042503836 | S47: =S34/G34-1 -> 0.023258426 | T47: =T34/H34-1 -> 0.021568129 | U47: =U34/I34-1 -> 0.010277027 | V47: =V34/J34-1 -> 0.0088308069 | ... CH47: =CH34/BV34-1 -> 0.070016052
B48: Tarbimine Lätis | O48: =O35/C35-1 -> -0.062764451 | P48: =P35/D35-1 -> -0.034234207 | Q48: =Q35/E35-1 -> 0.0018959242 | R48: =R35/F35-1 -> 0.039416182 | S48: =S35/G35-1 -> 0.013437984 | T48: =T35/H35-1 -> 0.0010551026 | U48: =U35/I35-1 -> -0.026597187 | V48: =V35/J35-1 -> 0.0032845757 | ... CH48: =CH35/BV35-1 -> 0.014582272
B49: Tarbimine Leedus | O49: =O36/C36-1 -> -0.0093879959 | P49: =P36/D36-1 -> 0.0055747009 | Q49: =Q36/E36-1 -> 0.030084827 | R49: =R36/F36-1 -> 0.033029648 | S49: =S36/G36-1 -> -0.0063317455 | T49: =T36/H36-1 -> 0.024108053 | U49: =U36/I36-1 -> -0.048425676 | V49: =V36/J36-1 -> -0.025146024 | ... CH49: =CH36/BV36-1 -> 0.053899473
B50: Kokku | O50: =O37/C37-1 -> -0.037836604 | P50: =P37/D37-1 -> -0.010125737 | Q50: =Q37/E37-1 -> 0.021077672 | R50: =R37/F37-1 -> 0.037877403 | S50: =S37/G37-1 -> 0.0082771622 | T50: =T37/H37-1 -> 0.017016886 | U50: =U37/I37-1 -> -0.025694137 | V50: =V37/J37-1 -> -0.0074058036 | ... CH50: =CH37/BV37-1 -> 0.049074023
B52: Põhjamaade elektribilanss, GWh | C52: 41640 | D52: 41671 | E52: 41699 | F52: 41730 | G52: 41760 | H52: 41791 | I52: 41821 | J52: 41852 | K52: 41883 | L52: 41913 | M52: 41944 | N52: 41974 | O52: 42005 | P52: 42036 | Q52: 42064 | R52: 42095 | S52: 42125 | T52: 42156 | U52: 42186 | V52: 42217 | W52: 42248 | X52: 42278 | Y52: 42309 | Z52: 42339 | AA52: 42370 | AB52: 42401 | AC52: 42430 | AD52: 42461 | AE52: 42491 | AF52: 42522 | AG52: 42552 | AH52: 42583 | AI52: 42614 | AJ52: 42644 | AK52: 42675 | AL52: 42705 | AM52: 42736 | AN52: 42767 | AO52: 42795 | AP52: 42826 | AQ52: 42856 | AR52: 42887 | AS52: 42917 | AT52: 42948 | AU52: 42979 | AV52: 43009 | AW52: 43040 | AX52: 43070 | AY52: 43101 | AZ52: 43132 | BA52: 43160 | BB52: 43191 | BC52: 43221 | BD52: 43252 | BE52: 43282 | BF52: 43313 | BG52: 43344 | BH52: 43374 | BI52: 43405 | BJ52: 43435 | BK52: 43466 | BL52: 43497 | BM52: 43525 | BN52: 43556 | BO52: 43586 | BP52: 43617 | BQ52: 43647 | BR52: 43678 | BS52: 43709 | BT52: 43739 | BU52: 43770 | BV52: 43800 | BW52: 43831 | BX52: 43862 | BY52: 43891 | BZ52: 43922 | CA52: 43952 | CB52: 43983 | CC52: 44013 | CD52: 44044 | CE52: 44075 | CF52: 44105 | CG52: 44136 | CH52: 44166
B53: Tootmine Norras | C53: 14671.76 | D53: 11868.973 | E53: 12262.42 | F53: 11487.09 | G53: 11070.779 | H53: 10376.4 | I53: 10228.065 | J53: 9825.466 | K53: 10552.998 | L53: 11741.681 | M53: 13062.531 | N53: 14430.572 | O53: 14794.161 | P53: 12893.355 | Q53: 13175.532 | R53: 10992.884 | S53: 10850.073 | T53: 10767.245 | U53: 9554.242 | V53: 10358.506 | W53: 11056.36 | X53: 11961.258 | Y53: 13105.895 | Z53: 13865.77 | AA53: 16433.821 | AB53: 14120.587 | AC53: 14383.087 | AD53: 11700.034 | AE53: 11254.757 | AF53: 10829.795 | AG53: 10036.568 | AH53: 10185.494 | AI53: 10519.199 | AJ53: 12099.064 | AK53: 13162.091 | AL53: 14072.541 | AM53: 15313.037 | AN53: 13184.151 | AO53: 12835.646 | AP53: 11535.399 | AQ53: 11093.402 | AR53: 10652.41 | AS53: 10420.581 | AT53: 10976.816 | AU53: 11278.599 | AV53: 12343.666 | AW53: 13731.648 | AX53: 14830.873 | AY53: 15634.773 | AZ53: 14813.537 | BA53: 14099.103 | BB53: 10489.439 | BC53: 9903.61 | BD53: 9565.489 | BE53: 9338.58 | BF53: 10446.533 | BG53: 10927.932 | BH53: 13035.991 | BI53: 13646.71 | BJ53: 13797.741 | BK53: 14689.886 | BL53: 11728.248 | BM53: 11309.429 | BN53: 9906.167 | BO53: 9642.419 | BP53: 9032.686 | BQ53: 9635.314 | BR53: 9987.394 | BS53: 10759.327 | BT53: 11482.359 | BU53: 12875.37 | BV53: 12333.964 | BW53: 13255.713 | BX53: 12932.117 | BY53: 14248.651 | BZ53: 12576.421 | CA53: 12071.655 | CB53: 10199.779 | CC53: 11005.245 | CD53: 11587.86 | CE53: 12008.909 | CF53: 13870.076 | CG53: 13338.446 | CH53: 16234.513
B54: Tootmine Rootsis | C54: 16177.073 | D54: 14660.409 | E54: 15647.323 | F54: 12835.912 | G54: 10730.239 | H54: 10126.191 | I54: 10315.348 | J54: 9733.611 | K54: 10008.947 | L54: 12246.302 | M54: 13149.801 | N54: 14531.78 | O54: 14977.811 | P54: 14317.34 | Q54: 14621.145 | R54: 13148.517 | S54: 12189.681 | T54: 11618.503 | U54: 12071.28 | V54: 12043.124 | W54: 11211.469 | X54: 13994.042 | Y54: 13338.214 | Z54: 14350.45 | AA54: 16447.559 | AB54: 15216.909 | AC54: 14838.778 | AD54: 13207.569 | AE54: 11523.656 | AF54: 9171.34 | AG54: 9742.721 | AH54: 10197.584 | AI54: 10806.119 | AJ54: 11998.622 | AK54: 12926.471 | AL54: 14334.481 | AM54: 16437.661 | AN54: 14530.007 | AO54: 15262.469 | AP54: 13610.202 | AQ54: 12279.508 | AR54: 10630.081 | AS54: 11220.198 | AT54: 10830.787 | AU54: 10793.222 | AV54: 12678.727 | AW54: 14567.61 | AX54: 15689.994 | AY54: 16190.394 | AZ54: 15185.192 | BA54: 15731.215 | BB54: 12845.752 | BC54: 12743.584 | BD54: 11261.118 | BE54: 9925.456 | BF54: 10187.12 | BG54: 10658.463 | BH54: 12830.592 | BI54: 13792.491 | BJ54: 15644.024 | BK54: 16146.003 | BL54: 14572.1 | BM54: 15507.958 | BN54: 13199.819 | BO54: 12644.848 | BP54: 12840.214 | BQ54: 11815.926 | BR54: 10641.996 | BS54: 11233.119 | BT54: 13791.547 | BU54: 14646.122 | BV54: 15653.497 | BW54: 16604.702 | BX54: 15423.136 | BY54: 16322.983 | BZ54: 13537.324 | CA54: 11936.884 | CB54: 10172.579 | CC54: 10804.267 | CD54: 10362.169 | CE54: 10924.498 | CF54: 12878.141 | CG54: 13889.923 | CH54: 14986.665
B55: Tootmine Soomes | C55: 7092.724 | D55: 5948.68 | E55: 5917.125 | F55: 5275.526 | G55: 5155.194 | H55: 4462.759 | I55: 4277.666 | J55: 4425.504 | K55: 4778 | L55: 5740.145 | M55: 5685.772 | N55: 6015.177 | O55: 6353.723 | P55: 5506.508 | Q55: 6083.677 | R55: 5433.204 | S55: 5093.147 | T55: 4917.174 | U55: 4719.608 | V55: 4524.531 | W55: 4801.994 | X55: 5865.451 | Y55: 5710.032 | Z55: 6228.514 | AA55: 7016.47 | AB55: 5992.581 | AC55: 6157.034 | AD55: 5479.904 | AE55: 4654.639 | AF55: 4330.813 | AG55: 4425.714 | AH55: 4615.091 | AI55: 4567.923 | AJ55: 5681.452 | AK55: 6203.758 | AL55: 6193.972 | AM55: 6497.572 | AN55: 5914.088 | AO55: 6267.382 | AP55: 5093.884 | AQ55: 4758.901 | AR55: 4141.189 | AS55: 4215.912 | AT55: 4248.129 | AU55: 4673.639 | AV55: 5415.754 | AW55: 5797.465 | AX55: 6315.574 | AY55: 6701.215 | AZ55: 6504.378 | BA55: 6981.195 | BB55: 5281.943 | BC55: 4695.051 | BD55: 4030.945 | BE55: 4494.66 | BF55: 4503.169 | BG55: 4749.854 | BH55: 5585.476 | BI55: 6138.367 | BJ55: 6579.087 | BK55: 6920.367 | BL55: 6048.019 | BM55: 6346.445 | BN55: 5301.514 | BO55: 4887.392 | BP55: 4456.702 | BQ55: 4504.538 | BR55: 4121.596 | BS55: 4243.986 | BT55: 5365.311 | BU55: 5545.765 | BV55: 6061.379 | BW55: 6261.975 | BX55: 5863.941 | BY55: 6329.189 | BZ55: 5463.868 | CA55: 4865.654 | CB55: 4380.08 | CC55: 4485.34 | CD55: 4211.97 | CE55: 4542.4 | CF55: 5224.208 | CG55: 6016.112 | CH55: 6098.9
B56: Tootmine Taanis | C56: 4122.372 | D56: 3122.923 | E56: 2742.845 | F56: 2371.947 | G56: 2063.656 | H56: 1718.35 | I56: 1691.213 | J56: 2278.515 | K56: 2027.156 | L56: 2550.833 | M56: 2768.188 | N56: 3291.185 | O56: 3421.391 | P56: 2895.467 | Q56: 2664.271 | R56: 2300.688 | S56: 2151.659 | T56: 1778.602 | U56: 1549.785 | V56: 1412.311 | W56: 1581.402 | X56: 1868.067 | Y56: 2421.547 | Z56: 2979.659 | AA56: 3234.262 | AB56: 2632.179 | AC56: 2463.216 | AD56: 2300.905 | AE56: 1697.767 | AF56: 1404.073 | AG56: 1629.065 | AH56: 1856.365 | AI56: 1563.128 | AJ56: 2625.698 | AK56: 2987.045 | AL56: 2945.284 | AM56: 2877.281 | AN56: 3006.508 | AO56: 2989.988 | AP56: 2588.43 | AQ56: 1930.57 | AR56: 1764.525 | AS56: 1476.27 | AT56: 1579.636 | AU56: 1660.772 | AV56: 2457.376 | AW56: 2606.485 | AX56: 3058.572 | AY56: 2988.811 | AZ56: 3061.53 | BA56: 3494.914 | BB56: 2533.933 | BC56: 1635.019 | BD56: 1494.39 | BE56: 1508.05 | BF56: 1643 | BG56: 2128.446 | BH56: 2546.358 | BI56: 2449.471 | BJ56: 3070.843 | BK56: 3365.418 | BL56: 2724.051 | BM56: 3148.032 | BN56: 2028.814 | BO56: 2253.436 | BP56: 1452.627 | BQ56: 1647.541 | BR56: 1459.915 | BS56: 1986.903 | BT56: 2170.506 | BU56: 2482.58 | BV56: 3170.071 | BW56: 3444.195 | BX56: 3138.059 | BY56: 2761.389 | BZ56: 2078.232 | CA56: 2104.696 | CB56: 1523.477 | CC56: 1921.673 | CD56: 1385.58 | CE56: 1765.591 | CF56: 2174.986 | CG56: 2312.635 | CH56: 2569.758
B57: Kokku | C57: =SUM(C53:C56) -> 42063.929 | D57: =SUM(D53:D56) -> 35600.985 | E57: =SUM(E53:E56) -> 36569.713 | F57: =SUM(F53:F56) -> 31970.475 | G57: =SUM(G53:G56) -> 29019.868 | H57: =SUM(H53:H56) -> 26683.7 | I57: =SUM(I53:I56) -> 26512.292 | J57: =SUM(J53:J56) -> 26263.096 | ... CH57: =SUM(CH53:CH56) -> 39889.836
B58: Tarbimine Norras | C58: 13949.644 | D58: 11669.59 | E58: 11950.736 | F58: 10161.54 | G58: 9386.777 | H58: 8264.632 | I58: 7876.265 | J58: 8311.596 | K58: 8801.246 | L58: 10508.366 | M58: 11587.988 | N58: 13407.458 | O58: 13589.398 | P58: 12111.63 | Q58: 12273.211 | R58: 10422.576 | S58: 9908.725 | T58: 8910.272 | U58: 8412.552 | V58: 8596.086 | W58: 9022.107 | X58: 10672.133 | Y58: 11765.793 | Z58: 12920.835 | AA58: 15116.565 | AB58: 13151.72 | AC58: 12678.552 | AD58: 11024.35 | AE58: 9600.148 | AF58: 8464.327 | AG58: 8208.456 | AH58: 8709 | AI58: 8635.059 | AJ58: 10997.705 | AK58: 12693.239 | AL58: 13054.847 | AM58: 13883.171 | AN58: 12611.753 | AO58: 12832.107 | AP58: 11042.49 | AQ58: 9761.291 | AR58: 8679.422 | AS58: 8420.631 | AT58: 8916.002 | AU58: 9176.918 | AV58: 10909.526 | AW58: 12607.731 | AX58: 14046.321 | AY58: 14516.141 | AZ58: 13432.543 | BA58: 14166.6 | BB58: 11143.514 | BC58: 9431.698 | BD58: 8707.038 | BE58: 8358.617 | BF58: 8886.409 | BG58: 9459.959 | BH58: 11355.748 | BI58: 12130.609 | BJ58: 13856.913 | BK58: 14550.492 | BL58: 12308.337 | BM58: 12987.131 | BN58: 10446.942 | BO58: 9890.347 | BP58: 8777.118 | BQ58: 8498.507 | BR58: 8702.716 | BS58: 9312.547 | BT58: 11416.371 | BU58: 13051.795 | BV58: 13535.551 | BW58: 13356.782 | BX58: 12785.894 | BY58: 13098.763 | BZ58: 10993.611 | CA58: 10226.528 | CB58: 8538.646 | CC58: 8774.669 | CD58: 9007.61 | CE58: 9476.485 | CF58: 11162.275 | CG58: 11893.076 | CH58: 13546.243
B59: Tarbimine Rootsis | C59: 14817.526 | D59: 12411.512 | E59: 12532.248 | F59: 10870.957 | G59: 10088.868 | H59: 9160.756 | I59: 8581.528 | J59: 9227.174 | K59: 9675.084 | L59: 11029.598 | M59: 11861.605 | N59: 13536.762 | O59: 14033.346 | P59: 12568.177 | Q59: 12805.15 | R59: 10973.074 | S59: 10358.612 | T59: 9629.687 | U59: 8937.097 | V59: 9414.25 | W59: 9775.171 | X59: 11428.029 | Y59: 12008.166 | Z59: 12999.558 | AA59: 15623.223 | AB59: 13628.079 | AC59: 13123.475 | AD59: 11408.652 | AE59: 9992.234 | AF59: 9123.238 | AG59: 8635.978 | AH59: 9258.075 | AI59: 9520.709 | AJ59: 11420.732 | AK59: 13000.888 | AL59: 13450.366 | AM59: 14944.208 | AN59: 13117.86 | AO59: 13283.456 | AP59: 11507.321 | AQ59: 10358.806 | AR59: 9201.998 | AS59: 8849.997 | AT59: 9394.857 | AU59: 9932.5 | AV59: 11130.399 | AW59: 12617.789 | AX59: 13776.586 | AY59: 14430.78 | AZ59: 13794.772 | BA59: 14388.399 | BB59: 11173.989 | BC59: 9887.21 | BD59: 9099.857 | BE59: 8779.809 | BF59: 9334.234 | BG59: 9719.87 | BH59: 11400.094 | BI59: 12412.229 | BJ59: 13794.46 | BK59: 15040.642 | BL59: 12654.365 | BM59: 13145.542 | BN59: 10945.392 | BO59: 10311.253 | BP59: 9111.803 | BQ59: 8852.551 | BR59: 9247.747 | BS59: 9748.661 | BT59: 11616.72 | BU59: 12575.313 | BV59: 13160.466 | BW59: 13358.092 | BX59: 12947.401 | BY59: 13273.556 | BZ59: 10908.494 | CA59: 10074.001 | CB59: 8914.272 | CC59: 8450.791 | CD59: 9245.76 | CE59: 9549.45 | CF59: 11145.221 | CG59: 11847.185 | CH59: 13218.7
B60: Tarbimine Soomes | C60: 8724.546 | D60: 7339.849 | E60: 7495.12 | F60: 6698.285 | G60: 6341.757 | H60: 5691.19 | I60: 5890.668 | J60: 6083.534 | K60: 6183 | L60: 7091.738 | M60: 7258.114 | N60: 7716.739 | O60: 8265.021 | P60: 7178.08 | Q60: 7487.422 | R60: 6605.998 | S60: 6151.708 | T60: 5781.552 | U60: 5941.527 | V60: 5992.214 | W60: 6126.756 | X60: 7061.645 | Y60: 7167.456 | Z60: 7556.085 | AA60: 9176.586 | AB60: 7518.538 | AC60: 7659.418 | AD60: 6757.715 | AE60: 6066.854 | AF60: 5689.906 | AG60: 5910.532 | AH60: 6164.633 | AI60: 6181.815 | AJ60: 7179.794 | AK60: 7705.643 | AL60: 7937.361 | AM60: 8394.621 | AN60: 7679.497 | AO60: 7797.595 | AP60: 6943.219 | AQ60: 6342.665 | AR60: 5738.132 | AS60: 5868.381 | AT60: 6139.871 | AU60: 6286.503 | AV60: 7096.18 | AW60: 7323.793 | AX60: 7792.909 | AY60: 8492.225 | AZ60: 8175.434 | BA60: 8565.833 | BB60: 6879.589 | BC60: 6136.374 | BD60: 5781.598 | BE60: 6073.151 | BF60: 6312.254 | BG60: 6330.523 | BH60: 7254.811 | BI60: 7517.81 | BJ60: 8270.485 | BK60: 9134.233 | BL60: 7669.431 | BM60: 8069.714 | BN60: 6647.743 | BO60: 6274.76 | BP60: 5566.558 | BQ60: 5868.207 | BR60: 6071.317 | BS60: 6170.149 | BT60: 7104.295 | BU60: 7440.559 | BV60: 7424.067 | BW60: 7552.152 | BX60: 7004.819 | BY60: 7593.571 | BZ60: 6585.343 | CA60: 5987.78 | CB60: 5347.647 | CC60: 5594.287 | CD60: 5748.079 | CE60: 5805.091 | CF60: 6628.547 | CG60: 6958.5 | CH60: 7547.342
B61: Tarbimine Taanis | C61: 3304.98 | D61: 2869.194 | E61: 2940.579 | F61: 2630.96 | G61: 2626.907 | H61: 2554.602 | I61: 2535.286 | J61: 2646.967 | K61: 2610.68 | L61: 2827.181 | M61: 2872.741 | N61: 3084.258 | O61: 3170.531 | P61: 2830.123 | Q61: 2939.808 | R61: 2628.098 | S61: 2598.622 | T61: 2489.506 | U61: 2443.915 | V61: 2607.561 | W61: 2605.292 | X61: 2795.433 | Y61: 2805.514 | Z61: 2893.723 | AA61: 3123.546 | AB61: 2841.295 | AC61: 2886.708 | AD61: 2624.903 | AE61: 2510.973 | AF61: 2526.021 | AG61: 2359.769 | AH61: 2552.747 | AI61: 2498.421 | AJ61: 2669.718 | AK61: 2843.279 | AL61: 2846.085 | AM61: 2998.894 | AN61: 2668.021 | AO61: 2875.345 | AP61: 2521.923 | AQ61: 2543.019 | AR61: 2463.274 | AS61: 2394.195 | AT61: 2601.153 | AU61: 2589.001 | AV61: 2810.169 | AW61: 2928.307 | AX61: 3046.838 | AY61: 3127.534 | AZ61: 2900.735 | BA61: 3166.898 | BB61: 2619.867 | BC61: 2666.136 | BD61: 2594.174 | BE61: 2564.602 | BF61: 2613.587 | BG61: 2563.116 | BH61: 2806.207 | BI61: 2939.563 | BJ61: 3010.214 | BK61: 3187.059 | BL61: 2766.445 | BM61: 2937.551 | BN61: 2587.909 | BO61: 2704.499 | BP61: 2542.867 | BQ61: 2562.253 | BR61: 2673.674 | BS61: 2630.167 | BT61: 2895.179 | BU61: 2980.378 | BV61: 3069.388 | BW61: 3141.156 | BX61: 2974.479 | BY61: 3023.753 | BZ61: 2635.744 | CA61: 2680.851 | CB61: 2630.213 | CC61: 2549.064 | CD61: 2761.45 | CE61: 2672.801 | CF61: 2928.98 | CG61: 2989.581 | CH61: 3098.386
B62: Kokku | C62: =SUM(C58:C61) -> 40796.696 | D62: =SUM(D58:D61) -> 34290.145 | E62: =SUM(E58:E61) -> 34918.683 | F62: =SUM(F58:F61) -> 30361.742 | G62: =SUM(G58:G61) -> 28444.309 | H62: =SUM(H58:H61) -> 25671.18 | I62: =SUM(I58:I61) -> 24883.747 | J62: =SUM(J58:J61) -> 26269.271 | ... CH62: =SUM(CH58:CH61) -> 37410.671
B63: Norra saldo | C63: =C53-C58 -> 722.116 | D63: =D53-D58 -> 199.383 | E63: =E53-E58 -> 311.684 | F63: =F53-F58 -> 1325.55 | G63: =G53-G58 -> 1684.002 | H63: =H53-H58 -> 2111.768 | I63: =I53-I58 -> 2351.8 | J63: =J53-J58 -> 1513.87 | ... CH63: =CH53-CH58 -> 2688.27
B64: Rootsi saldo | C64: =C54-C59 -> 1359.547 | D64: =D54-D59 -> 2248.897 | E64: =E54-E59 -> 3115.075 | F64: =F54-F59 -> 1964.955 | G64: =G54-G59 -> 641.371 | H64: =H54-H59 -> 965.435 | I64: =I54-I59 -> 1733.82 | J64: =J54-J59 -> 506.437 | ... CH64: =CH54-CH59 -> 1767.965
B65: Soome saldo | C65: =C55-C60 -> -1631.822 | D65: =D55-D60 -> -1391.169 | E65: =E55-E60 -> -1577.995 | F65: =F55-F60 -> -1422.759 | G65: =G55-G60 -> -1186.563 | H65: =H55-H60 -> -1228.431 | I65: =I55-I60 -> -1613.002 | J65: =J55-J60 -> -1658.03 | ... CH65: =CH55-CH60 -> -1448.442
B66: Taani saldo | C66: =C56-C61 -> 817.392 | D66: =D56-D61 -> 253.729 | E66: =E56-E61 -> -197.734 | F66: =F56-F61 -> -259.013 | G66: =G56-G61 -> -563.251 | H66: =H56-H61 -> -836.252 | I66: =I56-I61 -> -844.073 | J66: =J56-J61 -> -368.452 | ... CH66: =CH56-CH61 -> -528.628
B67: Saldo Kokku | C67: =C57-C62 -> 1267.233 | D67: =D57-D62 -> 1310.84 | E67: =E57-E62 -> 1651.03 | F67: =F57-F62 -> 1608.733 | G67: =G57-G62 -> 575.559 | H67: =H57-H62 -> 1012.52 | I67: =I57-I62 -> 1628.545 | J67: =J57-J62 -> -6.175 | ... CH67: =CH57-CH62 -> 2479.165
B69: Tootmine Norras | O69: =O53/C53-1 -> 0.0083426256 | P69: =P53/D53-1 -> 0.086307552 | Q69: =Q53/E53-1 -> 0.074464257 | R69: =R53/F53-1 -> -0.043022732 | S69: =S53/G53-1 -> -0.019935905 | T69: =T53/H53-1 -> 0.037666724 | U69: =U53/I53-1 -> -0.065879812 | V69: =V53/J53-1 -> 0.054250862 | ... CH69: =CH53/BV53-1 -> 0.31624456
B70: Tootmine Rootsis | O70: =O54/C54-1 -> -0.074133436 | P70: =P54/D54-1 -> -0.023401052 | Q70: =Q54/E54-1 -> -0.065581697 | R70: =R54/F54-1 -> 0.024353938 | S70: =S54/G54-1 -> 0.13601207 | T70: =T54/H54-1 -> 0.1473715 | U70: =U54/I54-1 -> 0.17022518 | V70: =V54/J54-1 -> 0.23727196 | ... CH70: =CH54/BV54-1 -> -0.042599555
B71: Tootmine Soomes | O71: =O55/C55-1 -> -0.10419142 | P71: =P55/D55-1 -> -0.074331112 | Q71: =Q55/E55-1 -> 0.028147453 | R71: =R55/F55-1 -> 0.029888584 | S71: =S55/G55-1 -> -0.012035823 | T71: =T55/H55-1 -> 0.10182378 | U71: =U55/I55-1 -> 0.10331382 | V71: =V55/J55-1 -> 0.022376434 | ... CH71: =CH55/BV55-1 -> 0.0061901755
B72: Tootmine Taanis | O72: =O56/C56-1 -> -0.17004312 | P72: =P56/D56-1 -> -0.072834329 | Q72: =Q56/E56-1 -> -0.028646898 | R72: =R56/F56-1 -> -0.030042408 | S72: =S56/G56-1 -> 0.04264422 | T72: =T56/H56-1 -> 0.035063869 | U72: =U56/I56-1 -> -0.083625185 | V72: =V56/J56-1 -> -0.38016164 | ... CH72: =CH56/BV56-1 -> -0.18936894
B73: Kokku | O73: =O57/C57-1 -> -0.059833759 | P73: =P57/D57-1 -> 0.00032822126 | Q73: =Q57/E57-1 -> -0.00068603218 | R73: =R57/F57-1 -> -0.0029771844 | S73: =S57/G57-1 -> 0.043580212 | T73: =T57/H57-1 -> 0.089861001 | U73: =U57/I57-1 -> 0.052150263 | V73: =V57/J57-1 -> 0.079022519 | ... CH73: =CH57/BV57-1 -> 0.071762578
B74: Tarbimine Norras | O74: =O58/C58-1 -> -0.025824745 | P74: =P58/D58-1 -> 0.037879651 | Q74: =Q58/E58-1 -> 0.026983694 | R74: =R58/F58-1 -> 0.025688626 | S74: =S58/G58-1 -> 0.055604602 | T74: =T58/H58-1 -> 0.078120841 | U74: =U58/I58-1 -> 0.068088999 | V74: =V58/J58-1 -> 0.034228083 | ... CH74: =CH58/BV58-1 -> 0.00078991982
B75: Tarbimine Rootsis | O75: =O59/C59-1 -> -0.052922465 | P75: =P59/D59-1 -> 0.012622556 | Q75: =Q59/E59-1 -> 0.021775981 | R75: =R59/F59-1 -> 0.0093935612 | S75: =S59/G59-1 -> 0.026736795 | T75: =T59/H59-1 -> 0.051189116 | U75: =U59/I59-1 -> 0.041434229 | V75: =V59/J59-1 -> 0.020274463 | ... CH75: =CH59/BV59-1 -> 0.0044249193
B76: Tarbimine Soomes | O76: =O60/C60-1 -> -0.052670362 | P76: =P60/D60-1 -> -0.022039827 | Q76: =Q60/E60-1 -> -0.0010270683 | R76: =R60/F60-1 -> -0.013777706 | S76: =S60/G60-1 -> -0.029967878 | T76: =T60/H60-1 -> 0.015877523 | U76: =U60/I60-1 -> 0.0086338256 | V76: =V60/J60-1 -> -0.015011012 | ... CH76: =CH60/BV60-1 -> 0.01660478
B77: Tarbimine Taanis | O77: =O61/C61-1 -> -0.04068073 | P77: =P61/D61-1 -> -0.013617413 | Q77: =Q61/E61-1 -> -0.00026219326 | R77: =R61/F61-1 -> -0.0010878159 | S77: =S61/G61-1 -> -0.010767416 | T77: =T61/H61-1 -> -0.025481856 | U77: =U61/I61-1 -> -0.036039721 | V77: =V61/J61-1 -> -0.014887228 | ... CH77: =CH61/BV61-1 -> 0.0094474859
B78: Kokku | O78: =O62/C62-1 -> -0.042611294 | P78: =P62/D62-1 -> 0.011602896 | Q78: =Q62/E62-1 -> 0.01680785 | R78: =R62/F62-1 -> 0.0088270298 | S78: =S62/G62-1 -> 0.020157213 | T78: =T62/H62-1 -> 0.044401426 | U78: =U62/I62-1 -> 0.034212854 | V78: =V62/J62-1 -> 0.012974856 | ... CH78: =CH62/BV62-1 -> 0.005947893
B80: Eesti elektrikaubandusbilanss, GWh | C80: 41640 | D80: 41671 | E80: 41699 | F80: 41730 | G80: 41760 | H80: 41791 | I80: 41821 | J80: 41852 | K80: 41883 | L80: 41913 | M80: 41944 | N80: 41974 | O80: 42005 | P80: 42036 | Q80: 42064 | R80: 42095 | S80: 42125 | T80: 42156 | U80: 42186 | V80: 42217 | W80: 42248 | X80: 42278 | Y80: 42309 | Z80: 42339 | AA80: 42370 | AB80: 42401 | AC80: 42430 | AD80: 42461 | AE80: 42491 | AF80: 42522 | AG80: 42552 | AH80: 42583 | AI80: 42614 | AJ80: 42644 | AK80: 42675 | AL80: 42705 | AM80: 42736 | AN80: 42767 | AO80: 42795 | AP80: 42826 | AQ80: 42856 | AR80: 42887 | AS80: 42917 | AT80: 42948 | AU80: 42979 | AV80: 43009 | AW80: 43040 | AX80: 43070 | AY80: 43101 | AZ80: 43132 | BA80: 43160 | BB80: 43191 | BC80: 43221 | BD80: 43252 | BE80: 43282 | BF80: 43313 | BG80: 43344 | BH80: 43374 | BI80: 43405 | BJ80: 43435 | BK80: 43466 | BL80: 43497 | BM80: 43525 | BN80: 43556 | BO80: 43586 | BP80: 43617 | BQ80: 43647 | BR80: 43678 | BS80: 43709 | BT80: 43739 | BU80: 43770 | BV80: 43800 | BW80: 43831 | BX80: 43862 | BY80: 43891 | BZ80: 43922 | CA80: 43952 | CB80: 43983 | CC80: 44013 | CD80: 44044 | CE80: 44075 | CF80: 44105 | CG80: 44136 | CH80: 44166
B81: Import kokku: | C81: 443.3529 | D81: 436.2118 | E81: 378.9691 | F81: 368.8424 | G81: 306.1374 | H81: 180.8293 | I81: 174.6761 | J81: 230.1004 | K81: 249.4744 | L81: 260.8366 | M81: 283.5014 | N81: 355.7169 | O81: 452.1885 | P81: 333.4998 | Q81: 471.996 | R81: 470.1105 | S81: 410.5119 | T81: 597.7739 | U81: 530.2296 | V81: 381.28 | W81: 342.1048 | X81: 475.0566 | Y81: 393.8954 | Z81: 414.4971 | AA81: 330.9029 | AB81: 525.2085 | AC81: 598.9719 | AD81: 341.3878 | AE81: 453.5979 | AF81: 345.712 | AG81: 212.2424 | AH81: 124.0124 | AI81: 134.036 | AJ81: 72.1688 | AK81: 96.3327 | AL81: 169.46 | AM81: 188.2325 | AN81: 186.6537 | AO81: 92.997 | AP81: 123.9541 | AQ81: 97.2711 | AR81: 199.2343 | AS81: 262.9847 | AT81: 185.1696 | AU81: 150.9259 | AV81: 191.5997 | AW81: 204.6428 | AX81: 225.7564 | AY81: 202.1723 | AZ81: 227.966 | BA81: 134.3894 | BB81: 107.9077 | BC81: 299.7733 | BD81: 280.4108 | BE81: 135.5436 | BF81: 153.9842 | BG81: 281.4921 | BH81: 363.1069 | BI81: 292.2326 | BJ81: 378.1265 | BK81: 214.4122 | BL81: 312.0837 | BM81: 256.3992 | BN81: 316.2362 | BO81: 447.6589 | BP81: 564.7664 | BQ81: 586.9017 | BR81: 374.9529 | BS81: 336.7365 | BT81: 503.869 | BU81: 345.1375 | BV81: 475.558 | BW81: 658.8661 | BX81: 623.6806 | BY81: 613.6687 | BZ81: 642.2053 | CA81: 656.5878 | CB81: 538.2834 | CC81: 732.7207 | CD81: 432.9701 | CE81: 506.7148 | CF81: 575.0902 | CG81: 656.3914 | CH81: 658.7162
B82: Import Lätist | C82: 11.5068 | D82: 3.0514 | E82: 5.7874 | F82: 2.1017 | G82: 3.2388 | H82: 1.4719 | I82: 3.4781 | J82: 0.8378 | K82: 2.9733 | L82: 4.971 | M82: 2.8215 | N82: 4.0542 | O82: 8.4668 | P82: 10.9216 | Q82: 13.0644 | R82: 2.1611 | S82: 2.3939 | T82: 1.3088 | U82: 0.8291 | V82: 2.3666 | W82: 4.3182 | X82: 2.2558 | Y82: 4.9978 | Z82: 6.6453 | AA82: 11.6809 | AB82: 11.7926 | AC82: 10.8829 | AD82: 22.2396 | AE82: 5.0107 | AF82: 8.7502 | AG82: 2.7173 | AH82: 16.0737 | AI82: 14.1906 | AJ82: 12.8256 | AK82: 79.5429 | AL82: 35.4446 | AM82: 25.6017 | AN82: 26.3773 | AO82: 54.7848 | AP82: 57.5881 | AQ82: 24.7818 | AR82: 9.3624 | AS82: 10.3988 | AT82: 9.9116 | AU82: 18.2156 | AV82: 27.2603 | AW82: 26.5921 | AX82: 23.827 | AY82: 39.5464 | AZ82: 60.8165 | BA82: 48.8024 | BB82: 50.1363 | BC82: 11.5812 | BD82: 10.3224 | BE82: 18.1585 | BF82: 28.4523 | BG82: 23.2707 | BH82: 7.2539 | BI82: 12.734 | BJ82: 24.9078 | BK82: 56.0288 | BL82: 67.4499 | BM82: 68.8696 | BN82: 21.3777 | BO82: 42.1181 | BP82: 17.3696 | BQ82: 7.3911 | BR82: 56.943 | BS82: 71.63 | BT82: 70.9546 | BU82: 98.0055 | BV82: 89.0704 | BW82: 41.0311 | BX82: 79.7431 | BY82: 60.8837 | BZ82: 35.4969 | CA82: 42.5728 | CB82: 33.5975 | CC82: 11.1939 | CD82: 24.9979 | CE82: 24.5479 | CF82: 22.6264 | CG82: 13.2856 | CH82: 57.0076
B83: Import Lätist läbi Elspot elektribörsi | C83: 1.1093 | D83: 0 | E83: 0.0861 | F83: 0 | G83: 0 | H83: 0 | I83: 0 | J83: 0 | K83: 0 | L83: 0 | M83: 0 | N83: 0 | O83: 0.5491 | P83: 0.2001 | Q83: 0.2139 | R83: 0 | S83: 0 | T83: 0 | U83: 0 | V83: 0 | W83: 0 | X83: 0.2583 | Y83: 0.9901 | Z83: 0.1983 | AA83: 3.6829 | AB83: 0.7228 | AC83: 0.4005 | AD83: 2.047 | AE83: 0 | AF83: 0.941 | AG83: 0 | AH83: 1.6598 | AI83: 2.6911 | AJ83: 1.3454 | AK83: 61.2471 | AL83: 15.1689 | AM83: 9.8774 | AN83: 9.9013 | AO83: 36.1095 | AP83: 36.6584 | AQ83: 11.8834 | AR83: 0 | AS83: 0.444 | AT83: 1.2256 | AU83: 1.7346 | AV83: 3.3698 | AW83: 6.1157 | AX83: 6.8007 | AY83: 15.1808 | AZ83: 45.7063 | BA83: 35.178 | BB83: 36.9886 | BC83: 0.4558 | BD83: 4.4134 | BE83: 8.4345 | BF83: 18.1656 | BG83: 14.9105 | BH83: 0.5199 | BI83: 3.5858 | BJ83: 15.6345 | BK83: 33.5025 | BL83: 57.0593 | BM83: 56.162 | BN83: 11.6909 | BO83: 30.6899 | BP83: 13.3919 | BQ83: 1.3129 | BR83: 42.0012 | BS83: 60.3276 | BT83: 56.9286 | BU83: 74.2995 | BV83: 62.8697 | BW83: 28.683 | BX83: 67.2305 | BY83: 44.9886 | BZ83: 22.9926 | CA83: 23.12 | CB83: 18.9828 | CC83: 0.5916 | CD83: 8.0416 | CE83: 13.6075 | CF83: 9.3721 | CG83: 2.4454 | CH83: 37.3136
B84: Import Lätist läbi Elbas elektribörsi | C84: 10.3975 | D84: 3.0514 | E84: 5.7013 | F84: 2.1017 | G84: 3.2388 | H84: 1.4719 | I84: 3.4781 | J84: 0.8378 | K84: 2.9733 | L84: 4.971 | M84: 2.8215 | N84: 4.0542 | O84: 7.9177 | P84: 10.7215 | Q84: 12.8505 | R84: 2.1611 | S84: 2.3939 | T84: 1.3088 | U84: 0.8291 | V84: 2.3666 | W84: 4.3182 | X84: 1.9975 | Y84: 4.0077 | Z84: 6.447 | AA84: 7.998 | AB84: 11.0698 | AC84: 10.4824 | AD84: 20.1926 | AE84: 5.0107 | AF84: 7.8092 | AG84: 2.7173 | AH84: 14.4139 | AI84: 11.4995 | AJ84: 11.4802 | AK84: 18.2958 | AL84: 20.2757 | AM84: 15.7243 | AN84: 16.476 | AO84: 18.6753 | AP84: 20.9297 | AQ84: 12.8984 | AR84: 9.3624 | AS84: 9.9548 | AT84: 8.686 | AU84: 16.481 | AV84: 23.8905 | AW84: 20.4764 | AX84: 17.0263 | AY84: 24.3656 | AZ84: 15.1102 | BA84: 13.6244 | BB84: 13.1477 | BC84: 11.1254 | BD84: 5.909 | BE84: 9.724 | BF84: 10.2867 | BG84: 8.3602 | BH84: 6.734 | BI84: 9.1482 | BJ84: 9.2733 | BK84: 22.5263 | BL84: 10.3906 | BM84: 12.7076 | BN84: 9.6868 | BO84: 11.4282 | BP84: 3.9777 | BQ84: 6.0782 | BR84: 14.9418 | BS84: 11.3024 | BT84: 14.026 | BU84: 23.706 | BV84: 26.2007 | BW84: 12.3481 | BX84: 12.5126 | BY84: 15.8951 | BZ84: 12.5043 | CA84: 19.4528 | CB84: 14.6147 | CC84: 10.6023 | CD84: 16.9563 | CE84: 10.9404 | CF84: 13.2543 | CG84: 10.8402 | CH84: 19.694
B85: Import Soomest | C85: 431.8461 | D85: 433.1604 | E85: 373.1817 | F85: 366.7407 | G85: 302.8986 | H85: 179.3574 | I85: 171.198 | J85: 229.2626 | K85: 246.5011 | L85: 255.8656 | M85: 280.6799 | N85: 351.6627 | O85: 443.7217 | P85: 322.5782 | Q85: 458.9316 | R85: 467.9494 | S85: 408.118 | T85: 596.4651 | U85: 529.4005 | V85: 378.9134 | W85: 337.7866 | X85: 472.8008 | Y85: 388.8976 | Z85: 407.8518 | AA85: 319.222 | AB85: 513.4159 | AC85: 588.089 | AD85: 319.1482 | AE85: 448.5872 | AF85: 336.9618 | AG85: 209.5251 | AH85: 107.9387 | AI85: 119.8454 | AJ85: 59.3432 | AK85: 16.7898 | AL85: 134.0154 | AM85: 162.6308 | AN85: 160.2764 | AO85: 38.2122 | AP85: 66.366 | AQ85: 72.4893 | AR85: 189.8719 | AS85: 252.5859 | AT85: 175.258 | AU85: 132.7103 | AV85: 164.3394 | AW85: 178.0507 | AX85: 201.9294 | AY85: 162.6259 | AZ85: 167.1495 | BA85: 85.587 | BB85: 57.7714 | BC85: 288.1921 | BD85: 270.0884 | BE85: 117.3851 | BF85: 125.5319 | BG85: 258.2214 | BH85: 355.853 | BI85: 279.4986 | BJ85: 353.2187 | BK85: 158.3834 | BL85: 244.6338 | BM85: 187.5296 | BN85: 294.8585 | BO85: 405.5408 | BP85: 547.3968 | BQ85: 579.5106 | BR85: 318.0099 | BS85: 265.1065 | BT85: 432.9144 | BU85: 247.132 | BV85: 386.4876 | BW85: 617.835 | BX85: 543.9375 | BY85: 552.785 | BZ85: 606.7084 | CA85: 614.015 | CB85: 504.6859 | CC85: 721.5268 | CD85: 407.9722 | CE85: 482.1669 | CF85: 552.4638 | CG85: 643.1058 | CH85: 601.7086
B86: Import Soomest läbi Elspot elektribörsi | C86: 413.4621 | D86: 430.1408 | E86: 364.944 | F86: 358.5896 | G86: 293.3786 | H86: 174.5211 | I86: 160.8115 | J86: 215.4979 | K86: 238.5973 | L86: 245.4285 | M86: 261.3347 | N86: 334.7166 | O86: 429.2973 | P86: 310.4271 | Q86: 450.7933 | R86: 461.8753 | S86: 399.6382 | T86: 592.0476 | U86: 518.7331 | V86: 371.1041 | W86: 324.6494 | X86: 461.1469 | Y86: 379.0603 | Z86: 398.6289 | AA86: 302.2391 | AB86: 509.2893 | AC86: 585.4539 | AD86: 314.5653 | AE86: 438.1448 | AF86: 318.7933 | AG86: 198.4114 | AH86: 90.7241 | AI86: 110.3962 | AJ86: 51.5253 | AK86: 6.4884 | AL86: 120.7953 | AM86: 148.4565 | AN86: 144.3778 | AO86: 27.5538 | AP86: 51.5614 | AQ86: 63.476 | AR86: 179.8461 | AS86: 237.2043 | AT86: 155.6737 | AU86: 109.1955 | AV86: 145.1125 | AW86: 150.4228 | AX86: 183.5251 | AY86: 149.9217 | AZ86: 145.3388 | BA86: 69.5809 | BB86: 42.9148 | BC86: 275.0019 | BD86: 260.5717 | BE86: 100.6699 | BF86: 118.3133 | BG86: 250.0046 | BH86: 344.6506 | BI86: 263.283 | BJ86: 346.0089 | BK86: 143.1189 | BL86: 238.4505 | BM86: 182.1028 | BN86: 289.3419 | BO86: 389.0983 | BP86: 539.293 | BQ86: 573.3251 | BR86: 311.1946 | BS86: 255.9211 | BT86: 424.4055 | BU86: 239.1604 | BV86: 373.4212 | BW86: 580.6764 | BX86: 513.5071 | BY86: 504.8552 | BZ86: 586.2628 | CA86: 588.5355 | CB86: 478.6988 | CC86: 687.2481 | CD86: 379.7767 | CE86: 437.3994 | CF86: 521.806 | CG86: 604.999 | CH86: 554.4723
B87: Import Soomest läbi Elbas elektribörsi | C87: 18.384 | D87: 3.0196 | E87: 8.2377 | F87: 8.1511 | G87: 9.52 | H87: 4.8363 | I87: 10.3865 | J87: 13.7647 | K87: 7.9038 | L87: 10.4371 | M87: 19.3452 | N87: 16.9461 | O87: 14.4244 | P87: 12.1511 | Q87: 8.1383 | R87: 6.0741 | S87: 8.4798 | T87: 4.4175 | U87: 10.6674 | V87: 7.8093 | W87: 13.1372 | X87: 11.6539 | Y87: 9.8373 | Z87: 9.2229 | AA87: 16.9829 | AB87: 4.1266 | AC87: 2.6351 | AD87: 4.5829 | AE87: 10.4424 | AF87: 18.1685 | AG87: 11.1137 | AH87: 17.2146 | AI87: 9.4492 | AJ87: 7.8179 | AK87: 10.3014 | AL87: 13.2201 | AM87: 14.1743 | AN87: 15.8986 | AO87: 10.6584 | AP87: 14.8046 | AQ87: 9.0133 | AR87: 10.0258 | AS87: 15.3816 | AT87: 19.5843 | AU87: 23.5148 | AV87: 19.2269 | AW87: 27.6279 | AX87: 18.4043 | AY87: 12.7042 | AZ87: 21.8107 | BA87: 16.0061 | BB87: 14.8566 | BC87: 13.1902 | BD87: 9.5167 | BE87: 16.7152 | BF87: 7.2186 | BG87: 8.2168 | BH87: 11.2024 | BI87: 16.2156 | BJ87: 7.2098 | BK87: 15.2645 | BL87: 6.1833 | BM87: 5.4268 | BN87: 5.5166 | BO87: 16.4425 | BP87: 8.1038 | BQ87: 6.1855 | BR87: 6.8153 | BS87: 9.1854 | BT87: 8.5089 | BU87: 7.9716 | BV87: 13.0664 | BW87: 37.1586 | BX87: 30.4304 | BY87: 47.9298 | BZ87: 20.4456 | CA87: 25.4795 | CB87: 25.9871 | CC87: 34.2787 | CD87: 28.1955 | CE87: 44.7675 | CF87: 30.6578 | CG87: 38.1068 | CH87: 47.2363
B89: Eksport kokku: | C89: 516.5045 | D89: 559.0347 | E89: 506.124 | F89: 505.6051 | G89: 562.4974 | H89: 547.5561 | I89: 523.4414 | J89: 491.3932 | K89: 505.3883 | L89: 536.9893 | M89: 504.3041 | N89: 586.5001 | O89: 621.6027 | P89: 555.7776 | Q89: 459.3894 | R89: 463.819 | S89: 513.8567 | T89: 547.3987 | U89: 511.4531 | V89: 443.0213 | W89: 496.4109 | X89: 525.9477 | Y89: 442.0361 | Z89: 445.2941 | AA89: 502.3727 | AB89: 507.5411 | AC89: 482.8914 | AD89: 398.3643 | AE89: 434.9157 | AF89: 444.059 | AG89: 468.8795 | AH89: 505.8008 | AI89: 486.8304 | AJ89: 419.8186 | AK89: 370.0661 | AL89: 296.3171 | AM89: 469.1867 | AN89: 419.2376 | AO89: 341.8657 | AP89: 306.0577 | AQ89: 449.1086 | AR89: 475.8429 | AS89: 453.8182 | AT89: 416.3578 | AU89: 324.6371 | AV89: 409.1789 | AW89: 399.6718 | AX89: 296.5245 | AY89: 362.3378 | AZ89: 336.6325 | BA89: 411.73 | BB89: 414.9787 | BC89: 362.9742 | BD89: 378.2825 | BE89: 351.1377 | BF89: 469.2347 | BG89: 480.2766 | BH89: 463.445 | BI89: 463.1172 | BJ89: 280.8237 | BK89: 360.6793 | BL89: 233.5079 | BM89: 123.5436 | BN89: 214.8609 | BO89: 256.2911 | BP89: 280.0893 | BQ89: 297.895 | BR89: 149.5185 | BS89: 151.325 | BT89: 205.0405 | BU89: 97.4188 | BV89: 131.3015 | BW89: 244.7498 | BX89: 202.1148 | BY89: 208.1912 | BZ89: 246.7563 | CA89: 284.3817 | CB89: 285.7756 | CC89: 477.5962 | CD89: 350.4637 | CE89: 321.774 | CF89: 310.9818 | CG89: 346.2967 | CH89: 285.1353
B90: Eksport Lätti | C90: 503.6621 | D90: 555.0013 | E90: 500.0221 | F90: 500.916 | G90: 554.4564 | H90: 532.0428 | I90: 516.2467 | J90: 486.3737 | K90: 501.8188 | L90: 530.6589 | M90: 495.3087 | N90: 575.1656 | O90: 609.3903 | P90: 540.6275 | Q90: 448.0866 | R90: 460.0208 | S90: 510.7788 | T90: 544.8665 | U90: 505.8694 | V90: 431.3993 | W90: 491.4527 | X90: 519.3534 | Y90: 431.5637 | Z90: 431.5191 | AA90: 439.2936 | AB90: 492.6656 | AC90: 471.1253 | AD90: 374.7594 | AE90: 422.7718 | AF90: 424.8025 | AG90: 455.706 | AH90: 456.1021 | AI90: 416.3674 | AJ90: 304.7098 | AK90: 98.5786 | AL90: 194.962 | AM90: 393.4306 | AN90: 336.934 | AO90: 177.3075 | AP90: 137.374 | AQ90: 337.0031 | AR90: 433.0547 | AS90: 421.2115 | AT90: 342.3442 | AU90: 295.9968 | AV90: 314.3039 | AW90: 342.296 | AX90: 255.6762 | AY90: 265.0623 | AZ90: 240.7287 | BA90: 242.3188 | BB90: 224.4123 | BC90: 344.9459 | BD90: 356.6046 | BE90: 254.9221 | BF90: 341.8901 | BG90: 388.4686 | BH90: 446.4795 | BI90: 417.5897 | BJ90: 250.2307 | BK90: 229.6305 | BL90: 157.7866 | BM90: 70.563 | BN90: 194.7408 | BO90: 235.7451 | BP90: 271.994 | BQ90: 290.6435 | BR90: 129.9626 | BS90: 129.523 | BT90: 181.4625 | BU90: 60.6791 | BV90: 101.2581 | BW90: 231.0265 | BX90: 189.2993 | BY90: 193.6543 | BZ90: 234.0704 | CA90: 266.1178 | CB90: 273.9371 | CC90: 470.316 | CD90: 325.3139 | CE90: 306.6567 | CF90: 303.6001 | CG90: 342.9961 | CH90: 254.9435
B91: Eksport Lätti läbi Elspot elektribörsi | C91: 495.0919 | D91: 552.979 | E91: 494.8394 | F91: 499.5107 | G91: 549.4292 | H91: 529.1894 | I91: 514.5501 | J91: 483.2827 | K91: 498.9257 | L91: 529.222 | M91: 489.6484 | N91: 566.3534 | O91: 602.7012 | P91: 536.9018 | Q91: 444.5541 | R91: 458.4265 | S91: 507.4209 | T91: 543.6494 | U91: 503.3028 | V91: 430.3891 | W91: 489.4453 | X91: 516.2823 | Y91: 430.7375 | Z91: 428.9637 | AA91: 433.9851 | AB91: 490.1253 | AC91: 468.2105 | AD91: 373.0968 | AE91: 416.3463 | AF91: 417.9288 | AG91: 453.3102 | AH91: 454.4486 | AI91: 412.7971 | AJ91: 301.1307 | AK91: 94.279 | AL91: 189.3549 | AM91: 389.0672 | AN91: 329.1685 | AO91: 174.0987 | AP91: 131.7478 | AQ91: 332.8112 | AR91: 427.5108 | AS91: 414.5319 | AT91: 326.6587 | AU91: 285.3347 | AV91: 305.3755 | AW91: 334.0649 | AX91: 242.7208 | AY91: 255.0374 | AZ91: 232.0324 | BA91: 240.0201 | BB91: 220.7247 | BC91: 338.165 | BD91: 352.7356 | BE91: 251.5418 | BF91: 339.7617 | BG91: 385.6546 | BH91: 442.9689 | BI91: 414.2898 | BJ91: 246.4826 | BK91: 224.6329 | BL91: 154.1932 | BM91: 67.218 | BN91: 192.1079 | BO91: 231.3955 | BP91: 266.5516 | BQ91: 287.9337 | BR91: 127.1821 | BS91: 124.6692 | BT91: 175.2562 | BU91: 57.7065 | BV91: 92.1999 | BW91: 192.2363 | BX91: 163.9138 | BY91: 149.9112 | BZ91: 212.3259 | CA91: 241.5679 | CB91: 250.3335 | CC91: 433.9567 | CD91: 305.7038 | CE91: 266.5034 | CF91: 279.2902 | CG91: 306.8278 | CH91: 210.4742
B92: Eksport Lätti läbi Elbas elektribörsi | C92: 8.5702 | D92: 2.0223 | E92: 5.1827 | F92: 1.4053 | G92: 5.0272 | H92: 2.8534 | I92: 1.6966 | J92: 3.091 | K92: 2.8931 | L92: 1.4369 | M92: 5.6603 | N92: 8.8122 | O92: 6.6891 | P92: 3.7257 | Q92: 3.5325 | R92: 1.5943 | S92: 3.3579 | T92: 1.2171 | U92: 2.5666 | V92: 1.0102 | W92: 2.0074 | X92: 3.0711 | Y92: 0.8262 | Z92: 2.5554 | AA92: 5.3085 | AB92: 2.5403 | AC92: 2.9148 | AD92: 1.6626 | AE92: 6.4255 | AF92: 6.8737 | AG92: 2.3958 | AH92: 1.6535 | AI92: 3.5703 | AJ92: 3.5791 | AK92: 4.2996 | AL92: 5.6071 | AM92: 4.3634 | AN92: 7.7655 | AO92: 3.2088 | AP92: 5.6262 | AQ92: 4.1919 | AR92: 5.5439 | AS92: 6.6796 | AT92: 15.6855 | AU92: 10.6621 | AV92: 8.9284 | AW92: 8.2311 | AX92: 12.9554 | AY92: 10.0249 | AZ92: 8.6963 | BA92: 2.2987 | BB92: 3.6876 | BC92: 6.7809 | BD92: 3.869 | BE92: 3.3803 | BF92: 2.1284 | BG92: 2.814 | BH92: 3.5106 | BI92: 3.2999 | BJ92: 3.7481 | BK92: 4.9976 | BL92: 3.5934 | BM92: 3.345 | BN92: 2.6329 | BO92: 4.3496 | BP92: 5.4424 | BQ92: 2.7098 | BR92: 2.7805 | BS92: 4.8538 | BT92: 6.2063 | BU92: 2.9726 | BV92: 9.0582 | BW92: 38.7902 | BX92: 25.3855 | BY92: 43.7431 | BZ92: 21.7445 | CA92: 24.5499 | CB92: 23.6036 | CC92: 36.3593 | CD92: 19.6101 | CE92: 40.1533 | CF92: 24.3099 | CG92: 36.1683 | CH92: 44.4693
... B95: Eksport Soome läbi Elbas elektribörsi | C95: 7.3393 | D95: 4.0334 | E95: 5.8981 | F95: 4.1423 | G95: 5.2427 | H95: 3.4597 | I95: 2.9502 | J95: 2.3946 | K95: 3.2688 | L95: 5.6562 | M95: 4.9628 | N95: 5.0275 | O95: 8.234 | P95: 10.3118 | Q95: 10.7119 | R95: 3.4871 | S95: 1.8617 | T95: 2.5322 | U95: 4.6879 | V95: 7.3362 | W95: 4.8534 | X95: 5.8022 | Y95: 6.1571 | Z95: 10.604 | AA95: 13.4076 | AB95: 10.8685 | AC95: 11.7373 | AD95: 13.541 | AE95: 10.6762 | AF95: 11.5558 | AG95: 5.8439 | AH95: 10.9407 | AI95: 7.581 | AJ95: 15.5036 | AK95: 18.4412 | AL95: 17.5123 | AM95: 14.7626 | AN95: 13.3464 | AO95: 14.491 | AP95: 16.5092 | AQ95: 14.4381 | AR95: 10.7449 | AS95: 10.9055 | AT95: 13.7144 | AU95: 11.7671 | AV95: 25.4597 | AW95: 19.6545 | AX95: 15.1338 | AY95: 25.3057 | AZ95: 24.9119 | BA95: 20.035 | BB95: 14.8565 | BC95: 11.965 | BD95: 8.2797 | BE95: 14.563 | BF95: 12.3246 | BG95: 15.3262 | BH95: 10.7754 | BI95: 7.4853 | BJ95: 18.2488 | BK95: 26.4363 | BL95: 15.2599 | BM95: 19.4717 | BN95: 14.0693 | BO95: 11.2296 | BP95: 5.8572 | BQ95: 7.2515 | BR95: 15.032 | BS95: 15.7847 | BT95: 16.1892 | BU95: 26.8712 | BV95: 25.4087 | BW95: 13.7233 | BX95: 10.8375 | BY95: 13.5628 | BZ95: 12.6859 | CA95: 18.0692 | CB95: 11.4883 | CC95: 7.2802 | CD95: 20.1005 | CE95: 14.4178 | CF95: 7.3389 | CG95: 3.3006 | CH95: 22.2338
B96: Netoeksport kokku | C96: =C89-C81 -> 73.1516 | D96: =D89-D81 -> 122.8229 | E96: =E89-E81 -> 127.1549 | F96: =F89-F81 -> 136.7627 | G96: =G89-G81 -> 256.36 | H96: =H89-H81 -> 366.7268 | I96: =I89-I81 -> 348.7653 | J96: =J89-J81 -> 261.2928 | ... CH96: =CH89-CH81 -> -373.5809
B97: Netoeksport Läti | C97: =C93-C85 -> -419.0037 | D97: =D93-D85 -> -429.127 | E97: =E93-E85 -> -367.0798 | F97: =F93-F85 -> -362.0516 | G97: =G93-G85 -> -294.8576 | H97: =H93-H85 -> -163.8441 | I97: =I93-I85 -> -164.0033 | J97: =J93-J85 -> -224.2431 | ... CH97: =CH93-CH85 -> -571.5168
B98: Netoeksport Soome | C98: =C90-C82 -> 492.1553 | D98: =D90-D82 -> 551.9499 | E98: =E90-E82 -> 494.2347 | F98: =F90-F82 -> 498.8143 | G98: =G90-G82 -> 551.2176 | H98: =H90-H82 -> 530.5709 | I98: =I90-I82 -> 512.7686 | J98: =J90-J82 -> 485.5359 | ... CH98: =CH90-CH82 -> 197.9359
B101: Import kokku: | O101: =O81/C81-1 -> 0.019929045 | P101: =P81/D81-1 -> -0.2354636 | Q101: =Q81/E81-1 -> 0.24547358 | R101: =R81/F81-1 -> 0.27455656 | S101: =S81/G81-1 -> 0.34094005 | T101: =T81/H81-1 -> 2.3057359 | U101: =U81/I81-1 -> 2.0355017 | V101: =V81/J81-1 -> 0.65701581 | ... CH101: =CH81/BV81-1 -> 0.38514377
B102: Import Lätist | O102: =O82/C82-1 -> -0.26419161 | P102: =P82/D82-1 -> 2.5792095 | Q102: =Q82/E82-1 -> 1.2573867 | R102: =R82/F82-1 -> 0.028262835 | S102: =S82/G82-1 -> -0.26086822 | T102: =T82/H82-1 -> -0.11080916 | U102: =U82/I82-1 -> -0.76162273 | V102: =V82/J82-1 -> 1.8247792 | ... CH102: =CH82/BV82-1 -> -0.35997144
B103: Import Lätist läbi Elspot elektribörsi | O103: =O83/C83-1 -> -0.50500316 | P103: =P83/D83-1 -> #DIV/0! | Q103: =Q83/E83-1 -> 1.4843206 | R103: =R83/F83-1 -> #DIV/0! | S103: =S83/G83-1 -> #DIV/0! | T103: =T83/H83-1 -> #DIV/0! | U103: =U83/I83-1 -> #DIV/0! | V103: =V83/J83-1 -> #DIV/0! | ... CH103: =CH83/BV83-1 -> -0.40649311
B104: Import Lätist läbi Elbas elektribörsi | O104: =O84/C84-1 -> -0.23849964 | P104: =P84/D84-1 -> 2.5136331 | Q104: =Q84/E84-1 -> 1.2539596 | R104: =R84/F84-1 -> 0.028262835 | S104: =S84/G84-1 -> -0.26086822 | T104: =T84/H84-1 -> -0.11080916 | U104: =U84/I84-1 -> -0.76162273 | V104: =V84/J84-1 -> 1.8247792 | ... CH104: =CH84/BV84-1 -> -0.24834069
B105: Import Soomest | O105: =O85/C85-1 -> 0.027499612 | P105: =P85/D85-1 -> -0.25529157 | Q105: =Q85/E85-1 -> 0.22978056 | R105: =R85/F85-1 -> 0.27596801 | S105: =S85/G85-1 -> 0.347375 | T105: =T85/H85-1 -> 2.3255673 | U105: =U85/I85-1 -> 2.0923288 | V105: =V85/J85-1 -> 0.65274842 | ... CH105: =CH85/BV85-1 -> 0.55686392
B106: Import Soomest läbi Elspot elektribörsi | O106: =O86/C86-1 -> 0.038299036 | P106: =P86/D86-1 -> -0.27831282 | Q106: =Q86/E86-1 -> 0.23523965 | R106: =R86/F86-1 -> 0.28803317 | S106: =S86/G86-1 -> 0.36219274 | T106: =T86/H86-1 -> 2.3924127 | U106: =U86/I86-1 -> 2.2257214 | V106: =V86/J86-1 -> 0.72207757 | ... CH106: =CH86/BV86-1 -> 0.48484419
B107: Import Soomest läbi Elbas elektribörsi | O107: =O87/C87-1 -> -0.21538294 | P107: =P87/D87-1 -> 3.024076 | Q107: =Q87/E87-1 -> -0.012066475 | R107: =R87/F87-1 -> -0.25481223 | S107: =S87/G87-1 -> -0.10926471 | T107: =T87/H87-1 -> -0.086595124 | U107: =U87/I87-1 -> 0.027044722 | V107: =V87/J87-1 -> -0.43265745 | ... CH107: =CH87/BV87-1 -> 2.6150967
B109: Eksport kokku: | O109: =O89/C89-1 -> 0.20347974 | P109: =P89/D89-1 -> -0.0058262931 | Q109: =Q89/E89-1 -> -0.092338241 | R109: =R89/F89-1 -> -0.082645725 | S109: =S89/G89-1 -> -0.086472755 | T109: =T89/H89-1 -> -0.00028745913 | U109: =U89/I89-1 -> -0.02290285 | V109: =V89/J89-1 -> -0.098438277 | ... CH109: =CH89/BV89-1 -> 1.1716073
B110: Eksport Lätti | O110: =O90/C90-1 -> 0.20991891 | P110: =P90/D90-1 -> -0.025898678 | Q110: =Q90/E90-1 -> -0.10386641 | R110: =R90/F90-1 -> -0.081640834 | S110: =S90/G90-1 -> -0.078775536 | T110: =T90/H90-1 -> 0.02410276 | U110: =U90/I90-1 -> -0.020101436 | V110: =V90/J90-1 -> -0.11302914 | ... CH110: =CH90/BV90-1 -> 1.5177591
B111: Eksport Lätti läbi Elspot elektribörsi | O111: =O91/C91-1 -> 0.21735217 | P111: =P91/D91-1 -> -0.029073798 | Q111: =Q91/E91-1 -> -0.10161943 | R111: =R91/F91-1 -> -0.082248889 | S111: =S91/G91-1 -> -0.076458077 | T111: =T91/H91-1 -> 0.02732481 | U111: =U91/I91-1 -> -0.021858513 | V111: =V91/J91-1 -> -0.1094465 | ... CH111: =CH91/BV91-1 -> 1.2828029
B112: Eksport Lätti läbi Elbas elektribörsi | O112: =O92/C92-1 -> -0.21949313 | P112: =P92/D92-1 -> 0.84230826 | Q112: =Q92/E92-1 -> -0.31840546 | R112: =R92/F92-1 -> 0.13449086 | S112: =S92/G92-1 -> -0.33205363 | T112: =T92/H92-1 -> -0.57345623 | U112: =U92/I92-1 -> 0.51279029 | V112: =V92/J92-1 -> -0.6731802 | ... CH112: =CH92/BV92-1 -> 3.9092866
B113: Eksport Soome | O113: =O93/C93-1 -> -0.049056251 | P113: =P93/D93-1 -> 2.7561611 | Q113: =Q93/E93-1 -> 0.85234107 | R113: =R93/F93-1 -> -0.18999382 | S113: =S93/G93-1 -> -0.61722423 | T113: =T93/H93-1 -> -0.83677232 | U113: =U93/I93-1 -> -0.22391483 | V113: =V93/J93-1 -> 1.3153701 | ... CH113: =CH93/BV93-1 -> 0.0049395208
... B118: Netoeksport Soome | O118: =O98/C98-1 -> 0.22100382 | P118: =P98/D98-1 -> -0.040300759 | Q118: =Q98/E98-1 -> -0.11980644 | R118: =R98/F98-1 -> -0.082103901 | S118: =S98/G98-1 -> -0.07770561 | T118: =T98/H98-1 -> 0.02447703 | U118: =U98/I98-1 -> -0.015071711 | V118: =V98/J98-1 -> -0.11637286 | ... CH118: =CH98/BV98-1 -> 15.240628

Sheet Quarterly
B1: Eesti elektribilanss, GWh | C1: 2014-Q1 | D1: 2014-Q2 | E1: 2014-Q3 | F1: 2014-Q4 | G1: 2015-Q1 | H1: 2015-Q2 | I1: 2015-Q3 | J1: 2015-Q4 | K1: 2016-Q1 | L1: 2016-Q2 | M1: 2016-Q3 | N1: 2016-Q4 | O1: 2017-Q1 | P1: 2017-Q2 | Q1: 2017-Q3 | R1: 2017-Q4 | S1: 2018-Q1 | T1: 2018-Q2 | U1: 2018-Q3 | V1: 2018-Q4 | W1: 2019-Q1 | X1: 2019-Q2 | Y1: 2019-Q3 | Z1: 2019-Q4 | AA1: 2020-Q1 | AB1: 2020-Q2 | AC1: 2020-Q3 | AD1: 2020-Q4 | AE1: 2021-Q1 | AF1: 2021-Q2 | AG1: 2021-Q3 | AH1: 2021-Q4
B2: Võrku sisenenud | C2: =SUM(Monthly!C2:E2) -> 3946.0061 | D2: =SUM(Monthly!F2:H2) -> 3535.0978 | E2: =SUM(Monthly!I2:K2) -> 3356.7942 | F2: =SUM(Monthly!L2:N2) -> 3830.9259 | G2: =SUM(Monthly!O2:Q2) -> 3888.8519 | H2: =SUM(Monthly!R2:T2) -> 3512.2996 | I2: =SUM(Monthly!U2:W2) -> 3312.6393 | J2: =SUM(Monthly!X2:Z2) -> 3692.6828 | K2: =SUM(Monthly!AA2:AC2) -> 3941.4775 | L2: =SUM(Monthly!AD2:AF2) -> 3189.8569 | M2: =SUM(Monthly!AG2:AI2) -> 3339.4115 | N2: =SUM(Monthly!AJ2:AL2) -> 3523.2128 | O2: =SUM(Monthly!AM2:AO2) -> 3673.5039 | P2: =SUM(Monthly!AP2:AR2) -> 3224.6028 | Q2: =SUM(Monthly!AS2:AU2) -> 3098.1429 | R2: =SUM(Monthly!AV2:AX2) -> 3551.1579 | S2: =SUM(Monthly!AY2:BA2) -> 3869.8221 | T2: =SUM(Monthly!BB2:BD2) -> 3185.957 | U2: =SUM(Monthly!BE2:BG2) -> 3322.0812 | V2: =SUM(Monthly!BH2:BJ2) -> 3689.9597 | W2: =SUM(Monthly!BK2:BM2) -> 3508.9342 | X2: =SUM(Monthly!BN2:BP2) -> 2928.4483 | Y2: =SUM(Monthly!BQ2:BS2) -> 2691.5166 | Z2: =SUM(Monthly!BT2:BV2) -> 2934.0022 | AA2: =SUM(Monthly!BW2:BY2) -> 3043.2062 | AB2: =SUM(Monthly!BZ2:CB2) -> 2705.2599 | AC2: =SUM(Monthly!CC2:CE2) -> 2963.4876 | AD2: =SUM(Monthly!CF2:CH2) -> 3251.2209
B3: Sisemaine tootmine | C3: =SUM(Monthly!C3:E3) -> 2665.8172 | D3: =SUM(Monthly!F3:H3) -> 2633.6509 | E3: =SUM(Monthly!I3:K3) -> 2646.7112 | F3: =SUM(Monthly!L3:N3) -> 2958.6933 | G3: =SUM(Monthly!O3:Q3) -> 2684.6384 | H3: =SUM(Monthly!R3:T3) -> 1989.903 | I3: =SUM(Monthly!U3:W3) -> 2042.9423 | J3: =SUM(Monthly!X3:Z3) -> 2344.8057 | K3: =SUM(Monthly!AA3:AC3) -> 2504.7906 | L3: =SUM(Monthly!AD3:AF3) -> 2016.6585 | M3: =SUM(Monthly!AG3:AI3) -> 2810.0405 | N3: =SUM(Monthly!AJ3:AL3) -> 3090.6237 | O3: =SUM(Monthly!AM3:AO3) -> 3173.5468 | P3: =SUM(Monthly!AP3:AR3) -> 2781.5074 | Q3: =SUM(Monthly!AS3:AU3) -> 2448.4619 | R3: =SUM(Monthly!AV3:AX3) -> 2830.9176 | S3: =SUM(Monthly!AY3:BA3) -> 3103.2995 | T3: =SUM(Monthly!BB3:BD3) -> 2404.7424 | U3: =SUM(Monthly!BE3:BG3) -> 2573.7728 | V3: =SUM(Monthly!BH3:BJ3) -> 2501.3602 | W3: =SUM(Monthly!BK3:BM3) -> 2413.4041 | X3: =SUM(Monthly!BN3:BP3) -> 1402.0332 | Y3: =SUM(Monthly!BQ3:BS3) -> 1172.115 | Z3: =SUM(Monthly!BT3:BV3) -> 1459.6763 | AA3: =SUM(Monthly!BW3:BY3) -> 1168.2815 | AB3: =SUM(Monthly!BZ3:CB3) -> 911.12346 | AC3: =SUM(Monthly!CC3:CE3) -> 1329.5766 | AD3: =SUM(Monthly!CF3:CH3) -> 1394.3654
B4: Taastuvenergia | C4: =SUM(Monthly!C4:E4) -> 346.11909 | D4: =SUM(Monthly!F4:H4) -> 295.18306 | E4: =SUM(Monthly!I4:K4) -> 297.68027 | F4: =SUM(Monthly!L4:N4) -> 416.99175 | G4: =SUM(Monthly!O4:Q4) -> 442.54892 | H4: =SUM(Monthly!R4:T4) -> 351.78269 | I4: =SUM(Monthly!U4:W4) -> 284.00015 | J4: =SUM(Monthly!X4:Z4) -> 428.5915 | K4: =SUM(Monthly!AA4:AC4) -> 345.32217 | L4: =SUM(Monthly!AD4:AF4) -> 299.8373 | M4: =SUM(Monthly!AG4:AI4) -> 303.31347 | N4: =SUM(Monthly!AJ4:AL4) -> 463.82022 | O4: =SUM(Monthly!AM4:AO4) -> 431.7066 | P4: =SUM(Monthly!AP4:AR4) -> 390.07995 | Q4: =SUM(Monthly!AS4:AU4) -> 338.13547 | R4: =SUM(Monthly!AV4:AX4) -> 493.51671 | S4: =SUM(Monthly!AY4:BA4) -> 397.07375 | T4: =SUM(Monthly!BB4:BD4) -> 376.4965 | U4: =SUM(Monthly!BE4:BG4) -> 406.46612 | V4: =SUM(Monthly!BH4:BJ4) -> 482.17763 | W4: =SUM(Monthly!BK4:BM4) -> 526.03774 | X4: =SUM(Monthly!BN4:BP4) -> 410.81559 | Y4: =SUM(Monthly!BQ4:BS4) -> 428.38221 | Z4: =SUM(Monthly!BT4:BV4) -> 581.05935 | AA4: =SUM(Monthly!BW4:BY4) -> 599.78759 | AB4: =SUM(Monthly!BZ4:CB4) -> 480.24224 | AC4: =SUM(Monthly!CC4:CE4) -> 537.30226 | AD4: =SUM(Monthly!CF4:CH4) -> 606.81806
B5: sh tuuleenergia | C5: =SUM(Monthly!C5:E5) -> 162.06521 | D5: =SUM(Monthly!F5:H5) -> 113.09727 | E5: =SUM(Monthly!I5:K5) -> 110.84725 | F5: =SUM(Monthly!L5:N5) -> 190.02495 | G5: =SUM(Monthly!O5:Q5) -> 232.40858 | H5: =SUM(Monthly!R5:T5) -> 153.76375 | I5: =SUM(Monthly!U5:W5) -> 108.06033 | J5: =SUM(Monthly!X5:Z5) -> 200.15832 | K5: =SUM(Monthly!AA5:AC5) -> 144.52582 | L5: =SUM(Monthly!AD5:AF5) -> 101.39056 | M5: =SUM(Monthly!AG5:AI5) -> 122.70446 | N5: =SUM(Monthly!AJ5:AL5) -> 221.36534 | O5: =SUM(Monthly!AM5:AO5) -> 190.52872 | P5: =SUM(Monthly!AP5:AR5) -> 142.86133 | Q5: =SUM(Monthly!AS5:AU5) -> 128.99333 | R5: =SUM(Monthly!AV5:AX5) -> 207.07013 | S5: =SUM(Monthly!AY5:BA5) -> 143.05267 | T5: =SUM(Monthly!BB5:BD5) -> 124.81096 | U5: =SUM(Monthly!BE5:BG5) -> 142.55249 | V5: =SUM(Monthly!BH5:BJ5) -> 180.1382 | W5: =SUM(Monthly!BK5:BM5) -> 239.61987 | X5: =SUM(Monthly!BN5:BP5) -> 122.83157 | Y5: =SUM(Monthly!BQ5:BS5) -> 124.90116 | Z5: =SUM(Monthly!BT5:BV5) -> 204.32279 | AA5: =SUM(Monthly!BW5:BY5) -> 294.31264 | AB5: =SUM(Monthly!BZ5:CB5) -> 162.52527 | AC5: =SUM(Monthly!CC5:CE5) -> 141.36076 | AD5: =SUM(Monthly!CF5:CH5) -> 225.51347
B6: sh hüdroenergia | C6: =SUM(Monthly!C6:E6) -> 10.027948 | D6: =SUM(Monthly!F6:H6) -> 7.6762759 | E6: =SUM(Monthly!I6:K6) -> 3.8366526 | F6: =SUM(Monthly!L6:N6) -> 5.0688374 | G6: =SUM(Monthly!O6:Q6) -> 12.209756 | H6: =SUM(Monthly!R6:T6) -> 7.5932581 | I6: =SUM(Monthly!U6:W6) -> 1.930147 | J6: =SUM(Monthly!X6:Z6) -> 4.868882 | K6: =SUM(Monthly!AA6:AC6) -> 9.4618989 | L6: =SUM(Monthly!AD6:AF6) -> 8.5572205 | M6: =SUM(Monthly!AG6:AI6) -> 7.8050451 | N6: =SUM(Monthly!AJ6:AL6) -> 8.8201036 | O6: =SUM(Monthly!AM6:AO6) -> 8.0490726 | P6: =SUM(Monthly!AP6:AR6) -> 6.3743379 | Q6: =SUM(Monthly!AS6:AU6) -> 4.008328 | R6: =SUM(Monthly!AV6:AX6) -> 10.686445 | S6: =SUM(Monthly!AY6:BA6) -> 8.0595137 | T6: =SUM(Monthly!BB6:BD6) -> 7.5018617 | U6: =SUM(Monthly!BE6:BG6) -> 0.93299776 | V6: =SUM(Monthly!BH6:BJ6) -> 2.7581973 | W6: =SUM(Monthly!BK6:BM6) -> 7.6886519 | X6: =SUM(Monthly!BN6:BP6) -> 6.5558185 | Y6: =SUM(Monthly!BQ6:BS6) -> 1.2400853 | Z6: =SUM(Monthly!BT6:BV6) -> 6.1316613 | AA6: =SUM(Monthly!BW6:BY6) -> 10.835609 | AB6: =SUM(Monthly!BZ6:CB6) -> 7.2400376 | AC6: =SUM(Monthly!CC6:CE6) -> 2.7468792 | AD6: =SUM(Monthly!CF6:CH6) -> 6.5577621
B7: sh biomass, biogaas | C7: =SUM(Monthly!C7:E7) -> 173.98789 | D7: =SUM(Monthly!F7:H7) -> 174.20666 | E7: =SUM(Monthly!I7:K7) -> 182.72765 | F7: =SUM(Monthly!L7:N7) -> 221.86467 | G7: =SUM(Monthly!O7:Q7) -> 197.82594 | H7: =SUM(Monthly!R7:T7) -> 189.87794 | I7: =SUM(Monthly!U7:W7) -> 173.36129 | J7: =SUM(Monthly!X7:Z7) -> 223.31348 | K7: =SUM(Monthly!AA7:AC7) -> 191.15123 | L7: =SUM(Monthly!AD7:AF7) -> 188.71345 | M7: =SUM(Monthly!AG7:AI7) -> 171.69524 | N7: =SUM(Monthly!AJ7:AL7) -> 233.30953 | O7: =SUM(Monthly!AM7:AO7) -> 232.69582 | P7: =SUM(Monthly!AP7:AR7) -> 238.55374 | Q7: =SUM(Monthly!AS7:AU7) -> 203.22182 | R7: =SUM(Monthly!AV7:AX7) -> 275.3854 | S7: =SUM(Monthly!AY7:BA7) -> 245.02004 | T7: =SUM(Monthly!BB7:BD7) -> 238.94469 | U7: =SUM(Monthly!BE7:BG7) -> 257.6765 | V7: =SUM(Monthly!BH7:BJ7) -> 297.79208 | W7: =SUM(Monthly!BK7:BM7) -> 275.74516 | X7: =SUM(Monthly!BN7:BP7) -> 262.66924 | Y7: =SUM(Monthly!BQ7:BS7) -> 278.99397 | Z7: =SUM(Monthly!BT7:BV7) -> 361.49796 | AA7: =SUM(Monthly!BW7:BY7) -> 283.08776 | AB7: =SUM(Monthly!BZ7:CB7) -> 261.2959 | AC7: =SUM(Monthly!CC7:CE7) -> 344.78941 | AD7: =SUM(Monthly!CF7:CH7) -> 364.90415
B8: Mittetaastuv | C8: =SUM(Monthly!C8:E8) -> 2319.6982 | D8: =SUM(Monthly!F8:H8) -> 2338.4678 | E8: =SUM(Monthly!I8:K8) -> 2349.0309 | F8: =SUM(Monthly!L8:N8) -> 2541.7016 | G8: =SUM(Monthly!O8:Q8) -> 2242.0895 | H8: =SUM(Monthly!R8:T8) -> 1638.1203 | I8: =SUM(Monthly!U8:W8) -> 1758.9421 | J8: =SUM(Monthly!X8:Z8) -> 1916.2142 | K8: =SUM(Monthly!AA8:AC8) -> 2159.4684 | L8: =SUM(Monthly!AD8:AF8) -> 1716.8212 | M8: =SUM(Monthly!AG8:AI8) -> 2506.727 | N8: =SUM(Monthly!AJ8:AL8) -> 2626.8035 | O8: =SUM(Monthly!AM8:AO8) -> 2741.8402 | P8: =SUM(Monthly!AP8:AR8) -> 2391.4274 | Q8: =SUM(Monthly!AS8:AU8) -> 2110.3264 | R8: =SUM(Monthly!AV8:AX8) -> 2337.4009 | S8: =SUM(Monthly!AY8:BA8) -> 2706.2258 | T8: =SUM(Monthly!BB8:BD8) -> 2028.2459 | U8: =SUM(Monthly!BE8:BG8) -> 2167.3066 | V8: =SUM(Monthly!BH8:BJ8) -> 2019.1826 | W8: =SUM(Monthly!BK8:BM8) -> 1887.3664 | X8: =SUM(Monthly!BN8:BP8) -> 991.21761 | Y8: =SUM(Monthly!BQ8:BS8) -> 743.7328 | Z8: =SUM(Monthly!BT8:BV8) -> 878.61694 | AA8: =SUM(Monthly!BW8:BY8) -> 568.49388 | AB8: =SUM(Monthly!BZ8:CB8) -> 430.88122 | AC8: =SUM(Monthly!CC8:CE8) -> 792.27431 | AD8: =SUM(Monthly!CF8:CH8) -> 787.54739
B9: Välisliinidelt import | C9: =SUM(Monthly!C9:E9) -> 1280.1889 | D9: =SUM(Monthly!F9:H9) -> 901.4469 | E9: =SUM(Monthly!I9:K9) -> 710.08297 | F9: =SUM(Monthly!L9:N9) -> 872.23259 | G9: =SUM(Monthly!O9:Q9) -> 1204.2135 | H9: =SUM(Monthly!R9:T9) -> 1522.3966 | I9: =SUM(Monthly!U9:W9) -> 1269.6971 | J9: =SUM(Monthly!X9:Z9) -> 1347.8771 | K9: =SUM(Monthly!AA9:AC9) -> 1436.6869 | L9: =SUM(Monthly!AD9:AF9) -> 1173.1984 | M9: =SUM(Monthly!AG9:AI9) -> 529.37105 | N9: =SUM(Monthly!AJ9:AL9) -> 432.58912 | O9: =SUM(Monthly!AM9:AO9) -> 499.95712 | P9: =SUM(Monthly!AP9:AR9) -> 443.09537 | Q9: =SUM(Monthly!AS9:AU9) -> 649.68103 | R9: =SUM(Monthly!AV9:AX9) -> 720.24033 | S9: =SUM(Monthly!AY9:BA9) -> 766.52257 | T9: =SUM(Monthly!BB9:BD9) -> 781.21457 | U9: =SUM(Monthly!BE9:BG9) -> 748.30842 | V9: =SUM(Monthly!BH9:BJ9) -> 1188.5995 | W9: =SUM(Monthly!BK9:BM9) -> 1095.5301 | X9: =SUM(Monthly!BN9:BP9) -> 1526.4151 | Y9: =SUM(Monthly!BQ9:BS9) -> 1519.4016 | Z9: =SUM(Monthly!BT9:BV9) -> 1474.3259 | AA9: =SUM(Monthly!BW9:BY9) -> 1874.9247 | AB9: =SUM(Monthly!BZ9:CB9) -> 1794.1364 | AC9: =SUM(Monthly!CC9:CE9) -> 1633.911 | AD9: =SUM(Monthly!CF9:CH9) -> 1856.8555
B10: sh füüsiline import | C10: =SUM(Monthly!C10:E10) -> 10.464303 | D10: =SUM(Monthly!F10:H10) -> 2.125376 | E10: =SUM(Monthly!I10:K10) -> 0.048724 | F10: =SUM(Monthly!L10:N10) -> 3.151709 | G10: =SUM(Monthly!O10:Q10) -> 57.662274 | H10: =SUM(Monthly!R10:T10) -> 125.35683 | I10: =SUM(Monthly!U10:W10) -> 103.86712 | J10: =SUM(Monthly!X10:Z10) -> 114.90478 | K10: =SUM(Monthly!AA10:AC10) -> 219.45899 | L10: =SUM(Monthly!AD10:AF10) -> 120.18434 | M10: =SUM(Monthly!AG10:AI10) -> 0.518611 | N10: =SUM(Monthly!AJ10:AL10) -> 32.453475 | O10: =SUM(Monthly!AM10:AO10) -> 14.235317 | P10: =SUM(Monthly!AP10:AR10) -> 15.385568 | Q10: =SUM(Monthly!AS10:AU10) -> 47.267011 | R10: =SUM(Monthly!AV10:AX10) -> 47.537066 | S10: =SUM(Monthly!AY10:BA10) -> 39.142322 | T10: =SUM(Monthly!BB10:BD10) -> 66.176169 | U10: =SUM(Monthly!BE10:BG10) -> 19.664449 | V10: =SUM(Monthly!BH10:BJ10) -> 158.38794 | W10: =SUM(Monthly!BK10:BM10) -> 275.26351 | X10: =SUM(Monthly!BN10:BP10) -> 565.7239 | Y10: =SUM(Monthly!BQ10:BS10) -> 694.59809 | Z10: =SUM(Monthly!BT10:BV10) -> 892.95023 | AA10: =SUM(Monthly!BW10:BY10) -> 1197.9465 | AB10: =SUM(Monthly!BZ10:CB10) -> 992.79913 | AC10: =SUM(Monthly!CC10:CE10) -> 535.53331 | AD10: =SUM(Monthly!CF10:CH10) -> 923.40473
B11: sh füüsiline transiit | C11: =SUM(Monthly!C11:E11) -> 1269.7246 | D11: =SUM(Monthly!F11:H11) -> 899.32153 | E11: =SUM(Monthly!I11:K11) -> 710.03424 | F11: =SUM(Monthly!L11:N11) -> 869.08088 | G11: =SUM(Monthly!O11:Q11) -> 1146.5513 | H11: =SUM(Monthly!R11:T11) -> 1397.0398 | I11: =SUM(Monthly!U11:W11) -> 1165.8299 | J11: =SUM(Monthly!X11:Z11) -> 1232.9724 | K11: =SUM(Monthly!AA11:AC11) -> 1217.2279 | L11: =SUM(Monthly!AD11:AF11) -> 1053.0142 | M11: =SUM(Monthly!AG11:AI11) -> 528.85244 | N11: =SUM(Monthly!AJ11:AL11) -> 400.13565 | O11: =SUM(Monthly!AM11:AO11) -> 485.7218 | P11: =SUM(Monthly!AP11:AR11) -> 427.7098 | Q11: =SUM(Monthly!AS11:AU11) -> 602.41402 | R11: =SUM(Monthly!AV11:AX11) -> 672.70331 | S11: =SUM(Monthly!AY11:BA11) -> 727.38025 | T11: =SUM(Monthly!BB11:BD11) -> 715.03769 | U11: =SUM(Monthly!BE11:BG11) -> 728.64397 | V11: =SUM(Monthly!BH11:BJ11) -> 1030.2116 | W11: =SUM(Monthly!BK11:BM11) -> 820.26649 | X11: =SUM(Monthly!BN11:BP11) -> 960.69122 | Y11: =SUM(Monthly!BQ11:BS11) -> 824.80347 | Z11: =SUM(Monthly!BT11:BV11) -> 581.3757 | AA11: =SUM(Monthly!BW11:BY11) -> 676.97815 | AB11: =SUM(Monthly!BZ11:CB11) -> 801.33732 | AC11: =SUM(Monthly!CC11:CE11) -> 1098.3343 | AD11: =SUM(Monthly!CF11:CH11) -> 933.45077
B12: Võrku läbinud | C12: =SUM(Monthly!C12:E12) -> 3946.0061 | D12: =SUM(Monthly!F12:H12) -> 3535.0978 | E12: =SUM(Monthly!I12:K12) -> 3356.7942 | F12: =SUM(Monthly!L12:N12) -> 3830.9259 | G12: =SUM(Monthly!O12:Q12) -> 3888.8519 | H12: =SUM(Monthly!R12:T12) -> 3512.2996 | I12: =SUM(Monthly!U12:W12) -> 3312.6393 | J12: =SUM(Monthly!X12:Z12) -> 3692.6828 | K12: =SUM(Monthly!AA12:AC12) -> 3941.4775 | L12: =SUM(Monthly!AD12:AF12) -> 3189.8569 | M12: =SUM(Monthly!AG12:AI12) -> 3339.4115 | N12: =SUM(Monthly!AJ12:AL12) -> 3523.2128 | O12: =SUM(Monthly!AM12:AO12) -> 3673.5039 | P12: =SUM(Monthly!AP12:AR12) -> 3224.6028 | Q12: =SUM(Monthly!AS12:AU12) -> 3098.1429 | R12: =SUM(Monthly!AV12:AX12) -> 3551.1579 | S12: =SUM(Monthly!AY12:BA12) -> 3869.8221 | T12: =SUM(Monthly!BB12:BD12) -> 3185.957 | U12: =SUM(Monthly!BE12:BG12) -> 3322.0812 | V12: =SUM(Monthly!BH12:BJ12) -> 3689.9597 | W12: =SUM(Monthly!BK12:BM12) -> 3508.9342 | X12: =SUM(Monthly!BN12:BP12) -> 2928.4483 | Y12: =SUM(Monthly!BQ12:BS12) -> 2691.5166 | Z12: =SUM(Monthly!BT12:BV12) -> 2934.0022 | AA12: =SUM(Monthly!BW12:BY12) -> 3043.2062 | AB12: =SUM(Monthly!BZ12:CB12) -> 2705.2599 | AC12: =SUM(Monthly!CC12:CE12) -> 2963.4876 | AD12: =SUM(Monthly!CF12:CH12) -> 3251.2209
B13: Sisemaine tarbimine | C13: =SUM(Monthly!C13:E13) -> 2306.7493 | D13: =SUM(Monthly!F13:H13) -> 1831.6484 | E13: =SUM(Monthly!I13:K13) -> 1761.1163 | F13: =SUM(Monthly!L13:N13) -> 2220.9139 | G13: =SUM(Monthly!O13:Q13) -> 2278.6645 | H13: =SUM(Monthly!R13:T13) -> 1885.8308 | I13: =SUM(Monthly!U13:W13) -> 1789.6225 | J13: =SUM(Monthly!X13:Z13) -> 2182.998 | K13: =SUM(Monthly!AA13:AC13) -> 2424.0041 | L13: =SUM(Monthly!AD13:AF13) -> 1860.6162 | M13: =SUM(Monthly!AG13:AI13) -> 1800.2729 | N13: =SUM(Monthly!AJ13:AL13) -> 2299.6978 | O13: =SUM(Monthly!AM13:AO13) -> 2380.8305 | P13: =SUM(Monthly!AP13:AR13) -> 1929.6094 | Q13: =SUM(Monthly!AS13:AU13) -> 1846.4528 | R13: =SUM(Monthly!AV13:AX13) -> 2343.1731 | S13: =SUM(Monthly!AY13:BA13) -> 2549.9808 | T13: =SUM(Monthly!BB13:BD13) -> 1953.9677 | U13: =SUM(Monthly!BE13:BG13) -> 1865.7097 | V13: =SUM(Monthly!BH13:BJ13) -> 2347.7557 | W13: =SUM(Monthly!BK13:BM13) -> 2472.4633 | X13: =SUM(Monthly!BN13:BP13) -> 1956.7089 | Y13: =SUM(Monthly!BQ13:BS13) -> 1863.8249 | Z13: =SUM(Monthly!BT13:BV13) -> 2352.6248 | AA13: =SUM(Monthly!BW13:BY13) -> 2366.228 | AB13: =SUM(Monthly!BZ13:CB13) -> 1902.8773 | AC13: =SUM(Monthly!CC13:CE13) -> 1846.808 | AD13: =SUM(Monthly!CF13:CH13) -> 2317.7349
... B16: sh füüsiline transiit | C16: =SUM(Monthly!C16:E16) -> 1269.7246 | D16: =SUM(Monthly!F16:H16) -> 899.32153 | E16: =SUM(Monthly!I16:K16) -> 710.03424 | F16: =SUM(Monthly!L16:N16) -> 869.08088 | G16: =SUM(Monthly!O16:Q16) -> 1146.5513 | H16: =SUM(Monthly!R16:T16) -> 1397.0398 | I16: =SUM(Monthly!U16:W16) -> 1165.8299 | J16: =SUM(Monthly!X16:Z16) -> 1232.9724 | K16: =SUM(Monthly!AA16:AC16) -> 1217.2279 | L16: =SUM(Monthly!AD16:AF16) -> 1053.0142 | M16: =SUM(Monthly!AG16:AI16) -> 528.85244 | N16: =SUM(Monthly!AJ16:AL16) -> 400.13565 | O16: =SUM(Monthly!AM16:AO16) -> 485.7218 | P16: =SUM(Monthly!AP16:AR16) -> 427.7098 | Q16: =SUM(Monthly!AS16:AU16) -> 602.41402 | R16: =SUM(Monthly!AV16:AX16) -> 672.70331 | S16: =SUM(Monthly!AY16:BA16) -> 727.38025 | T16: =SUM(Monthly!BB16:BD16) -> 715.03769 | U16: =SUM(Monthly!BE16:BG16) -> 728.64397 | V16: =SUM(Monthly!BH16:BJ16) -> 1030.2116 | W16: =SUM(Monthly!BK16:BM16) -> 820.26649 | X16: =SUM(Monthly!BN16:BP16) -> 960.69122 | Y16: =SUM(Monthly!BQ16:BS16) -> 824.80347 | Z16: =SUM(Monthly!BT16:BV16) -> 581.3757 | AA16: =SUM(Monthly!BW16:BY16) -> 676.97815 | AB16: =SUM(Monthly!BZ16:CB16) -> 801.33732 | AC16: =SUM(Monthly!CC16:CE16) -> 1098.3343 | AD16: =SUM(Monthly!CF16:CH16) -> 933.45077
B17: Bilanss | C17: =C3-C13 -> 359.06795 | D17: =D3-D13 -> 802.00245 | E17: =E3-E13 -> 885.59488 | F17: =F3-F13 -> 737.77946 | G17: =G3-G13 -> 405.97391 | H17: =H3-H13 -> 104.07221 | I17: =I3-I13 -> 253.31971 | J17: =J3-J13 -> 161.80765 | ... AG17: =AG3-AG13 -> 0
B19: Sisemaine tootmine | G19: =G3/C3-1 -> 0.0070601773 | H19: =H3/D3-1 -> -0.24443174 | I19: =I3/E3-1 -> -0.22812044 | J19: =J3/F3-1 -> -0.20748607 | K19: =K3/G3-1 -> -0.066991433 | L19: =L3/H3-1 -> 0.013445596 | M19: =M3/I3-1 -> 0.37548698 | N19: =N3/J3-1 -> 0.31807243 | ... AG19: =AG3/AC3-1 -> -1
B20: Taastuvenergia | G20: =G4/C4-1 -> 0.27860302 | H20: =H4/D4-1 -> 0.19174416 | I20: =I4/E4-1 -> -0.045955762 | J20: =J4/F4-1 -> 0.027817709 | K20: =K4/G4-1 -> -0.21969717 | L20: =L4/H4-1 -> -0.14766329 | M20: =M4/I4-1 -> 0.068004632 | N20: =N4/J4-1 -> 0.082196479 | ... AG20: =AG4/AC4-1 -> -1
B21: sh tuuleenergia | G21: =G5/C5-1 -> 0.43404366 | H21: =H5/D5-1 -> 0.35957084 | I21: =I5/E5-1 -> -0.025142002 | J21: =J5/F5-1 -> 0.053326517 | K21: =K5/G5-1 -> -0.37813907 | L21: =L5/H5-1 -> -0.34060822 | M21: =M5/I5-1 -> 0.13551808 | N21: =N5/J5-1 -> 0.10595126 | ... AG21: =AG5/AC5-1 -> -1
B22: sh hüdroenergia | G22: =G6/C6-1 -> 0.21757276 | H22: =H6/D6-1 -> -0.010814856 | I22: =I6/E6-1 -> -0.49691902 | J22: =J6/F6-1 -> -0.039447974 | K22: =K6/G6-1 -> -0.22505425 | L22: =L6/H6-1 -> 0.12694978 | M22: =M6/I6-1 -> 3.0437569 | N22: =N6/J6-1 -> 0.81152544 | ... AG22: =AG6/AC6-1 -> -1
B23: sh biomass, biogaas | G23: =G7/C7-1 -> 0.13700983 | H23: =H7/D7-1 -> 0.08995801 | I23: =I7/E7-1 -> -0.051258596 | J23: =J7/F7-1 -> 0.0065301329 | K23: =K7/G7-1 -> -0.033740344 | L23: =L7/H7-1 -> -0.0061328423 | M23: =M7/I7-1 -> -0.0096102472 | N23: =N7/J7-1 -> 0.044762446 | ... AG23: =AG7/AC7-1 -> -1
B24: Mittetaastuv | G24: =G8/C8-1 -> -0.033456371 | H24: =H8/D8-1 -> -0.2994899 | I24: =I8/E8-1 -> -0.25120521 | J24: =J8/F8-1 -> -0.24609003 | K24: =K8/G8-1 -> -0.036850015 | L24: =L8/H8-1 -> 0.04804337 | M24: =M8/I8-1 -> 0.42513331 | N24: =N8/J8-1 -> 0.3708298 | ... AG24: =AG8/AC8-1 -> -1
B25: Sisemaine tarbimine | G25: =G13/C13-1 -> -0.012175063 | H25: =H13/D13-1 -> 0.029581211 | I25: =I13/E13-1 -> 0.016186459 | J25: =J13/F13-1 -> -0.017072186 | K25: =K13/G13-1 -> 0.063782819 | L25: =L13/H13-1 -> -0.013370549 | M25: =M13/I13-1 -> 0.0059511655 | N25: =N13/J13-1 -> 0.053458494 | ... AG25: =AG13/AC13-1 -> -1
B27: Baltikumi elektribilanss, GWh | C27: 2014-Q1 | D27: 2014-Q2 | E27: 2014-Q3 | F27: 2014-Q4 | G27: 2015-Q1 | H27: 2015-Q2 | I27: 2015-Q3 | J27: 2015-Q4 | K27: 2016-Q1 | L27: 2016-Q2 | M27: 2016-Q3 | N27: 2016-Q4 | O27: 2017-Q1 | P27: 2017-Q2 | Q27: 2017-Q3 | R27: 2017-Q4 | S27: 2018-Q1 | T27: 2018-Q2 | U27: 2018-Q3 | V27: 2018-Q4 | W27: 2019-Q1 | X27: 2019-Q2 | Y27: 2019-Q3 | Z27: 2019-Q4 | AA27: 2020-Q1 | AB27: 2020-Q2 | AC27: 2020-Q3 | AD27: 2020-Q4 | AE27: 2021-Q1 | AF27: 2021-Q2 | AG27: 2021-Q3 | AH27: 2021-Q4
B28: Tootmine Eestis | C28: =SUM(Monthly!C30:E30) -> 2665.8172 | D28: =SUM(Monthly!F30:H30) -> 2633.6509 | E28: =SUM(Monthly!I30:K30) -> 2646.7112 | F28: =SUM(Monthly!L30:N30) -> 2958.6933 | G28: =SUM(Monthly!O30:Q30) -> 2684.6384 | H28: =SUM(Monthly!R30:T30) -> 1989.903 | I28: =SUM(Monthly!U30:W30) -> 2042.9423 | J28: =SUM(Monthly!X30:Z30) -> 2344.8057 | K28: =SUM(Monthly!AA30:AC30) -> 2504.7906 | L28: =SUM(Monthly!AD30:AF30) -> 2016.6585 | M28: =SUM(Monthly!AG30:AI30) -> 2810.0405 | N28: =SUM(Monthly!AJ30:AL30) -> 3090.6237 | O28: =SUM(Monthly!AM30:AO30) -> 3173.5468 | P28: =SUM(Monthly!AP30:AR30) -> 2781.5074 | Q28: =SUM(Monthly!AS30:AU30) -> 2448.4619 | R28: =SUM(Monthly!AV30:AX30) -> 2830.9176 | S28: =SUM(Monthly!AY30:BA30) -> 3103.2995 | T28: =SUM(Monthly!BB30:BD30) -> 2404.7424 | U28: =SUM(Monthly!BE30:BG30) -> 2573.7728 | V28: =SUM(Monthly!BH30:BJ30) -> 2501.3602 | W28: =SUM(Monthly!BK30:BM30) -> 2413.4041 | X28: =SUM(Monthly!BN30:BP30) -> 1402.0332 | Y28: =SUM(Monthly!BQ30:BS30) -> 1172.115 | Z28: =SUM(Monthly!BT30:BV30) -> 1459.6763 | AA28: =SUM(Monthly!BW30:BY30) -> 1168.2815 | AB28: =SUM(Monthly!BZ30:CB30) -> 911.12346 | AC28: =SUM(Monthly!CC30:CE30) -> 1329.5766 | AD28: =SUM(Monthly!CF30:CH30) -> 1394.3654
B29: Tootmine Lätis | C29: =SUM(Monthly!C31:E31) -> 1588.8168 | D29: =SUM(Monthly!F31:H31) -> 1209.7684 | E29: =SUM(Monthly!I31:K31) -> 822.35341 | F29: =SUM(Monthly!L31:N31) -> 1305.1108 | G29: =SUM(Monthly!O31:Q31) -> 1435.8273 | H29: =SUM(Monthly!R31:T31) -> 1240.3384 | I29: =SUM(Monthly!U31:W31) -> 1064.1392 | J29: =SUM(Monthly!X31:Z31) -> 1582.1093 | K29: =SUM(Monthly!AA31:AC31) -> 1661.3668 | L29: =SUM(Monthly!AD31:AF31) -> 1537.7593 | M29: =SUM(Monthly!AG31:AI31) -> 950.6817 | N29: =SUM(Monthly!AJ31:AL31) -> 2067.1728 | O29: =SUM(Monthly!AM31:AO31) -> 2285.255 | P29: =SUM(Monthly!AP31:AR31) -> 1678.0861 | Q29: =SUM(Monthly!AS31:AU31) -> 1277.811 | R29: =SUM(Monthly!AV31:AX31) -> 2062.341 | S29: =SUM(Monthly!AY31:BA31) -> 2316.607 | T29: =SUM(Monthly!BB31:BD31) -> 1547.314 | U29: =SUM(Monthly!BE31:BG31) -> 1194.723 | V29: =SUM(Monthly!BH31:BJ31) -> 1395.563 | W29: =SUM(Monthly!BK31:BM31) -> 1737.612 | X29: =SUM(Monthly!BN31:BP31) -> 1324.9 | Y29: =SUM(Monthly!BQ31:BS31) -> 1421.124 | Z29: =SUM(Monthly!BT31:BV31) -> 1636.553 | AA29: =SUM(Monthly!BW31:BY31) -> 1892.219 | AB29: =SUM(Monthly!BZ31:CB31) -> 1289.431 | AC29: =SUM(Monthly!CC31:CE31) -> 976.525 | AD29: =SUM(Monthly!CF31:CH31) -> 1281.294
B30: Tootmine Leedus | C30: =SUM(Monthly!C32:E32) -> 769.37039 | D30: =SUM(Monthly!F32:H32) -> 482.50967 | E30: =SUM(Monthly!I32:K32) -> 985.97011 | F30: =SUM(Monthly!L32:N32) -> 743.38166 | G30: =SUM(Monthly!O32:Q32) -> 743.46927 | H30: =SUM(Monthly!R32:T32) -> 830.3662 | I30: =SUM(Monthly!U32:W32) -> 879.73455 | J30: =SUM(Monthly!X32:Z32) -> 814.98061 | K30: =SUM(Monthly!AA32:AC32) -> 666.484 | L30: =SUM(Monthly!AD32:AF32) -> 577.984 | M30: =SUM(Monthly!AG32:AI32) -> 576.39 | N30: =SUM(Monthly!AJ32:AL32) -> 839.064 | O30: =SUM(Monthly!AM32:AO32) -> 611.412 | P30: =SUM(Monthly!AP32:AR32) -> 577.46034 | Q30: =SUM(Monthly!AS32:AU32) -> 566.056 | R30: =SUM(Monthly!AV32:AX32) -> 728.481 | S30: =SUM(Monthly!AY32:BA32) -> 911.549 | T30: =SUM(Monthly!BB32:BD32) -> 787.255 | U30: =SUM(Monthly!BE32:BG32) -> 753.406 | V30: =SUM(Monthly!BH32:BJ32) -> 794.921 | W30: =SUM(Monthly!BK32:BM32) -> 990.789 | X30: =SUM(Monthly!BN32:BP32) -> 830.166 | Y30: =SUM(Monthly!BQ32:BS32) -> 883.292 | Z30: =SUM(Monthly!BT32:BV32) -> 931.064 | AA30: =SUM(Monthly!BW32:BY32) -> 1169.65 | AB30: =SUM(Monthly!BZ32:CB32) -> 1126.827 | AC30: =SUM(Monthly!CC32:CE32) -> 1397.359 | AD30: =SUM(Monthly!CF32:CH32) -> 1303.425
B31: Kokku | C31: =SUM(Monthly!C33:E33) -> 5024.0044 | D31: =SUM(Monthly!F33:H33) -> 4325.929 | E31: =SUM(Monthly!I33:K33) -> 4455.0347 | F31: =SUM(Monthly!L33:N33) -> 5007.1858 | G31: =SUM(Monthly!O33:Q33) -> 4863.935 | H31: =SUM(Monthly!R33:T33) -> 4060.6077 | I31: =SUM(Monthly!U33:W33) -> 3986.816 | J31: =SUM(Monthly!X33:Z33) -> 4741.8956 | K31: =SUM(Monthly!AA33:AC33) -> 4832.6414 | L31: =SUM(Monthly!AD33:AF33) -> 4132.4017 | M31: =SUM(Monthly!AG33:AI33) -> 4337.1122 | N31: =SUM(Monthly!AJ33:AL33) -> 5996.8605 | O31: =SUM(Monthly!AM33:AO33) -> 6070.2138 | P31: =SUM(Monthly!AP33:AR33) -> 5037.0538 | Q31: =SUM(Monthly!AS33:AU33) -> 4292.3289 | R31: =SUM(Monthly!AV33:AX33) -> 5621.7396 | S31: =SUM(Monthly!AY33:BA33) -> 6331.4555 | T31: =SUM(Monthly!BB33:BD33) -> 4739.3114 | U31: =SUM(Monthly!BE33:BG33) -> 4521.9018 | V31: =SUM(Monthly!BH33:BJ33) -> 4691.8442 | W31: =SUM(Monthly!BK33:BM33) -> 5141.8051 | X31: =SUM(Monthly!BN33:BP33) -> 3557.0992 | Y31: =SUM(Monthly!BQ33:BS33) -> 3476.531 | Z31: =SUM(Monthly!BT33:BV33) -> 4027.2933 | AA31: =SUM(Monthly!BW33:BY33) -> 4230.1505 | AB31: =SUM(Monthly!BZ33:CB33) -> 3327.3815 | AC31: =SUM(Monthly!CC33:CE33) -> 3703.4606 | AD31: =SUM(Monthly!CF33:CH33) -> 3979.0844
B32: Tarbimine Eestis | C32: =SUM(Monthly!C34:E34) -> 2306.7493 | D32: =SUM(Monthly!F34:H34) -> 1831.6484 | E32: =SUM(Monthly!I34:K34) -> 1761.1163 | F32: =SUM(Monthly!L34:N34) -> 2220.9139 | G32: =SUM(Monthly!O34:Q34) -> 2278.6645 | H32: =SUM(Monthly!R34:T34) -> 1885.8308 | I32: =SUM(Monthly!U34:W34) -> 1789.6225 | J32: =SUM(Monthly!X34:Z34) -> 2182.998 | K32: =SUM(Monthly!AA34:AC34) -> 2424.0041 | L32: =SUM(Monthly!AD34:AF34) -> 1860.6162 | M32: =SUM(Monthly!AG34:AI34) -> 1800.2729 | N32: =SUM(Monthly!AJ34:AL34) -> 2299.6978 | O32: =SUM(Monthly!AM34:AO34) -> 2380.8305 | P32: =SUM(Monthly!AP34:AR34) -> 1929.6094 | Q32: =SUM(Monthly!AS34:AU34) -> 1846.4528 | R32: =SUM(Monthly!AV34:AX34) -> 2343.1731 | S32: =SUM(Monthly!AY34:BA34) -> 2549.9808 | T32: =SUM(Monthly!BB34:BD34) -> 1953.9677 | U32: =SUM(Monthly!BE34:BG34) -> 1865.7097 | V32: =SUM(Monthly!BH34:BJ34) -> 2347.7557 | W32: =SUM(Monthly!BK34:BM34) -> 2472.4633 | X32: =SUM(Monthly!BN34:BP34) -> 1956.7089 | Y32: =SUM(Monthly!BQ34:BS34) -> 1863.8249 | Z32: =SUM(Monthly!BT34:BV34) -> 2352.6248 | AA32: =SUM(Monthly!BW34:BY34) -> 2366.228 | AB32: =SUM(Monthly!BZ34:CB34) -> 1902.8773 | AC32: =SUM(Monthly!CC34:CE34) -> 1846.808 | AD32: =SUM(Monthly!CF34:CH34) -> 2317.7349
B33: Tarbimine Lätis | C33: =SUM(Monthly!C35:E35) -> 1981.5414 | D33: =SUM(Monthly!F35:H35) -> 1615.6129 | E33: =SUM(Monthly!I35:K35) -> 1657.3805 | F33: =SUM(Monthly!L35:N35) -> 1930.6771 | G33: =SUM(Monthly!O35:Q35) -> 1915.7422 | H33: =SUM(Monthly!R35:T35) -> 1645.5068 | I33: =SUM(Monthly!U35:W35) -> 1646.8456 | J33: =SUM(Monthly!X35:Z35) -> 1877.7596 | K33: =SUM(Monthly!AA35:AC35) -> 1985.6017 | L33: =SUM(Monthly!AD35:AF35) -> 1660.2925 | M33: =SUM(Monthly!AG35:AI35) -> 1649.9753 | N33: =SUM(Monthly!AJ35:AL35) -> 1928.175 | O33: =SUM(Monthly!AM35:AO35) -> 1962.4835 | P33: =SUM(Monthly!AP35:AR35) -> 1667.5828 | Q33: =SUM(Monthly!AS35:AU35) -> 1668.623 | R33: =SUM(Monthly!AV35:AX35) -> 1929.049 | S33: =SUM(Monthly!AY35:BA35) -> 2011.385 | T33: =SUM(Monthly!BB35:BD35) -> 1689.118 | U33: =SUM(Monthly!BE35:BG35) -> 1708.033 | V33: =SUM(Monthly!BH35:BJ35) -> 1936.879 | W33: =SUM(Monthly!BK35:BM35) -> 1951.008 | X33: =SUM(Monthly!BN35:BP35) -> 1708.354 | Y33: =SUM(Monthly!BQ35:BS35) -> 1689.802 | Z33: =SUM(Monthly!BT35:BV35) -> 1877.249 | AA33: =SUM(Monthly!BW35:BY35) -> 1895.316 | AB33: =SUM(Monthly!BZ35:CB35) -> 1628.235 | AC33: =SUM(Monthly!CC35:CE35) -> 1665.59 | AD33: =SUM(Monthly!CF35:CH35) -> 1869.934
B34: Tarbimine Leedus | C34: =SUM(Monthly!C36:E36) -> 2673.0637 | D34: =SUM(Monthly!F36:H36) -> 2415.9725 | E34: =SUM(Monthly!I36:K36) -> 2626.9462 | F34: =SUM(Monthly!L36:N36) -> 2902.1168 | G34: =SUM(Monthly!O36:Q36) -> 2693.899 | H34: =SUM(Monthly!R36:T36) -> 2456.1132 | I34: =SUM(Monthly!U36:W36) -> 2557.461 | J34: =SUM(Monthly!X36:Z36) -> 2737.059 | K34: =SUM(Monthly!AA36:AC36) -> 2649.261 | L34: =SUM(Monthly!AD36:AF36) -> 2341.287 | M34: =SUM(Monthly!AG36:AI36) -> 2435.38 | N34: =SUM(Monthly!AJ36:AL36) -> 2688.35 | O34: =SUM(Monthly!AM36:AO36) -> 2868.0018 | P34: =SUM(Monthly!AP36:AR36) -> 2574.6388 | Q34: =SUM(Monthly!AS36:AU36) -> 2743.8508 | R34: =SUM(Monthly!AV36:AX36) -> 2960.9746 | S34: =SUM(Monthly!AY36:BA36) -> 3425.1176 | T34: =SUM(Monthly!BB36:BD36) -> 2945.4838 | U34: =SUM(Monthly!BE36:BG36) -> 3074.8899 | V34: =SUM(Monthly!BH36:BJ36) -> 3439.8912 | W34: =SUM(Monthly!BK36:BM36) -> 3324.8915 | X34: =SUM(Monthly!BN36:BP36) -> 3072.4048 | Y34: =SUM(Monthly!BQ36:BS36) -> 3230.6304 | Z34: =SUM(Monthly!BT36:BV36) -> 3353.6762 | AA34: =SUM(Monthly!BW36:BY36) -> 3411.4096 | AB34: =SUM(Monthly!BZ36:CB36) -> 2918.485 | AC34: =SUM(Monthly!CC36:CE36) -> 3122.7168 | AD34: =SUM(Monthly!CF36:CH36) -> 3455.0027
B35: Kokku | C35: =SUM(Monthly!C37:E37) -> 6961.3544 | D35: =SUM(Monthly!F37:H37) -> 5863.2339 | E35: =SUM(Monthly!I37:K37) -> 6045.4429 | F35: =SUM(Monthly!L37:N37) -> 7053.7078 | G35: =SUM(Monthly!O37:Q37) -> 6888.3056 | H35: =SUM(Monthly!R37:T37) -> 5987.4508 | I35: =SUM(Monthly!U37:W37) -> 5993.9292 | J35: =SUM(Monthly!X37:Z37) -> 6797.8166 | K35: =SUM(Monthly!AA37:AC37) -> 7058.8669 | L35: =SUM(Monthly!AD37:AF37) -> 5862.1957 | M35: =SUM(Monthly!AG37:AI37) -> 5885.6282 | N35: =SUM(Monthly!AJ37:AL37) -> 6916.2228 | O35: =SUM(Monthly!AM37:AO37) -> 7211.3158 | P35: =SUM(Monthly!AP37:AR37) -> 6171.831 | Q35: =SUM(Monthly!AS37:AU37) -> 6258.9266 | R35: =SUM(Monthly!AV37:AX37) -> 7233.1968 | S35: =SUM(Monthly!AY37:BA37) -> 7986.4834 | T35: =SUM(Monthly!BB37:BD37) -> 6588.5695 | U35: =SUM(Monthly!BE37:BG37) -> 6648.6325 | V35: =SUM(Monthly!BH37:BJ37) -> 7724.5259 | W35: =SUM(Monthly!BK37:BM37) -> 7748.3628 | X35: =SUM(Monthly!BN37:BP37) -> 6737.4677 | Y35: =SUM(Monthly!BQ37:BS37) -> 6784.2573 | Z35: =SUM(Monthly!BT37:BV37) -> 7583.5499 | AA35: =SUM(Monthly!BW37:BY37) -> 7672.9536 | AB35: =SUM(Monthly!BZ37:CB37) -> 6449.5973 | AC35: =SUM(Monthly!CC37:CE37) -> 6635.1148 | AD35: =SUM(Monthly!CF37:CH37) -> 7642.6715
B36: Eesti saldo | C36: =C28-C32 -> 359.06795 | D36: =D28-D32 -> 802.00245 | E36: =E28-E32 -> 885.59488 | F36: =F28-F32 -> 737.77946 | G36: =G28-G32 -> 405.97391 | H36: =H28-H32 -> 104.07221 | I36: =I28-I32 -> 253.31971 | J36: =J28-J32 -> 161.80765 | ... AG36: =AG28-AG32 -> 0
B37: Läti saldo | C37: =C29-C33 -> -392.72463 | D37: =D29-D33 -> -405.8445 | E37: =E29-E33 -> -835.02706 | F37: =F29-F33 -> -625.56633 | G37: =G29-G33 -> -479.91486 | H37: =H29-H33 -> -405.16833 | I37: =I29-I33 -> -582.70647 | J37: =J29-J33 -> -295.65028 | ... AG37: =AG29-AG33 -> 0
B38: Leedu saldo | C38: =C30-C34 -> -1903.6933 | D38: =D30-D34 -> -1933.4629 | E38: =E30-E34 -> -1640.9761 | F38: =F30-F34 -> -2158.7352 | G38: =G30-G34 -> -1950.4297 | H38: =H30-H34 -> -1625.747 | I38: =I30-I34 -> -1677.7265 | J38: =J30-J34 -> -1922.0784 | ... AG38: =AG30-AG34 -> 0
B39: Saldo Kokku | C39: =C31-C35 -> -1937.35 | D39: =D31-D35 -> -1537.3049 | E39: =E31-E35 -> -1590.4082 | F39: =F31-F35 -> -2046.522 | G39: =G31-G35 -> -2024.3706 | H39: =H31-H35 -> -1926.8431 | I39: =I31-I35 -> -2007.1132 | J39: =J31-J35 -> -2055.9211 | ... AG39: =AG31-AG35 -> 0
B41: Tootmine Eestis | G41: =G28/C28-1 -> 0.0070601773 | H41: =H28/D28-1 -> -0.24443174 | I41: =I28/E28-1 -> -0.22812044 | J41: =J28/F28-1 -> -0.20748607 | K41: =K28/G28-1 -> -0.066991433 | L41: =L28/H28-1 -> 0.013445596 | M41: =M28/I28-1 -> 0.37548698 | N41: =N28/J28-1 -> 0.31807243 | ... AG41: =AG28/AC28-1 -> -1
B42: Tootmine Lätis | G42: =G29/C29-1 -> -0.096291459 | H42: =H29/D29-1 -> 0.025269311 | I42: =I29/E29-1 -> 0.29401685 | J42: =J29/F29-1 -> 0.21224139 | K42: =K29/G29-1 -> 0.15707984 | L42: =L29/H29-1 -> 0.23979007 | M42: =M29/I29-1 -> -0.10661901 | N42: =N29/J29-1 -> 0.30659295 | ... AG42: =AG29/AC29-1 -> -1
B43: Tootmine Leedus | G43: =G30/C30-1 -> -0.03366535 | H43: =H30/D30-1 -> 0.72093172 | I43: =I30/E30-1 -> -0.10774724 | J43: =J30/F30-1 -> 0.096315199 | K43: =K30/G30-1 -> -0.10354869 | L43: =L30/H30-1 -> -0.30394084 | M43: =M30/I30-1 -> -0.34481373 | N43: =N30/J30-1 -> 0.029550871 | ... AG43: =AG30/AC30-1 -> -1
B44: Kokku | G44: =G31/C31-1 -> -0.031860933 | H44: =H31/D31-1 -> -0.061332795 | I44: =I31/E31-1 -> -0.10509878 | J44: =J31/F31-1 -> -0.052981896 | K44: =K31/G31-1 -> -0.0064337858 | L44: =L31/H31-1 -> 0.017680624 | M44: =M31/I31-1 -> 0.087863647 | N44: =N31/J31-1 -> 0.2646547 | ... AG44: =AG31/AC31-1 -> -1
B45: Tarbimine Eestis | G45: =G32/C32-1 -> -0.012175063 | H45: =H32/D32-1 -> 0.029581211 | I45: =I32/E32-1 -> 0.016186459 | J45: =J32/F32-1 -> -0.017072186 | K45: =K32/G32-1 -> 0.063782819 | L45: =L32/H32-1 -> -0.013370549 | M45: =M32/I32-1 -> 0.0059511655 | N45: =N32/J32-1 -> 0.053458494 | ... AG45: =AG32/AC32-1 -> -1
B46: Tarbimine Lätis | G46: =G33/C33-1 -> -0.033206098 | H46: =H33/D33-1 -> 0.0185031 | I46: =I33/E33-1 -> -0.0063563142 | J46: =J33/F33-1 -> -0.02740879 | K46: =K33/G33-1 -> 0.036466073 | L46: =L33/H33-1 -> 0.0089855165 | M46: =M33/I33-1 -> 0.001900392 | N46: =N33/J33-1 -> 0.026848716 | ... AG46: =AG33/AC33-1 -> -1
B47: Tarbimine Leedus | G47: =G34/C34-1 -> 0.0077945295 | H47: =H34/D34-1 -> 0.016614701 | I47: =I34/E34-1 -> -0.02645092 | J47: =J34/F34-1 -> -0.056874965 | K47: =K34/G34-1 -> -0.016570019 | L47: =L34/H34-1 -> -0.046751184 | M47: =M34/I34-1 -> -0.047735241 | N47: =N34/J34-1 -> -0.017796127 | ... AG47: =AG34/AC34-1 -> -1
B48: Kokku | G48: =G35/C35-1 -> -0.010493476 | H48: =H35/D35-1 -> 0.02118573 | I48: =I35/E35-1 -> -0.0085210858 | J48: =J35/F35-1 -> -0.036277541 | K48: =K35/G35-1 -> 0.024760992 | L48: =L35/H35-1 -> -0.020919598 | M48: =M35/I35-1 -> -0.018068453 | N48: =N35/J35-1 -> 0.017418265 | ... AG48: =AG35/AC35-1 -> -1
B50: Põhjamaade elektribilanss, GWh | C50: 2014-Q1 | D50: 2014-Q2 | E50: 2014-Q3 | F50: 2014-Q4 | G50: 2015-Q1 | H50: 2015-Q2 | I50: 2015-Q3 | J50: 2015-Q4 | K50: 2016-Q1 | L50: 2016-Q2 | M50: 2016-Q3 | N50: 2016-Q4 | O50: 2017-Q1 | P50: 2017-Q2 | Q50: 2017-Q3 | R50: 2017-Q4 | S50: 2018-Q1 | T50: 2018-Q2 | U50: 2018-Q3 | V50: 2018-Q4 | W50: 2019-Q1 | X50: 2019-Q2 | Y50: 2019-Q3 | Z50: 2019-Q4 | AA50: 2020-Q1 | AB50: 2020-Q2 | AC50: 2020-Q3 | AD50: 2020-Q4 | AE50: 2021-Q1 | AF50: 2021-Q2 | AG50: 2021-Q3 | AH50: 2021-Q4
B51: Tootmine Norras | C51: =SUM(Monthly!C53:E53) -> 38803.153 | D51: =SUM(Monthly!F53:H53) -> 32934.269 | E51: =SUM(Monthly!I53:K53) -> 30606.529 | F51: =SUM(Monthly!L53:N53) -> 39234.784 | G51: =SUM(Monthly!O53:Q53) -> 40863.048 | H51: =SUM(Monthly!R53:T53) -> 32610.202 | I51: =SUM(Monthly!U53:W53) -> 30969.108 | J51: =SUM(Monthly!X53:Z53) -> 38932.923 | K51: =SUM(Monthly!AA53:AC53) -> 44937.495 | L51: =SUM(Monthly!AD53:AF53) -> 33784.586 | M51: =SUM(Monthly!AG53:AI53) -> 30741.261 | N51: =SUM(Monthly!AJ53:AL53) -> 39333.696 | O51: =SUM(Monthly!AM53:AO53) -> 41332.834 | P51: =SUM(Monthly!AP53:AR53) -> 33281.211 | Q51: =SUM(Monthly!AS53:AU53) -> 32675.996 | R51: =SUM(Monthly!AV53:AX53) -> 40906.187 | S51: =SUM(Monthly!AY53:BA53) -> 44547.413 | T51: =SUM(Monthly!BB53:BD53) -> 29958.538 | U51: =SUM(Monthly!BE53:BG53) -> 30713.045 | V51: =SUM(Monthly!BH53:BJ53) -> 40480.442 | W51: =SUM(Monthly!BK53:BM53) -> 37727.563 | X51: =SUM(Monthly!BN53:BP53) -> 28581.272 | Y51: =SUM(Monthly!BQ53:BS53) -> 30382.035 | Z51: =SUM(Monthly!BT53:BV53) -> 36691.693 | AA51: =SUM(Monthly!BW53:BY53) -> 40436.481 | AB51: =SUM(Monthly!BZ53:CB53) -> 34847.855 | AC51: =SUM(Monthly!CC53:CE53) -> 34602.014 | AD51: =SUM(Monthly!CF53:CH53) -> 43443.035
B52: Tootmine Rootsis | C52: =SUM(Monthly!C54:E54) -> 46484.805 | D52: =SUM(Monthly!F54:H54) -> 33692.342 | E52: =SUM(Monthly!I54:K54) -> 30057.906 | F52: =SUM(Monthly!L54:N54) -> 39927.883 | G52: =SUM(Monthly!O54:Q54) -> 43916.296 | H52: =SUM(Monthly!R54:T54) -> 36956.701 | I52: =SUM(Monthly!U54:W54) -> 35325.873 | J52: =SUM(Monthly!X54:Z54) -> 41682.706 | K52: =SUM(Monthly!AA54:AC54) -> 46503.246 | L52: =SUM(Monthly!AD54:AF54) -> 33902.565 | M52: =SUM(Monthly!AG54:AI54) -> 30746.424 | N52: =SUM(Monthly!AJ54:AL54) -> 39259.574 | O52: =SUM(Monthly!AM54:AO54) -> 46230.137 | P52: =SUM(Monthly!AP54:AR54) -> 36519.791 | Q52: =SUM(Monthly!AS54:AU54) -> 32844.207 | R52: =SUM(Monthly!AV54:AX54) -> 42936.331 | S52: =SUM(Monthly!AY54:BA54) -> 47106.801 | T52: =SUM(Monthly!BB54:BD54) -> 36850.454 | U52: =SUM(Monthly!BE54:BG54) -> 30771.039 | V52: =SUM(Monthly!BH54:BJ54) -> 42267.107 | W52: =SUM(Monthly!BK54:BM54) -> 46226.061 | X52: =SUM(Monthly!BN54:BP54) -> 38684.881 | Y52: =SUM(Monthly!BQ54:BS54) -> 33691.041 | Z52: =SUM(Monthly!BT54:BV54) -> 44091.166 | AA52: =SUM(Monthly!BW54:BY54) -> 48350.821 | AB52: =SUM(Monthly!BZ54:CB54) -> 35646.787 | AC52: =SUM(Monthly!CC54:CE54) -> 32090.934 | AD52: =SUM(Monthly!CF54:CH54) -> 41754.729
B53: Tootmine Soomes | C53: =SUM(Monthly!C55:E55) -> 18958.529 | D53: =SUM(Monthly!F55:H55) -> 14893.479 | E53: =SUM(Monthly!I55:K55) -> 13481.17 | F53: =SUM(Monthly!L55:N55) -> 17441.094 | G53: =SUM(Monthly!O55:Q55) -> 17943.908 | H53: =SUM(Monthly!R55:T55) -> 15443.525 | I53: =SUM(Monthly!U55:W55) -> 14046.133 | J53: =SUM(Monthly!X55:Z55) -> 17803.997 | K53: =SUM(Monthly!AA55:AC55) -> 19166.085 | L53: =SUM(Monthly!AD55:AF55) -> 14465.356 | M53: =SUM(Monthly!AG55:AI55) -> 13608.728 | N53: =SUM(Monthly!AJ55:AL55) -> 18079.182 | O53: =SUM(Monthly!AM55:AO55) -> 18679.042 | P53: =SUM(Monthly!AP55:AR55) -> 13993.974 | Q53: =SUM(Monthly!AS55:AU55) -> 13137.68 | R53: =SUM(Monthly!AV55:AX55) -> 17528.793 | S53: =SUM(Monthly!AY55:BA55) -> 20186.788 | T53: =SUM(Monthly!BB55:BD55) -> 14007.939 | U53: =SUM(Monthly!BE55:BG55) -> 13747.683 | V53: =SUM(Monthly!BH55:BJ55) -> 18302.93 | W53: =SUM(Monthly!BK55:BM55) -> 19314.831 | X53: =SUM(Monthly!BN55:BP55) -> 14645.608 | Y53: =SUM(Monthly!BQ55:BS55) -> 12870.12 | Z53: =SUM(Monthly!BT55:BV55) -> 16972.455 | AA53: =SUM(Monthly!BW55:BY55) -> 18455.105 | AB53: =SUM(Monthly!BZ55:CB55) -> 14709.602 | AC53: =SUM(Monthly!CC55:CE55) -> 13239.71 | AD53: =SUM(Monthly!CF55:CH55) -> 17339.22
B54: Tootmine Taanis | C54: =SUM(Monthly!C56:E56) -> 9988.14 | D54: =SUM(Monthly!F56:H56) -> 6153.953 | E54: =SUM(Monthly!I56:K56) -> 5996.884 | F54: =SUM(Monthly!L56:N56) -> 8610.206 | G54: =SUM(Monthly!O56:Q56) -> 8981.129 | H54: =SUM(Monthly!R56:T56) -> 6230.949 | I54: =SUM(Monthly!U56:W56) -> 4543.498 | J54: =SUM(Monthly!X56:Z56) -> 7269.273 | K54: =SUM(Monthly!AA56:AC56) -> 8329.657 | L54: =SUM(Monthly!AD56:AF56) -> 5402.745 | M54: =SUM(Monthly!AG56:AI56) -> 5048.558 | N54: =SUM(Monthly!AJ56:AL56) -> 8558.027 | O54: =SUM(Monthly!AM56:AO56) -> 8873.777 | P54: =SUM(Monthly!AP56:AR56) -> 6283.525 | Q54: =SUM(Monthly!AS56:AU56) -> 4716.678 | R54: =SUM(Monthly!AV56:AX56) -> 8122.433 | S54: =SUM(Monthly!AY56:BA56) -> 9545.255 | T54: =SUM(Monthly!BB56:BD56) -> 5663.342 | U54: =SUM(Monthly!BE56:BG56) -> 5279.496 | V54: =SUM(Monthly!BH56:BJ56) -> 8066.672 | W54: =SUM(Monthly!BK56:BM56) -> 9237.501 | X54: =SUM(Monthly!BN56:BP56) -> 5734.877 | Y54: =SUM(Monthly!BQ56:BS56) -> 5094.359 | Z54: =SUM(Monthly!BT56:BV56) -> 7823.157 | AA54: =SUM(Monthly!BW56:BY56) -> 9343.643 | AB54: =SUM(Monthly!BZ56:CB56) -> 5706.405 | AC54: =SUM(Monthly!CC56:CE56) -> 5072.844 | AD54: =SUM(Monthly!CF56:CH56) -> 7057.379
B55: Kokku | C55: =SUM(Monthly!C57:E57) -> 114234.63 | D55: =SUM(Monthly!F57:H57) -> 87674.043 | E55: =SUM(Monthly!I57:K57) -> 80142.489 | F55: =SUM(Monthly!L57:N57) -> 105213.97 | G55: =SUM(Monthly!O57:Q57) -> 111704.38 | H55: =SUM(Monthly!R57:T57) -> 91241.377 | I55: =SUM(Monthly!U57:W57) -> 84884.612 | J55: =SUM(Monthly!X57:Z57) -> 105688.9 | K55: =SUM(Monthly!AA57:AC57) -> 118936.48 | L55: =SUM(Monthly!AD57:AF57) -> 87555.252 | M55: =SUM(Monthly!AG57:AI57) -> 80144.971 | N55: =SUM(Monthly!AJ57:AL57) -> 105230.48 | O55: =SUM(Monthly!AM57:AO57) -> 115115.79 | P55: =SUM(Monthly!AP57:AR57) -> 90078.501 | Q55: =SUM(Monthly!AS57:AU57) -> 83374.561 | R55: =SUM(Monthly!AV57:AX57) -> 109493.74 | S55: =SUM(Monthly!AY57:BA57) -> 121386.26 | T55: =SUM(Monthly!BB57:BD57) -> 86480.273 | U55: =SUM(Monthly!BE57:BG57) -> 80511.263 | V55: =SUM(Monthly!BH57:BJ57) -> 109117.15 | W55: =SUM(Monthly!BK57:BM57) -> 112505.96 | X55: =SUM(Monthly!BN57:BP57) -> 87646.638 | Y55: =SUM(Monthly!BQ57:BS57) -> 82037.555 | Z55: =SUM(Monthly!BT57:BV57) -> 105578.47 | AA55: =SUM(Monthly!BW57:BY57) -> 116586.05 | AB55: =SUM(Monthly!BZ57:CB57) -> 90910.649 | AC55: =SUM(Monthly!CC57:CE57) -> 85005.502 | AD55: =SUM(Monthly!CF57:CH57) -> 109594.36
B56: Tarbimine Norras | C56: =SUM(Monthly!C58:E58) -> 37569.97 | D56: =SUM(Monthly!F58:H58) -> 27812.949 | E56: =SUM(Monthly!I58:K58) -> 24989.107 | F56: =SUM(Monthly!L58:N58) -> 35503.812 | G56: =SUM(Monthly!O58:Q58) -> 37974.239 | H56: =SUM(Monthly!R58:T58) -> 29241.573 | I56: =SUM(Monthly!U58:W58) -> 26030.745 | J56: =SUM(Monthly!X58:Z58) -> 35358.761 | K56: =SUM(Monthly!AA58:AC58) -> 40946.837 | L56: =SUM(Monthly!AD58:AF58) -> 29088.825 | M56: =SUM(Monthly!AG58:AI58) -> 25552.515 | N56: =SUM(Monthly!AJ58:AL58) -> 36745.791 | O56: =SUM(Monthly!AM58:AO58) -> 39327.031 | P56: =SUM(Monthly!AP58:AR58) -> 29483.203 | Q56: =SUM(Monthly!AS58:AU58) -> 26513.551 | R56: =SUM(Monthly!AV58:AX58) -> 37563.578 | S56: =SUM(Monthly!AY58:BA58) -> 42115.284 | T56: =SUM(Monthly!BB58:BD58) -> 29282.25 | U56: =SUM(Monthly!BE58:BG58) -> 26704.985 | V56: =SUM(Monthly!BH58:BJ58) -> 37343.27 | W56: =SUM(Monthly!BK58:BM58) -> 39845.96 | X56: =SUM(Monthly!BN58:BP58) -> 29114.407 | Y56: =SUM(Monthly!BQ58:BS58) -> 26513.77 | Z56: =SUM(Monthly!BT58:BV58) -> 38003.717 | AA56: =SUM(Monthly!BW58:BY58) -> 39241.439 | AB56: =SUM(Monthly!BZ58:CB58) -> 29758.785 | AC56: =SUM(Monthly!CC58:CE58) -> 27258.764 | AD56: =SUM(Monthly!CF58:CH58) -> 36601.594
B57: Tarbimine Rootsis | C57: =SUM(Monthly!C59:E59) -> 39761.286 | D57: =SUM(Monthly!F59:H59) -> 30120.581 | E57: =SUM(Monthly!I59:K59) -> 27483.786 | F57: =SUM(Monthly!L59:N59) -> 36427.965 | G57: =SUM(Monthly!O59:Q59) -> 39406.673 | H57: =SUM(Monthly!R59:T59) -> 30961.373 | I57: =SUM(Monthly!U59:W59) -> 28126.518 | J57: =SUM(Monthly!X59:Z59) -> 36435.753 | K57: =SUM(Monthly!AA59:AC59) -> 42374.777 | L57: =SUM(Monthly!AD59:AF59) -> 30524.124 | M57: =SUM(Monthly!AG59:AI59) -> 27414.762 | N57: =SUM(Monthly!AJ59:AL59) -> 37871.986 | O57: =SUM(Monthly!AM59:AO59) -> 41345.524 | P57: =SUM(Monthly!AP59:AR59) -> 31068.125 | Q57: =SUM(Monthly!AS59:AU59) -> 28177.354 | R57: =SUM(Monthly!AV59:AX59) -> 37524.774 | S57: =SUM(Monthly!AY59:BA59) -> 42613.951 | T57: =SUM(Monthly!BB59:BD59) -> 30161.056 | U57: =SUM(Monthly!BE59:BG59) -> 27833.913 | V57: =SUM(Monthly!BH59:BJ59) -> 37606.783 | W57: =SUM(Monthly!BK59:BM59) -> 40840.549 | X57: =SUM(Monthly!BN59:BP59) -> 30368.448 | Y57: =SUM(Monthly!BQ59:BS59) -> 27848.959 | Z57: =SUM(Monthly!BT59:BV59) -> 37352.499 | AA57: =SUM(Monthly!BW59:BY59) -> 39579.049 | AB57: =SUM(Monthly!BZ59:CB59) -> 29896.767 | AC57: =SUM(Monthly!CC59:CE59) -> 27246.001 | AD57: =SUM(Monthly!CF59:CH59) -> 36211.106
B58: Tarbimine Soomes | C58: =SUM(Monthly!C60:E60) -> 23559.515 | D58: =SUM(Monthly!F60:H60) -> 18731.232 | E58: =SUM(Monthly!I60:K60) -> 18157.202 | F58: =SUM(Monthly!L60:N60) -> 22066.591 | G58: =SUM(Monthly!O60:Q60) -> 22930.523 | H58: =SUM(Monthly!R60:T60) -> 18539.258 | I58: =SUM(Monthly!U60:W60) -> 18060.497 | J58: =SUM(Monthly!X60:Z60) -> 21785.186 | K58: =SUM(Monthly!AA60:AC60) -> 24354.542 | L58: =SUM(Monthly!AD60:AF60) -> 18514.475 | M58: =SUM(Monthly!AG60:AI60) -> 18256.98 | N58: =SUM(Monthly!AJ60:AL60) -> 22822.798 | O58: =SUM(Monthly!AM60:AO60) -> 23871.713 | P58: =SUM(Monthly!AP60:AR60) -> 19024.016 | Q58: =SUM(Monthly!AS60:AU60) -> 18294.755 | R58: =SUM(Monthly!AV60:AX60) -> 22212.882 | S58: =SUM(Monthly!AY60:BA60) -> 25233.492 | T58: =SUM(Monthly!BB60:BD60) -> 18797.561 | U58: =SUM(Monthly!BE60:BG60) -> 18715.928 | V58: =SUM(Monthly!BH60:BJ60) -> 23043.106 | W58: =SUM(Monthly!BK60:BM60) -> 24873.378 | X58: =SUM(Monthly!BN60:BP60) -> 18489.061 | Y58: =SUM(Monthly!BQ60:BS60) -> 18109.673 | Z58: =SUM(Monthly!BT60:BV60) -> 21968.921 | AA58: =SUM(Monthly!BW60:BY60) -> 22150.542 | AB58: =SUM(Monthly!BZ60:CB60) -> 17920.77 | AC58: =SUM(Monthly!CC60:CE60) -> 17147.457 | AD58: =SUM(Monthly!CF60:CH60) -> 21134.389
B59: Tarbimine Taanis | C59: =SUM(Monthly!C61:E61) -> 9114.753 | D59: =SUM(Monthly!F61:H61) -> 7812.469 | E59: =SUM(Monthly!I61:K61) -> 7792.933 | F59: =SUM(Monthly!L61:N61) -> 8784.18 | G59: =SUM(Monthly!O61:Q61) -> 8940.462 | H59: =SUM(Monthly!R61:T61) -> 7716.226 | I59: =SUM(Monthly!U61:W61) -> 7656.768 | J59: =SUM(Monthly!X61:Z61) -> 8494.67 | K59: =SUM(Monthly!AA61:AC61) -> 8851.549 | L59: =SUM(Monthly!AD61:AF61) -> 7661.897 | M59: =SUM(Monthly!AG61:AI61) -> 7410.937 | N59: =SUM(Monthly!AJ61:AL61) -> 8359.082 | O59: =SUM(Monthly!AM61:AO61) -> 8542.26 | P59: =SUM(Monthly!AP61:AR61) -> 7528.216 | Q59: =SUM(Monthly!AS61:AU61) -> 7584.349 | R59: =SUM(Monthly!AV61:AX61) -> 8785.314 | S59: =SUM(Monthly!AY61:BA61) -> 9195.167 | T59: =SUM(Monthly!BB61:BD61) -> 7880.177 | U59: =SUM(Monthly!BE61:BG61) -> 7741.305 | V59: =SUM(Monthly!BH61:BJ61) -> 8755.984 | W59: =SUM(Monthly!BK61:BM61) -> 8891.055 | X59: =SUM(Monthly!BN61:BP61) -> 7835.275 | Y59: =SUM(Monthly!BQ61:BS61) -> 7866.094 | Z59: =SUM(Monthly!BT61:BV61) -> 8944.945 | AA59: =SUM(Monthly!BW61:BY61) -> 9139.388 | AB59: =SUM(Monthly!BZ61:CB61) -> 7946.808 | AC59: =SUM(Monthly!CC61:CE61) -> 7983.315 | AD59: =SUM(Monthly!CF61:CH61) -> 9016.947
B60: Kokku | C60: =SUM(Monthly!C62:E62) -> 110005.52 | D60: =SUM(Monthly!F62:H62) -> 84477.231 | E60: =SUM(Monthly!I62:K62) -> 78423.028 | F60: =SUM(Monthly!L62:N62) -> 102782.55 | G60: =SUM(Monthly!O62:Q62) -> 109251.9 | H60: =SUM(Monthly!R62:T62) -> 86458.43 | I60: =SUM(Monthly!U62:W62) -> 79874.528 | J60: =SUM(Monthly!X62:Z62) -> 102074.37 | K60: =SUM(Monthly!AA62:AC62) -> 116527.7 | L60: =SUM(Monthly!AD62:AF62) -> 85789.321 | M60: =SUM(Monthly!AG62:AI62) -> 78635.194 | N60: =SUM(Monthly!AJ62:AL62) -> 105799.66 | O60: =SUM(Monthly!AM62:AO62) -> 113086.53 | P60: =SUM(Monthly!AP62:AR62) -> 87103.56 | Q60: =SUM(Monthly!AS62:AU62) -> 80570.009 | R60: =SUM(Monthly!AV62:AX62) -> 106086.55 | S60: =SUM(Monthly!AY62:BA62) -> 119157.89 | T60: =SUM(Monthly!BB62:BD62) -> 86121.044 | U60: =SUM(Monthly!BE62:BG62) -> 80996.131 | V60: =SUM(Monthly!BH62:BJ62) -> 106749.14 | W60: =SUM(Monthly!BK62:BM62) -> 114450.94 | X60: =SUM(Monthly!BN62:BP62) -> 85807.191 | Y60: =SUM(Monthly!BQ62:BS62) -> 80338.496 | Z60: =SUM(Monthly!BT62:BV62) -> 106270.08 | AA60: =SUM(Monthly!BW62:BY62) -> 110110.42 | AB60: =SUM(Monthly!BZ62:CB62) -> 85523.13 | AC60: =SUM(Monthly!CC62:CE62) -> 79635.537 | AD60: =SUM(Monthly!CF62:CH62) -> 102964.04
B61: Norra saldo | C61: =C51-C56 -> 1233.183 | D61: =D51-D56 -> 5121.32 | E61: =E51-E56 -> 5617.422 | F61: =F51-F56 -> 3730.972 | G61: =G51-G56 -> 2888.809 | H61: =H51-H56 -> 3368.629 | I61: =I51-I56 -> 4938.363 | J61: =J51-J56 -> 3574.162 | ... AG61: =AG51-AG56 -> 0
B62: Rootsi saldo | C62: =C52-C57 -> 6723.519 | D62: =D52-D57 -> 3571.761 | E62: =E52-E57 -> 2574.12 | F62: =F52-F57 -> 3499.918 | G62: =G52-G57 -> 4509.623 | H62: =H52-H57 -> 5995.328 | I62: =I52-I57 -> 7199.355 | J62: =J52-J57 -> 5246.953 | ... AG62: =AG52-AG57 -> 0
B63: Soome saldo | C63: =C53-C58 -> -4600.986 | D63: =D53-D58 -> -3837.753 | E63: =E53-E58 -> -4676.032 | F63: =F53-F58 -> -4625.497 | G63: =G53-G58 -> -4986.615 | H63: =H53-H58 -> -3095.733 | I63: =I53-I58 -> -4014.364 | J63: =J53-J58 -> -3981.189 | ... AG63: =AG53-AG58 -> 0
B64: Taani saldo | C64: =C54-C59 -> 873.387 | D64: =D54-D59 -> -1658.516 | E64: =E54-E59 -> -1796.049 | F64: =F54-F59 -> -173.974 | G64: =G54-G59 -> 40.667 | H64: =H54-H59 -> -1485.277 | I64: =I54-I59 -> -3113.27 | J64: =J54-J59 -> -1225.397 | ... AG64: =AG54-AG59 -> 0
B65: Saldo Kokku | C65: =C55-C60 -> 4229.103 | D65: =D55-D60 -> 3196.812 | E65: =E55-E60 -> 1719.461 | F65: =F55-F60 -> 2431.419 | G65: =G55-G60 -> 2452.484 | H65: =H55-H60 -> 4782.947 | I65: =I55-I60 -> 5010.084 | J65: =J55-J60 -> 3614.529 | ... AG65: =AG55-AG60 -> 0
G67: =G51/C51-1 -> 0.053085763 | H67: =H51/D51-1 -> -0.0098398115 | I67: =I51/E51-1 -> 0.011846459 | J67: =J51/F51-1 -> -0.0076937087 | K67: =K51/G51-1 -> 0.099709816 | L67: =L51/H51-1 -> 0.036012779 | M67: =M51/I51-1 -> -0.0073572348 | N67: =N51/J51-1 -> 0.010293936 | ... AG67: =AG51/AC51-1 -> -1
G68: =G52/C52-1 -> -0.055254809 | H68: =H52/D52-1 -> 0.096887269 | I68: =I52/E52-1 -> 0.17526061 | J68: =J52/F52-1 -> 0.043949813 | K68: =K52/G52-1 -> 0.05890638 | L68: =L52/H52-1 -> -0.082640926 | M68: =M52/I52-1 -> -0.12963442 | N68: =N52/J52-1 -> -0.05813279 | ... AG68: =AG52/AC52-1 -> -1
G69: =G53/C53-1 -> -0.053517918 | H69: =H53/D53-1 -> 0.036932002 | I69: =I53/E53-1 -> 0.041907564 | J69: =J53/F53-1 -> 0.020807353 | K69: =K53/G53-1 -> 0.068110971 | L69: =L53/H53-1 -> -0.063338454 | M69: =M53/I53-1 -> -0.031140599 | N69: =N53/J53-1 -> 0.015456361 | ... AG69: =AG53/AC53-1 -> -1
G70: =G54/C54-1 -> -0.10082067 | H70: =H54/D54-1 -> 0.012511633 | I70: =I54/E54-1 -> -0.24235686 | J70: =J54/F54-1 -> -0.15573762 | K70: =K54/G54-1 -> -0.072537874 | L70: =L54/H54-1 -> -0.13291779 | M70: =M54/I54-1 -> 0.11116105 | N70: =N54/J54-1 -> 0.17728788 | ... AG70: =AG54/AC54-1 -> -1
G71: =G55/C55-1 -> -0.022149554 | H71: =H55/D55-1 -> 0.040688599 | I71: =I55/E55-1 -> 0.059171147 | J71: =J55/F55-1 -> 0.0045139634 | K71: =K55/G55-1 -> 0.064743226 | L71: =L55/H55-1 -> -0.040399708 | M71: =M55/I55-1 -> -0.05583628 | N71: =N55/J55-1 -> -0.004337447 | ... AG71: =AG55/AC55-1 -> -1
G72: =G56/C56-1 -> 0.010760429 | H72: =H56/D56-1 -> 0.051365427 | I72: =I56/E56-1 -> 0.041683682 | J72: =J56/F56-1 -> -0.004085505 | K72: =K56/G56-1 -> 0.07827933 | L72: =L56/H56-1 -> -0.0052236588 | M72: =M56/I56-1 -> -0.018371737 | N72: =N56/J56-1 -> 0.039227336 | ... AG72: =AG56/AC56-1 -> -1
G73: =G57/C57-1 -> -0.0089185496 | H73: =H57/D57-1 -> 0.027914203 | I73: =I57/E57-1 -> 0.023385861 | J73: =J57/F57-1 -> 0.00021379179 | K73: =K57/G57-1 -> 0.075319832 | L73: =L57/H57-1 -> -0.014122403 | M73: =M57/I57-1 -> -0.025305514 | N73: =N57/J57-1 -> 0.039418233 | ... AG73: =AG57/AC57-1 -> -1
G74: =G58/C58-1 -> -0.026698003 | H74: =H58/D58-1 -> -0.010248872 | I74: =I58/E58-1 -> -0.0053259858 | J74: =J58/F58-1 -> -0.012752536 | K74: =K58/G58-1 -> 0.062101462 | L74: =L58/H58-1 -> -0.0013367849 | M74: =M58/I58-1 -> 0.010879158 | N74: =N58/J58-1 -> 0.047629247 | ... AG74: =AG58/AC58-1 -> -1
G75: =G59/C59-1 -> -0.019121857 | H75: =H59/D59-1 -> -0.012319153 | I75: =I59/E59-1 -> -0.017472882 | J75: =J59/F59-1 -> -0.032958113 | K75: =K59/G59-1 -> -0.0099450118 | L75: =L59/H59-1 -> -0.0070408772 | M75: =M59/I59-1 -> -0.032106367 | N75: =N59/J59-1 -> -0.015961538 | ... AG75: =AG59/AC59-1 -> -1
G76: =G60/C60-1 -> -0.0068508105 | H76: =H60/D60-1 -> 0.023452461 | I76: =I60/E60-1 -> 0.018508594 | J76: =J60/F60-1 -> -0.0068900608 | K76: =K60/G60-1 -> 0.066596629 | L76: =L60/H60-1 -> -0.0077390834 | M76: =M60/I60-1 -> -0.01551601 | N76: =N60/J60-1 -> 0.036495812 | ... AG76: =AG60/AC60-1 -> -1

Sheet Yearly
B1: Eesti elektribilanss, GWh | C1: 2014 | D1: 2015 | E1: 2016 | F1: 2017 | G1: 2018 | H1: 2019 | I1: 2020 | J1: 2018 1. pool | K1: 2019 1. pool
B2: Võrku sisenenud | C2: =SUM(Monthly!C2:N2) -> 14668.824 | D2: =SUM(Monthly!O2:Z2) -> 14406.474 | E2: =SUM(Monthly!AA2:AL2) -> 13993.959 | F2: =SUM(Monthly!AM2:AX2) -> 13547.407 | G2: =SUM(Monthly!AY2:BJ2) -> 14067.82 | H2: =SUM(Monthly!BK2:BV2) -> 12062.901 | I2: =SUM(Monthly!BW2:CH2) -> 11963.175 | J2: =SUM(Monthly!AY2:BD2) -> 7055.7791 | K2: =SUM(Monthly!BK2:BP2) -> 6437.3825
B3: Sisemaine tootmine | C3: =SUM(Monthly!C3:N3) -> 10904.873 | D3: =SUM(Monthly!O3:Z3) -> 9062.2893 | E3: =SUM(Monthly!AA3:AL3) -> 10422.113 | F3: =SUM(Monthly!AM3:AX3) -> 11234.434 | G3: =SUM(Monthly!AY3:BJ3) -> 10583.175 | H3: =SUM(Monthly!BK3:BV3) -> 6447.2286 | I3: =SUM(Monthly!BW3:CH3) -> 4803.3469 | J3: =SUM(Monthly!AY3:BD3) -> 5508.0419 | K3: =SUM(Monthly!BK3:BP3) -> 3815.4373
B4: Taastuvenergia | C4: =SUM(Monthly!C4:N4) -> 1355.9742 | D4: =SUM(Monthly!O4:Z4) -> 1506.9233 | E4: =SUM(Monthly!AA4:AL4) -> 1412.2932 | F4: =SUM(Monthly!AM4:AX4) -> 1653.4387 | G4: =SUM(Monthly!AY4:BJ4) -> 1662.214 | H4: =SUM(Monthly!BK4:BV4) -> 1946.2949 | I4: =SUM(Monthly!BW4:CH4) -> 2224.1501 | J4: =SUM(Monthly!AY4:BD4) -> 773.57025 | K4: =SUM(Monthly!BK4:BP4) -> 936.85333
B5: sh tuuleenergia | C5: =SUM(Monthly!C5:N5) -> 576.03468 | D5: =SUM(Monthly!O5:Z5) -> 694.39098 | E5: =SUM(Monthly!AA5:AL5) -> 589.98617 | F5: =SUM(Monthly!AM5:AX5) -> 669.45352 | G5: =SUM(Monthly!AY5:BJ5) -> 590.55432 | H5: =SUM(Monthly!BK5:BV5) -> 691.67539 | I5: =SUM(Monthly!BW5:CH5) -> 823.71214 | J5: =SUM(Monthly!AY5:BD5) -> 267.86363 | K5: =SUM(Monthly!BK5:BP5) -> 362.45144
B6: sh hüdroenergia | C6: =SUM(Monthly!C6:N6) -> 26.609714 | D6: =SUM(Monthly!O6:Z6) -> 26.602044 | E6: =SUM(Monthly!AA6:AL6) -> 34.644268 | F6: =SUM(Monthly!AM6:AX6) -> 29.118183 | G6: =SUM(Monthly!AY6:BJ6) -> 19.25257 | H6: =SUM(Monthly!BK6:BV6) -> 21.616217 | I6: =SUM(Monthly!BW6:CH6) -> 27.380288 | J6: =SUM(Monthly!AY6:BD6) -> 15.561375 | K6: =SUM(Monthly!BK6:BP6) -> 14.24447
B7: sh biomass, biogaas | C7: =SUM(Monthly!C7:N7) -> 752.78687 | D7: =SUM(Monthly!O7:Z7) -> 784.37865 | E7: =SUM(Monthly!AA7:AL7) -> 784.86945 | F7: =SUM(Monthly!AM7:AX7) -> 949.85678 | G7: =SUM(Monthly!AY7:BJ7) -> 1039.4333 | H7: =SUM(Monthly!BK7:BV7) -> 1178.9063 | I7: =SUM(Monthly!BW7:CH7) -> 1254.0772 | J7: =SUM(Monthly!AY7:BD7) -> 483.96473 | K7: =SUM(Monthly!BK7:BP7) -> 538.4144
B8: Mittetaastuv | C8: =SUM(Monthly!C8:N8) -> 9548.8985 | D8: =SUM(Monthly!O8:Z8) -> 7555.3661 | E8: =SUM(Monthly!AA8:AL8) -> 9009.8201 | F8: =SUM(Monthly!AM8:AX8) -> 9580.9949 | G8: =SUM(Monthly!AY8:BJ8) -> 8920.9609 | H8: =SUM(Monthly!BK8:BV8) -> 4500.9337 | I8: =SUM(Monthly!BW8:CH8) -> 2579.1968 | J8: =SUM(Monthly!AY8:BD8) -> 4734.4717 | K8: =SUM(Monthly!BK8:BP8) -> 2878.584
B9: Välisliinidelt import | C9: =SUM(Monthly!C9:N9) -> 3763.9513 | D9: =SUM(Monthly!O9:Z9) -> 5344.1843 | E9: =SUM(Monthly!AA9:AL9) -> 3571.8455 | F9: =SUM(Monthly!AM9:AX9) -> 2312.9738 | G9: =SUM(Monthly!AY9:BJ9) -> 3484.6451 | H9: =SUM(Monthly!BK9:BV9) -> 5615.6727 | I9: =SUM(Monthly!BW9:CH9) -> 7159.8277 | J9: =SUM(Monthly!AY9:BD9) -> 1547.7371 | K9: =SUM(Monthly!BK9:BP9) -> 2621.9452
B10: sh füüsiline import | C10: =SUM(Monthly!C10:N10) -> 15.790112 | D10: =SUM(Monthly!O10:Z10) -> 401.79101 | E10: =SUM(Monthly!AA10:AL10) -> 372.61542 | F10: =SUM(Monthly!AM10:AX10) -> 124.42496 | G10: =SUM(Monthly!AY10:BJ10) -> 283.37088 | H10: =SUM(Monthly!BK10:BV10) -> 2428.5357 | I10: =SUM(Monthly!BW10:CH10) -> 3649.6837 | J10: =SUM(Monthly!AY10:BD10) -> 105.31849 | K10: =SUM(Monthly!BK10:BP10) -> 840.98741
B11: sh füüsiline transiit | C11: =SUM(Monthly!C11:N11) -> 3748.1612 | D11: =SUM(Monthly!O11:Z11) -> 4942.3933 | E11: =SUM(Monthly!AA11:AL11) -> 3199.2302 | F11: =SUM(Monthly!AM11:AX11) -> 2188.5489 | G11: =SUM(Monthly!AY11:BJ11) -> 3201.2735 | H11: =SUM(Monthly!BK11:BV11) -> 3187.1369 | I11: =SUM(Monthly!BW11:CH11) -> 3510.1006 | J11: =SUM(Monthly!AY11:BD11) -> 1442.4179 | K11: =SUM(Monthly!BK11:BP11) -> 1780.9577
B12: Võrku läbinud | C12: =SUM(Monthly!C12:N12) -> 14668.824 | D12: =SUM(Monthly!O12:Z12) -> 14406.474 | E12: =SUM(Monthly!AA12:AL12) -> 13993.959 | F12: =SUM(Monthly!AM12:AX12) -> 13547.407 | G12: =SUM(Monthly!AY12:BJ12) -> 14067.82 | H12: =SUM(Monthly!BK12:BV12) -> 12062.901 | I12: =SUM(Monthly!BW12:CH12) -> 11963.175 | J12: =SUM(Monthly!AY12:BD12) -> 7055.7791 | K12: =SUM(Monthly!BK12:BP12) -> 6437.3825
B13: Sisemaine tarbimine | C13: =SUM(Monthly!C13:N13) -> 8120.4279 | D13: =SUM(Monthly!O13:Z13) -> 8137.1159 | E13: =SUM(Monthly!AA13:AL13) -> 8384.591 | F13: =SUM(Monthly!AM13:AX13) -> 8500.0659 | G13: =SUM(Monthly!AY13:BJ13) -> 8717.4138 | H13: =SUM(Monthly!BK13:BV13) -> 8645.6219 | I13: =SUM(Monthly!BW13:CH13) -> 8433.6482 | J13: =SUM(Monthly!AY13:BD13) -> 4503.9485 | K13: =SUM(Monthly!BK13:BP13) -> 4429.1722
... B16: sh füüsiline transiit | C16: =SUM(Monthly!C16:N16) -> 3748.1612 | D16: =SUM(Monthly!O16:Z16) -> 4942.3933 | E16: =SUM(Monthly!AA16:AL16) -> 3199.2302 | F16: =SUM(Monthly!AM16:AX16) -> 2188.5489 | G16: =SUM(Monthly!AY16:BJ16) -> 3201.2735 | H16: =SUM(Monthly!BK16:BV16) -> 3187.1369 | I16: =SUM(Monthly!BW16:CH16) -> 3510.1006 | J16: =SUM(Monthly!AY16:BD16) -> 1442.4179 | K16: =SUM(Monthly!BK16:BP16) -> 1780.9577
B17: Bilanss | C17: =C3-C13 -> 2784.4447 | D17: =D3-D13 -> 925.17349 | E17: =E3-E13 -> 2037.5222 | F17: =F3-F13 -> 2734.3677 | G17: =G3-G13 -> 1865.7611 | H17: =H3-H13 -> -2198.3933 | I17: =I3-I13 -> -3630.3012 | J17: =J3-J13 -> 1004.0934 | K17: =K3-K13 -> -613.73487
B19: Sisemaine tootmine | D19: =D3/C3-1 -> -0.16896881 | E19: =E3/D3-1 -> 0.15005302 | F19: =F3/E3-1 -> 0.077942 | G19: =G3/F3-1 -> -0.057969873 | H19: =H3/G3-1 -> -0.39080393 | I19: =I3/H3-1 -> -0.25497493 | J19: =J3/I3-1 -> 0.14670916 | K19: =K3/J3-1 -> -0.30729698
B20: Taastuvenergia | D20: =D4/C4-1 -> 0.1113215 | E20: =E4/D4-1 -> -0.06279689 | F20: =F4/E4-1 -> 0.17074753 | G20: =G4/F4-1 -> 0.005307283 | H20: =H4/G4-1 -> 0.17090512 | I20: =I4/H4-1 -> 0.14276113 | J20: =J4/I4-1 -> -0.65219513 | K20: =K4/J4-1 -> 0.21107725
B21: sh tuuleenergia | D21: =D5/C5-1 -> 0.20546732 | E21: =E5/D5-1 -> -0.1503545 | F21: =F5/E5-1 -> 0.13469358 | G21: =G5/F5-1 -> -0.11785613 | H21: =H5/G5-1 -> 0.17123077 | I21: =I5/H5-1 -> 0.1908941 | J21: =J5/I5-1 -> -0.67480918 | K21: =K5/J5-1 -> 0.35311926
B22: sh hüdroenergia | D22: =D6/C6-1 -> -0.00028825875 | E22: =E6/D6-1 -> 0.30231604 | F22: =F6/E6-1 -> -0.15950936 | G22: =G6/F6-1 -> -0.33881278 | H22: =H6/G6-1 -> 0.12277044 | I22: =I6/H6-1 -> 0.26665494 | J22: =J6/I6-1 -> -0.43165772 | K22: =K6/J6-1 -> -0.084626512
B23: sh biomass, biogaas | D23: =D7/C7-1 -> 0.041966432 | E23: =E7/D7-1 -> 0.00062572539 | F23: =F7/E7-1 -> 0.2102099 | G23: =G7/F7-1 -> 0.094305297 | H23: =H7/G7-1 -> 0.13418179 | I23: =I7/H7-1 -> 0.063763234 | J23: =J7/I7-1 -> -0.61408697 | K23: =K7/J7-1 -> 0.11250752
B24: Mittetaastuv | D24: =D8/C8-1 -> -0.20877093 | E24: =E8/D8-1 -> 0.19250609 | F24: =F8/E8-1 -> 0.063394693 | G24: =G8/F8-1 -> -0.068889918 | H24: =H8/G8-1 -> -0.49546537 | I24: =I8/H8-1 -> -0.42696406 | J24: =J8/I8-1 -> 0.83563801 | K24: =K8/J8-1 -> -0.39199468
B25: Sisemaine tarbimine | D25: =D13/C13-1 -> 0.0020550572 | E25: =E13/D13-1 -> 0.030413132 | F25: =F13/E13-1 -> 0.013772266 | G25: =G13/F13-1 -> 0.025570154 | H25: =H13/G13-1 -> -0.0082354685 | I25: =I13/H13-1 -> -0.024518035 | J25: =J13/I13-1 -> -0.4659549 | K25: =K13/J13-1 -> -0.01660239
B27: Baltikumi elektribilanss, GWh | C27: 2014 | D27: 2015 | E27: 2016 | F27: 2017 | G27: 2018 | H27: 2019 | I27: 2020 | J27: 2018 1. pool | K27: 2019 1. pool
B28: Tootmine Eestis | C28: =SUM(Monthly!C30:N30) -> 10904.873 | D28: =SUM(Monthly!O30:Z30) -> 9062.2893 | E28: =SUM(Monthly!AA30:AL30) -> 10422.113 | F28: =SUM(Monthly!AM30:AX30) -> 11234.434 | G28: =SUM(Monthly!AY30:BJ30) -> 10583.175 | H28: =SUM(Monthly!BK30:BV30) -> 6447.2286 | I28: =SUM(Monthly!BW30:CH30) -> 4803.3469 | J28: =SUM(Monthly!AY30:BD30) -> 5508.0419 | K28: =SUM(Monthly!BK30:BP30) -> 3815.4373
B29: Tootmine Lätis | C29: =SUM(Monthly!C31:N31) -> 4926.0494 | D29: =SUM(Monthly!O31:Z31) -> 5322.4142 | E29: =SUM(Monthly!AA31:AL31) -> 6216.9806 | F29: =SUM(Monthly!AM31:AX31) -> 7303.4931 | G29: =SUM(Monthly!AY31:BJ31) -> 6454.207 | H29: =SUM(Monthly!BK31:BV31) -> 6120.189 | I29: =SUM(Monthly!BW31:CH31) -> 5439.469 | J29: =SUM(Monthly!AY31:BD31) -> 3863.921 | K29: =SUM(Monthly!BK31:BP31) -> 3062.512
B30: Tootmine Leedus | C30: =SUM(Monthly!C32:N32) -> 2981.2318 | D30: =SUM(Monthly!O32:Z32) -> 3268.5506 | E30: =SUM(Monthly!AA32:AL32) -> 2659.922 | F30: =SUM(Monthly!AM32:AX32) -> 2483.4093 | G30: =SUM(Monthly!AY32:BJ32) -> 3247.131 | H30: =SUM(Monthly!BK32:BV32) -> 3635.311 | I30: =SUM(Monthly!BW32:CH32) -> 4997.261 | J30: =SUM(Monthly!AY32:BD32) -> 1698.804 | K30: =SUM(Monthly!BK32:BP32) -> 1820.955
B31: Kokku | C31: =SUM(Monthly!C33:N33) -> 18812.154 | D31: =SUM(Monthly!O33:Z33) -> 17653.254 | E31: =SUM(Monthly!AA33:AL33) -> 19299.016 | F31: =SUM(Monthly!AM33:AX33) -> 21021.336 | G31: =SUM(Monthly!AY33:BJ33) -> 20284.513 | H31: =SUM(Monthly!BK33:BV33) -> 16202.729 | I31: =SUM(Monthly!BW33:CH33) -> 15240.077 | J31: =SUM(Monthly!AY33:BD33) -> 11070.767 | K31: =SUM(Monthly!BK33:BP33) -> 8698.9043
B32: Tarbimine Eestis | C32: =SUM(Monthly!C34:N34) -> 8120.4279 | D32: =SUM(Monthly!O34:Z34) -> 8137.1159 | E32: =SUM(Monthly!AA34:AL34) -> 8384.591 | F32: =SUM(Monthly!AM34:AX34) -> 8500.0659 | G32: =SUM(Monthly!AY34:BJ34) -> 8717.4138 | H32: =SUM(Monthly!BK34:BV34) -> 8645.6219 | I32: =SUM(Monthly!BW34:CH34) -> 8433.6482 | J32: =SUM(Monthly!AY34:BD34) -> 4503.9485 | K32: =SUM(Monthly!BK34:BP34) -> 4429.1722
B33: Tarbimine Lätis | C33: =SUM(Monthly!C35:N35) -> 7185.2119 | D33: =SUM(Monthly!O35:Z35) -> 7085.8541 | E33: =SUM(Monthly!AA35:AL35) -> 7224.0445 | F33: =SUM(Monthly!AM35:AX35) -> 7227.7383 | G33: =SUM(Monthly!AY35:BJ35) -> 7345.415 | H33: =SUM(Monthly!BK35:BV35) -> 7226.413 | I33: =SUM(Monthly!BW35:CH35) -> 7059.075 | J33: =SUM(Monthly!AY35:BD35) -> 3700.503 | K33: =SUM(Monthly!BK35:BP35) -> 3659.362
B34: Tarbimine Leedus | C34: =SUM(Monthly!C36:N36) -> 10618.099 | D34: =SUM(Monthly!O36:Z36) -> 10444.532 | E34: =SUM(Monthly!AA36:AL36) -> 10114.278 | F34: =SUM(Monthly!AM36:AX36) -> 11147.466 | G34: =SUM(Monthly!AY36:BJ36) -> 12885.382 | H34: =SUM(Monthly!BK36:BV36) -> 12981.603 | I34: =SUM(Monthly!BW36:CH36) -> 12907.614 | J34: =SUM(Monthly!AY36:BD36) -> 6370.6014 | K34: =SUM(Monthly!BK36:BP36) -> 6397.2964
B35: Kokku | C35: =SUM(Monthly!C37:N37) -> 25923.739 | D35: =SUM(Monthly!O37:Z37) -> 25667.502 | E35: =SUM(Monthly!AA37:AL37) -> 25722.914 | F35: =SUM(Monthly!AM37:AX37) -> 26875.27 | G35: =SUM(Monthly!AY37:BJ37) -> 28948.211 | H35: =SUM(Monthly!BK37:BV37) -> 28853.638 | I35: =SUM(Monthly!BW37:CH37) -> 28400.337 | J35: =SUM(Monthly!AY37:BD37) -> 14575.053 | K35: =SUM(Monthly!BK37:BP37) -> 14485.831
B36: Eesti saldo | C36: =C28-C32 -> 2784.4447 | D36: =D28-D32 -> 925.17349 | E36: =E28-E32 -> 2037.5222 | F36: =F28-F32 -> 2734.3677 | G36: =G28-G32 -> 1865.7611 | H36: =H28-H32 -> -2198.3933 | I36: =I28-I32 -> -3630.3012 | J36: =SUM(Monthly!AY38:BD38) -> 1004.0934 | K36: =SUM(Monthly!BK38:BP38) -> -613.73487
B37: Läti saldo | C37: =C29-C33 -> -2259.1625 | D37: =D29-D33 -> -1763.4399 | E37: =E29-E33 -> -1007.0639 | F37: =F29-F33 -> 75.754812 | G37: =G29-G33 -> -891.208 | H37: =H29-H33 -> -1106.224 | I37: =I29-I33 -> -1619.606 | J37: =SUM(Monthly!AY39:BD39) -> 163.418 | K37: =SUM(Monthly!BK39:BP39) -> -596.85
B38: Leedu saldo | C38: =C30-C34 -> -7636.8674 | D38: =D30-D34 -> -7175.9816 | E38: =E30-E34 -> -7454.356 | F38: =F30-F34 -> -8664.0566 | G38: =G30-G34 -> -9638.2515 | H38: =H30-H34 -> -9346.2919 | I38: =I30-I34 -> -7910.353 | J38: =SUM(Monthly!AY40:BD40) -> -4671.7974 | K38: =SUM(Monthly!BK40:BP40) -> -4576.3414
B39: Saldo Kokku | C39: =C31-C35 -> -7111.5852 | D39: =D31-D35 -> -8014.248 | E39: =E31-E35 -> -6423.8977 | F39: =F31-F35 -> -5853.934 | G39: =G31-G35 -> -8663.6984 | H39: =H31-H35 -> -12650.909 | I39: =I31-I35 -> -13160.26 | J39: =SUM(Monthly!AY41:BD41) -> -3504.286 | K39: =SUM(Monthly!BK41:BP41) -> -5786.9262
B41: Tootmine Eestis | D41: =D28/C28-1 -> -0.16896881 | E41: =E28/D28-1 -> 0.15005302 | F41: =F28/E28-1 -> 0.077942 | G41: =G28/F28-1 -> -0.057969873 | H41: =H28/G28-1 -> -0.39080393 | I41: =I28/H28-1 -> -0.25497493 | J41: =J28/I28-1 -> 0.14670916 | K41: =K28/J28-1 -> -0.30729698
B42: Tootmine Lätis | D42: =D29/C29-1 -> 0.08046302 | E42: =E29/D29-1 -> 0.16807532 | F42: =F29/E29-1 -> 0.1747653 | G42: =G29/F29-1 -> -0.11628492 | H42: =H29/G29-1 -> -0.051751981 | I42: =I29/H29-1 -> -0.11122532 | J42: =J29/I29-1 -> -0.28965107 | K42: =K29/J29-1 -> -0.20740823
B43: Tootmine Leedus | D43: =D30/C30-1 -> 0.096375866 | E43: =E30/D30-1 -> -0.1862075 | F43: =F30/E30-1 -> -0.066360089 | G43: =G30/F30-1 -> 0.30752951 | H43: =H30/G30-1 -> 0.11954553 | I43: =I30/H30-1 -> 0.3746447 | J43: =J30/I30-1 -> -0.66005298 | K43: =K30/J30-1 -> 0.071904116
B44: Kokku | D44: =D31/C31-1 -> -0.061603775 | E44: =E31/D31-1 -> 0.093227102 | F44: =F31/E31-1 -> 0.089243938 | G44: =G31/F31-1 -> -0.035051204 | H44: =H31/G31-1 -> -0.20122664 | I44: =I31/H31-1 -> -0.059412934 | J44: =J31/I31-1 -> -0.27357539 | K44: =K31/J31-1 -> -0.21424556
B45: Tarbimine Eestis | D45: =D32/C32-1 -> 0.0020550572 | E45: =E32/D32-1 -> 0.030413132 | F45: =F32/E32-1 -> 0.013772266 | G45: =G32/F32-1 -> 0.025570154 | H45: =H32/G32-1 -> -0.0082354685 | I45: =I32/H32-1 -> -0.024518035 | J45: =J32/I32-1 -> -0.4659549 | K45: =K32/J32-1 -> -0.01660239
B46: Tarbimine Lätis | D46: =D33/C33-1 -> -0.013828091 | E46: =E33/D33-1 -> 0.019502294 | F46: =F33/E33-1 -> 0.00051131769 | G46: =G33/F33-1 -> 0.016281261 | H46: =H33/G33-1 -> -0.016200855 | I46: =I33/H33-1 -> -0.02315644 | J46: =J33/I33-1 -> -0.47578075 | K46: =K33/J33-1 -> -0.011117678
B47: Tarbimine Leedus | D47: =D34/C34-1 -> -0.016346335 | E47: =E34/D34-1 -> -0.03161982 | F47: =F34/E34-1 -> 0.10215143 | G47: =G34/F34-1 -> 0.15590239 | H47: =H34/G34-1 -> 0.0074674114 | I47: =I34/H34-1 -> -0.0056995246 | J47: =J34/I34-1 -> -0.50644624 | K47: =K34/J34-1 -> 0.0041903303
B48: Kokku | D48: =D35/C35-1 -> -0.0098842541 | E48: =E35/D35-1 -> 0.0021588139 | F48: =F35/E35-1 -> 0.044798834 | G48: =G35/F35-1 -> 0.077131922 | H48: =H35/G35-1 -> -0.0032669906 | I48: =I35/H35-1 -> -0.015710346 | J48: =J35/I35-1 -> -0.4868 | K48: =K35/J35-1 -> -0.0061215822
B50: Põhjamaade elektribilanss, GWh | C50: 2014 | D50: 2015 | E50: 2016 | F50: 2017 | G50: 2018 | H50: 2019 | I50: 2020 | J50: 2018 1. pool | K50: 2019 1. pool
B51: Tootmine Norras | C51: =SUM(Monthly!C53:N53) -> 141578.73 | D51: =SUM(Monthly!O53:Z53) -> 143375.28 | E51: =SUM(Monthly!AA53:AL53) -> 148797.04 | F51: =SUM(Monthly!AM53:AX53) -> 148196.23 | G51: =SUM(Monthly!AY53:BJ53) -> 145699.44 | H51: =SUM(Monthly!BK53:BV53) -> 133382.56 | I51: =SUM(Monthly!BW53:CH53) -> 153329.39 | J51: =SUM(Monthly!AY53:BD53) -> 74505.951 | K51: =SUM(Monthly!BK53:BP53) -> 66308.835
B52: Tootmine Rootsis | C52: =SUM(Monthly!C54:N54) -> 150162.94 | D52: =SUM(Monthly!O54:Z54) -> 157881.58 | E52: =SUM(Monthly!AA54:AL54) -> 150411.81 | F52: =SUM(Monthly!AM54:AX54) -> 158530.47 | G52: =SUM(Monthly!AY54:BJ54) -> 156995.4 | H52: =SUM(Monthly!BK54:BV54) -> 162693.15 | I52: =SUM(Monthly!BW54:CH54) -> 157843.27 | J52: =SUM(Monthly!AY54:BD54) -> 83957.255 | K52: =SUM(Monthly!BK54:BP54) -> 84910.942
B53: Tootmine Soomes | C53: =SUM(Monthly!C55:N55) -> 64774.272 | D53: =SUM(Monthly!O55:Z55) -> 65237.563 | E53: =SUM(Monthly!AA55:AL55) -> 65319.351 | F53: =SUM(Monthly!AM55:AX55) -> 63339.489 | G53: =SUM(Monthly!AY55:BJ55) -> 66245.34 | H53: =SUM(Monthly!BK55:BV55) -> 63803.014 | I53: =SUM(Monthly!BW55:CH55) -> 63743.637 | J53: =SUM(Monthly!AY55:BD55) -> 34194.727 | K53: =SUM(Monthly!BK55:BP55) -> 33960.439
B54: Tootmine Taanis | C54: =SUM(Monthly!C56:N56) -> 30749.183 | D54: =SUM(Monthly!O56:Z56) -> 27024.849 | E54: =SUM(Monthly!AA56:AL56) -> 27338.987 | F54: =SUM(Monthly!AM56:AX56) -> 27996.413 | G54: =SUM(Monthly!AY56:BJ56) -> 28554.765 | H54: =SUM(Monthly!BK56:BV56) -> 27889.894 | I54: =SUM(Monthly!BW56:CH56) -> 27180.271 | J54: =SUM(Monthly!AY56:BD56) -> 15208.597 | K54: =SUM(Monthly!BK56:BP56) -> 14972.378
B55: Kokku | C55: =SUM(Monthly!C57:N57) -> 387265.13 | D55: =SUM(Monthly!O57:Z57) -> 393519.27 | E55: =SUM(Monthly!AA57:AL57) -> 391867.18 | F55: =SUM(Monthly!AM57:AX57) -> 398062.6 | G55: =SUM(Monthly!AY57:BJ57) -> 397494.94 | H55: =SUM(Monthly!BK57:BV57) -> 387768.62 | I55: =SUM(Monthly!BW57:CH57) -> 402096.56 | J55: =SUM(Monthly!AY57:BD57) -> 207866.53 | K55: =SUM(Monthly!BK57:BP57) -> 200152.59
B56: Tarbimine Norras | C56: =SUM(Monthly!C58:N58) -> 125875.84 | D56: =SUM(Monthly!O58:Z58) -> 128605.32 | E56: =SUM(Monthly!AA58:AL58) -> 132333.97 | F56: =SUM(Monthly!AM58:AX58) -> 132887.36 | G56: =SUM(Monthly!AY58:BJ58) -> 135445.79 | H56: =SUM(Monthly!BK58:BV58) -> 133477.85 | I56: =SUM(Monthly!BW58:CH58) -> 132860.58 | J56: =SUM(Monthly!AY58:BD58) -> 71397.534 | K56: =SUM(Monthly!BK58:BP58) -> 68960.367
B57: Tarbimine Rootsis | C57: =SUM(Monthly!C59:N59) -> 133793.62 | D57: =SUM(Monthly!O59:Z59) -> 134930.32 | E57: =SUM(Monthly!AA59:AL59) -> 138185.65 | F57: =SUM(Monthly!AM59:AX59) -> 138115.78 | G57: =SUM(Monthly!AY59:BJ59) -> 138215.7 | H57: =SUM(Monthly!BK59:BV59) -> 136410.46 | I57: =SUM(Monthly!BW59:CH59) -> 132932.92 | J57: =SUM(Monthly!AY59:BD59) -> 72775.007 | K57: =SUM(Monthly!BK59:BP59) -> 71208.997
B58: Tarbimine Soomes | C58: =SUM(Monthly!C60:N60) -> 82514.54 | D58: =SUM(Monthly!O60:Z60) -> 81315.464 | E58: =SUM(Monthly!AA60:AL60) -> 83948.795 | F58: =SUM(Monthly!AM60:AX60) -> 83403.366 | G58: =SUM(Monthly!AY60:BJ60) -> 85790.087 | H58: =SUM(Monthly!BK60:BV60) -> 83441.033 | I58: =SUM(Monthly!BW60:CH60) -> 78353.158 | J58: =SUM(Monthly!AY60:BD60) -> 44031.053 | K58: =SUM(Monthly!BK60:BP60) -> 43362.439
B59: Tarbimine Taanis | C59: =SUM(Monthly!C61:N61) -> 33504.335 | D59: =SUM(Monthly!O61:Z61) -> 32808.126 | E59: =SUM(Monthly!AA61:AL61) -> 32283.465 | F59: =SUM(Monthly!AM61:AX61) -> 32440.139 | G59: =SUM(Monthly!AY61:BJ61) -> 33572.633 | H59: =SUM(Monthly!BK61:BV61) -> 33537.369 | I59: =SUM(Monthly!BW61:CH61) -> 34086.458 | J59: =SUM(Monthly!AY61:BD61) -> 17075.344 | K59: =SUM(Monthly!BK61:BP61) -> 16726.33
B60: Kokku | C60: =SUM(Monthly!C62:N62) -> 375688.33 | D60: =SUM(Monthly!O62:Z62) -> 377659.22 | E60: =SUM(Monthly!AA62:AL62) -> 386751.88 | F60: =SUM(Monthly!AM62:AX62) -> 386846.64 | G60: =SUM(Monthly!AY62:BJ62) -> 393024.21 | H60: =SUM(Monthly!BK62:BV62) -> 386866.71 | I60: =SUM(Monthly!BW62:CH62) -> 378233.12 | J60: =SUM(Monthly!AY62:BD62) -> 205278.94 | K60: =SUM(Monthly!BK62:BP62) -> 200258.13
B61: Norra saldo | C61: =C51-C56 -> 15702.897 | D61: =D51-D56 -> 14769.963 | E61: =E51-E56 -> 16463.07 | F61: =F51-F56 -> 15308.865 | G61: =G51-G56 -> 10253.649 | H61: =H51-H56 -> -95.291 | I61: =I51-I56 -> 20468.803 | J61: =SUM(Monthly!AY63:BD63) -> 3108.417 | K61: =SUM(Monthly!BK63:BP63) -> -2651.532
B62: Rootsi saldo | C62: =C52-C57 -> 16369.318 | D62: =D52-D57 -> 22951.259 | E62: =E52-E57 -> 12226.16 | F62: =F52-F57 -> 20414.689 | G62: =G52-G57 -> 18779.698 | H62: =H52-H57 -> 26282.694 | I62: =I52-I57 -> 24910.348 | J62: =SUM(Monthly!AY64:BD64) -> 11182.248 | K62: =SUM(Monthly!BK64:BP64) -> 13701.945
B63: Soome saldo | C63: =C53-C58 -> -17740.268 | D63: =D53-D58 -> -16077.901 | E63: =E53-E58 -> -18629.444 | F63: =F53-F58 -> -20063.877 | G63: =G53-G58 -> -19544.747 | H63: =H53-H58 -> -19638.019 | I63: =I53-I58 -> -14609.521 | J63: =SUM(Monthly!AY65:BD65) -> -9836.326 | K63: =SUM(Monthly!BK65:BP65) -> -9402
B64: Taani saldo | C64: =C54-C59 -> -2755.152 | D64: =D54-D59 -> -5783.277 | E64: =E54-E59 -> -4944.478 | F64: =F54-F59 -> -4443.726 | G64: =G54-G59 -> -5017.868 | H64: =H54-H59 -> -5647.475 | I64: =I54-I59 -> -6906.187 | J64: =SUM(Monthly!AY66:BD66) -> -1866.747 | K64: =SUM(Monthly!BK66:BP66) -> -1753.952
B65: Saldo Kokku | C65: =C55-C60 -> 11576.795 | D65: =D55-D60 -> 15860.044 | E65: =E55-E60 -> 5115.308 | F65: =F55-F60 -> 11215.951 | G65: =G55-G60 -> 4470.732 | H65: =H55-H60 -> 901.909 | I65: =I55-I60 -> 23863.443 | J65: =SUM(Monthly!AY67:BD67) -> 2587.592 | K65: =SUM(Monthly!BK67:BP67) -> -105.539
D67: =D51/C51-1 -> 0.012689377 | E67: =E51/D51-1 -> 0.037815145 | F67: =F51/E51-1 -> -0.004037782 | G67: =G51/F51-1 -> -0.016847865 | H67: =H51/G51-1 -> -0.084536187 | I67: =I51/H51-1 -> 0.14954595 | J67: =J51/I51-1 -> -0.51407911 | K67: =K51/J51-1 -> -0.11001961
D68: =D52/C52-1 -> 0.051401765 | E68: =E52/D52-1 -> -0.047312468 | F68: =F52/E52-1 -> 0.053976194 | G68: =G52/F52-1 -> -0.0096830915 | H68: =H52/G52-1 -> 0.036292452 | I68: =I52/H52-1 -> -0.029809971 | J68: =J52/I52-1 -> -0.46809734 | K68: =K52/J52-1 -> 0.011359197
D69: =D53/C53-1 -> 0.0071523922 | E69: =E53/D53-1 -> 0.0012536949 | F69: =F53/E53-1 -> -0.030310497 | G69: =G53/F53-1 -> 0.045877399 | H69: =H53/G53-1 -> -0.036867891 | I69: =I53/H53-1 -> -0.00093063002 | J69: =J53/I53-1 -> -0.46355858 | K69: =K53/J53-1 -> -0.0068515827
D70: =D54/C54-1 -> -0.12111977 | E70: =E54/D54-1 -> 0.011624043 | F70: =F54/E54-1 -> 0.024047197 | G70: =G54/F54-1 -> 0.019943698 | H70: =H54/G54-1 -> -0.023284065 | I70: =I54/H54-1 -> -0.025443732 | J70: =J54/I54-1 -> -0.44045455 | K70: =K54/J54-1 -> -0.015531939
D71: =D55/C55-1 -> 0.016149513 | E71: =E55/D55-1 -> -0.004198229 | F71: =F55/E55-1 -> 0.015809977 | G71: =G55/F55-1 -> -0.001426037 | H71: =H55/G55-1 -> -0.024469051 | I71: =I55/H55-1 -> 0.036949725 | J71: =J55/I55-1 -> -0.48304326 | K71: =K55/J55-1 -> -0.037110044
D72: =D56/C56-1 -> 0.021683907 | E72: =E56/D56-1 -> 0.028992969 | F72: =F56/E56-1 -> 0.0041818061 | G72: =G56/F56-1 -> 0.019252591 | H72: =H56/G56-1 -> -0.014529318 | I72: =I56/H56-1 -> -0.0046245275 | J72: =J56/I56-1 -> -0.46261312 | K72: =K56/J56-1 -> -0.034135171
D73: =D57/C57-1 -> 0.0084959135 | E73: =E57/D57-1 -> 0.024126024 | F73: =F57/E57-1 -> -0.00050563861 | G73: =G57/F57-1 -> 0.00072349446 | H73: =H57/G57-1 -> -0.013061092 | I73: =I57/H57-1 -> -0.025493149 | J73: =J57/I57-1 -> -0.45254339 | K73: =K57/J57-1 -> -0.021518514
D74: =D58/C58-1 -> -0.014531693 | E74: =E58/D58-1 -> 0.032384135 | F74: =F58/E58-1 -> -0.0064971629 | G74: =G58/F58-1 -> 0.028616603 | H74: =H58/G58-1 -> -0.027381415 | I74: =I58/H58-1 -> -0.060975695 | J74: =J58/I58-1 -> -0.43804367 | K74: =K58/J58-1 -> -0.015185056
D75: =D59/C59-1 -> -0.020779669 | E75: =E59/D59-1 -> -0.0159918 | F75: =F59/E59-1 -> 0.0048530726 | G75: =G59/F59-1 -> 0.03491027 | H75: =H59/G59-1 -> -0.0010503793 | I75: =I59/H59-1 -> 0.016372453 | J75: =J59/I59-1 -> -0.49905784 | K75: =K59/J59-1 -> -0.020439647
D76: =D60/C60-1 -> 0.0052460879 | E76: =E60/D60-1 -> 0.02407634 | F76: =F60/E60-1 -> 0.00024503566 | G76: =G60/F60-1 -> 0.015969033 | H76: =H60/G60-1 -> -0.015666976 | I76: =I60/H60-1 -> -0.022316704 | J76: =J60/I60-1 -> -0.45726874 | K76: =K60/J60-1 -> -0.024458452
