Workbook

Sheet Monthly
B1: Eesti gaasibilanss, MWh | C1: 42370 | D1: 42401 | E1: 42430 | F1: 42461 | G1: 42491 | H1: 42522 | I1: 42552 | J1: 42583 | K1: 42614 | L1: 42644 | M1: 42675 | N1: 42705 | O1: 42736 | P1: 42767 | Q1: 42795 | R1: 42826 | S1: 42856 | T1: 42887 | U1: 42917 | V1: 42948 | W1: 42979 | X1: 43009 | Y1: 43040 | Z1: 43070 | AA1: 43101 | AB1: 43132 | AC1: 43160 | AD1: 43191 | AE1: 43221 | AF1: 43252 | AG1: 43282 | AH1: 43313 | AI1: 43344 | AJ1: 43374 | AK1: 43405 | AL1: 43435 | AM1: 43466 | AN1: 43497 | AO1: 43525 | AP1: 43556 | AQ1: 43586 | AR1: 43617 | AS1: 43647 | AT1: 43678 | AU1: 43709 | AV1: 43739 | AW1: 43770 | AX1: 43800
B2: Ülekandevõrku sisenenud gaas kokku | C2: =C3+C8 -> 1293165.4 | D2: =D3+D8 -> 1456898 | E2: =E3+E8 -> 1508794.5 | F2: =F3+F8 -> 1040320.1 | G2: =G3+G8 -> 664564.12 | H2: =H3+H8 -> 2440808.4 | I2: =I3+I8 -> 4140272.7 | J2: =J3+J8 -> 4768738.5 | ... AX2: =AX3+AX8 -> 0
B3: Ülekandevõrku piiripunktidest sisenenud gaas (ilma transiidita) | C3: =SUM(C4:C7) -> 1044919.7 | D3: =SUM(D4:D7) -> 653357.21 | E3: =SUM(E4:E7) -> 631309.77 | F3: =SUM(F4:F7) -> 434614.88 | G3: =SUM(G4:G7) -> 235808.01 | H3: =SUM(H4:H7) -> 193180.05 | I3: =SUM(I4:I7) -> 177085.93 | J3: =SUM(J4:J7) -> 182312.63 | ... AX3: =SUM(AX4:AX7) -> 0
B4: Karksi GMJ | C4: 1044688.6 | D4: 653204.37 | E4: 631157.71 | F4: 434519.79 | G4: 235787.56 | H4: 36000.546 | I4: 128595.11 | J4: 62773.534 | K4: 52278.085 | L4: 85559.992 | M4: 72474.715 | N4: 46139.95 | O4: 8968.9098 | P4: 61312.172 | Q4: 190573.95 | R4: 47.209 | S4: 168116.43 | T4: 161181.65 | U4: 182138.91 | V4: 203770.11 | W4: 0 | X4: 12638.625 | Y4: 214414.59 | Z4: 363171.54 | AA4: 205283.33 | AB4: 288858.89 | AC4: 244324.46 | AD4: 157694.55 | AE4: 11362.688 | AF4: 3585.984 | AG4: 949.76 | AH4: 0 | AI4: 0 | AJ4: 4206.852 | AK4: 85839.556 | AL4: 121553.92 | AM4: 317483.83 | AN4: 327403.88 | AO4: 510235.01 | AP4: 94899.372 | AQ4: 0 | AR4: 513.209 | AS4: 672.833 | AT4: 30324.659 | AU4: 2228.029
B5: Värska GMJ | C5: 0 | D5: 0 | E5: 0 | F5: 0 | G5: 0 | H5: 157166.61 | I5: 48482.92 | J5: 119527.85 | K5: 157543.19 | L5: 405051.38 | M5: 552193.96 | N5: 605220.6 | O5: 736933.53 | P5: 618356.32 | Q5: 417067.87 | R5: 455465.38 | S5: 134944.91 | T5: 23969.624 | U5: 10890.787 | V5: 443.062 | W5: 250223.27 | X5: 452009.83 | Y5: 317857.71 | Z5: 248194.38 | AA5: 504174.41 | AB5: 492087.56 | AC5: 522371.98 | AD5: 235958.95 | AE5: 152529.15 | AF5: 86200.233 | AG5: 178838.45 | AH5: 149335.61 | AI5: 17002.367 | AJ5: 398244.68 | AK5: 410356.13 | AL5: 566794.03 | AM5: 472120.45 | AN5: 239211.15 | AO5: 52968.925 | AP5: 261634.8 | AQ5: 275538.55 | AR5: 170119.68 | AS5: 183390.43 | AT5: 174181.57 | AU5: 248632.08
B6: Narva GMJ | C6: 0 | D6: 0 | E6: 0 | F6: 0 | G6: 0 | H6: 0 | I6: 0 | J6: 0 | K6: 0 | L6: 0 | M6: 0 | N6: 0 | O6: 0 | P6: 0 | Q6: 0 | R6: 0 | S6: 0 | T6: 0 | U6: 0 | V6: 0 | W6: 0 | X6: 0 | Y6: 0 | Z6: 0 | AA6: 0 | AB6: 0 | AC6: 0 | AD6: 0 | AE6: 55141.327 | AF6: 97919.143 | AG6: 20278.416 | AH6: 29978.457 | AI6: 199078.92 | AJ6: 0 | AK6: 0 | AL6: 0 | AM6: 0 | AN6: 0 | AO6: 0 | AP6: 0 | AQ6: 0 | AR6: 0 | AS6: 0 | AT6: 0 | AU6: 0
B7: Misso GMJ | C7: 231.11616 | D7: 152.83785 | E7: 152.06058 | F7: 95.09643 | G7: 20.45088 | H7: 12.88803 | I7: 7.90636 | J7: 11.24528 | K7: 31.55102 | L7: 116.45781 | M7: 150.56124 | N7: 160.56792 | O7: 185.87328 | P7: 160.63337 | Q7: 136.5798 | R7: 110.26 | S7: 51.379 | T7: 17.924 | U7: 12.946 | V7: 12.74254 | W7: 35.873 | X7: 102.70655 | Y7: 129.97069 | Z7: 161.60708 | AA7: 180.40932 | AB7: 187.40164 | AC7: 174.825 | AD7: 89.512 | AE7: 14.682 | AF7: 9.015 | AG7: 8.92 | AH7: 7.602 | AI7: 26.727 | AJ7: 88.07 | AK7: 123.403 | AL7: 176.293 | AM7: 203.171 | AN7: 145.601 | AO7: 139.732 | AP7: 76.93 | AQ7: 38.29 | AR7: 7.549 | AS7: 11.142 | AT7: 9.647 | AU7: 42.075
B8: Transiit | C8: 248245.78 | D8: 803540.81 | E8: 877484.69 | F8: 605705.26 | G8: 428756.11 | H8: 2247628.3 | I8: 3963186.7 | J8: 4586425.9 | K8: 4540064.7 | L8: 632547.02 | M8: 5295.8039 | N8: 0 | O8: 0 | P8: 9612.9416 | Q8: 0 | R8: 0 | S8: 594583.77 | T8: 555865.26 | U8: 1035329.4 | V8: 2294567.1 | W8: 4488644.5 | X8: 3651088.7 | Y8: 210387.47 | Z8: 142421.74 | AA8: 210390.88 | AB8: 62640.017 | AC8: 408084.93 | AD8: 5825.6764 | AE8: 54404.009 | AF8: 489335.94 | AG8: 2943467 | AH8: 3800136.8 | AI8: 4191078.4 | AJ8: 1987766.7 | AK8: 596440.84 | AL8: 404938.83 | AM8: 211260.46 | AN8: 803456.47 | AO8: 211488.17 | AP8: 445.45215 | AQ8: 2730090.1 | AR8: 2841333.6 | AS8: 4114744.2 | AT8: 3307597.1 | AU8: 3173471.3
B9: Tootmine | C9: 0 | D9: 0 | E9: 0 | F9: 0 | G9: 0 | H9: 0 | I9: 0 | J9: 0 | K9: 0 | L9: 0 | M9: 0 | N9: 0 | O9: 0 | P9: 0 | Q9: 0 | R9: 0 | S9: 0 | T9: 0 | U9: 0 | V9: 0 | W9: 0 | X9: 0 | Y9: 0 | Z9: 0 | AA9: 0 | AB9: 0 | AC9: 0 | AD9: 0 | AE9: 0 | AF9: 0 | AG9: 0 | AH9: 0 | AI9: 0 | AJ9: 0 | AK9: 0 | AL9: 0 | AM9: 0 | AN9: 0 | AO9: 0 | AP9: 0 | AQ9: 0 | AR9: 0 | AS9: 0 | AT9: 0 | AU9: 0 | AV9: 0 | AW9: 0 | AX9: 0
B10: Ülekandevõrgust väljunud gaas kokku | C10: =C11+C13+C14 -> 1292668.8 | D10: =D11+D13+D14 -> 1448544.2 | E10: =E11+E13+E14 -> 1508095.2 | F10: =F11+F13+F14 -> 1033024.8 | G10: =G11+G13+G14 -> 663196.58 | H10: =H11+H13+H14 -> 2440396.4 | I10: =I11+I13+I14 -> 4142702.9 | J10: =J11+J13+J14 -> 4768426.3 | ... AX10: =AX11+AX13+AX14 -> 0
B11: Sisemaine ülekandeteenus | C11: 1044423 | D11: 645003.41 | E11: 630610.48 | F11: 427319.53 | G11: 234440.47 | H11: 192565.62 | I11: 179200.43 | J11: 181886.8 | K11: 209137.79 | L11: 481991.17 | M11: 620401.14 | N11: 649718.76 | O11: 747311.94 | P11: 681210.23 | Q11: 608286.07 | R11: 457469.43 | S11: 299221.62 | T11: 186222.88 | U11: 195177.88 | V11: 204212.53 | W11: 250200.34 | X11: 447212.51 | Y11: 531431.37 | Z11: 611013.82 | AA11: 707661.3 | AB11: 784741.26 | AC11: 764138.75 | AD11: 395545.37 | AE11: 219652.92 | AF11: 188615.09 | AG11: 188643.76 | AH11: 188111.96 | AI11: 212120.17 | AJ11: 390450.49 | AK11: 496637.97 | AL11: 680084.13 | AM11: 787413.81 | AN11: 567216.82 | AO11: 562412.09 | AP11: 354843.71 | AQ11: 274263.87 | AR11: 173461.97 | AS11: 190935.65 | AT11: 204047.87 | AU11: 242911.47
B12: Kaod ülekandevõrgus | C12: 2738.1024 | D12: 1665.4863 | E12: 1549.77 | F12: 841.96827 | G12: 958.01432 | H12: 1020.8336 | I12: 1005.9997 | J12: 1197.4125 | K12: 619.78521 | L12: 930.97146 | M12: 63.84784 | N12: 2292.2809 | O12: 1755.7563 | P12: 1473.9289 | Q12: 692.74911 | R12: 843.255 | S12: 875.53736 | T12: 761.8905 | U12: 1914.1568 | V12: 820.8057 | W12: 1187.3316 | X12: 2366.9634 | Y12: 1542.1368 | Z12: 1603.4295 | AA12: 2892.763 | AB12: 1830.5679 | AC12: 1271.8318 | AD12: 1694.2794 | AE12: 1113.9062 | AF12: 1247.6897 | AG12: -616.4873 | AH12: -1518.4249 | AI12: -252.40032 | AJ12: 826.88772 | AK12: 1968.8818 | AL12: 1921.7188 | AM12: 2414.4158 | AN12: 3073.9035 | AO12: 2546.707 | AP12: 477.224 | AQ12: 351.49655 | AR12: 562.90194 | AS12: 173.12734 | AT12: -128.45221 | AU12: 265.164
B13: Transiit | C13: =C8 -> 248245.78 | D13: =D8 -> 803540.81 | E13: =E8 -> 877484.69 | F13: =F8 -> 605705.26 | G13: =G8 -> 428756.11 | H13: =H8 -> 2247628.3 | I13: =I8 -> 3963186.7 | J13: =J8 -> 4586425.9 | ... AX13: =AX8 -> 0
B14: Võrgust väljastatud tööde käigus | C14: 0 | D14: 0 | E14: 0 | F14: 0 | G14: 0 | H14: 202.43844 | I14: 315.75761 | J14: 113.61719 | K14: 0 | L14: 0 | M14: 1347.4781 | N14: 0 | O14: 0 | P14: 0 | Q14: 0 | R14: 47.6805 | S14: 551.49077 | T14: 379.008 | U14: 518.45346 | V14: 221.54 | W14: 0 | X14: 945.8598 | Y14: 0 | Z14: 0 | AA14: 0 | AB14: 0 | AC14: 0 | AD14: 0 | AE14: 2473.4448 | AF14: 764.8352 | AG14: 3690.2294 | AH14: 1914.9674 | AI14: 0 | AJ14: 0 | AK14: 0 | AL14: 0 | AM14: 0 | AN14: 0 | AO14: 0 | AP14: 473.40144 | AQ14: 4917.469 | AR14: 1352.7994 | AS14: 718.38297 | AT14: 1803.6475 | AU14: 2230.8864
B15: Mahuvaru perioodi lõpus | C15: 39410.353 | D15: 46061.341 | E15: 45167.206 | F15: 51577.739 | G15: 51938.279 | H15: 51675.033 | I15: 48141.193 | J15: 46891.63 | K15: 47076.292 | L15: 54702.807 | M15: 57657.341 | N15: 57222.539 | O15: 54297.813 | P15: 51494.592 | Q15: 50294.169 | R15: 47561.241 | S15: 49984.892 | T15: 47756.257 | U15: 43123.49 | V15: 42203.663 | W15: 41265.499 | X15: 55507.982 | Y15: 54946.675 | Z15: 53901.019 | AA15: 53293.829 | AB15: 48082.929 | AC15: 49467.78 | AD15: 45231.54 | AE15: 41023.896 | AF15: 38005.019 | AG15: 46408.941 | AH15: 33900.925 | AI15: 37589.528 | AJ15: 48497.058 | AK15: 46184.253 | AL15: 57271.225 | AM15: 52186.333 | AN15: 49616.587 | AO15: 47350.505 | AP15: 48642.336 | AQ15: 44669.821 | AR15: 41640.084 | AS15: 33250.189 | AT15: 32738.796 | AU15: 38499.268
B16: Mahuvaru muutus | C16: -2241.455 | D16: 6688.3084 | E16: -850.47439 | F16: 6453.3858 | G16: 409.52135 | H16: -608.84227 | I16: -3436.2481 | J16: -885.20215 | K16: 95.259166 | L16: 7805.6826 | M16: 3006.7815 | N16: -489.92376 | O16: -2979.3802 | P16: -2855.0318 | Q16: -1200.4231 | R16: -2780.8725 | S16: 2468.9474 | T16: -2276.2845 | U16: -4496.3206 | V16: -837.45255 | W16: -1099.7087 | X16: 14321.159 | Y16: -561.30717 | Z16: -1098.1363 | AA16: -607.19024 | AB16: -5261.7525 | AC16: 1430.6877 | AD16: -4094.6339 | AE16: -4164.3594 | AF16: -3097.4675 | AG16: 8440.256 | AH16: -12463.606 | AI16: 3558.7146 | AJ16: 10979.266 | AK16: -2220.0764 | AL16: 11042.734 | AM16: -1663.2537 | AN16: -2569.7463 | AO16: -2313.4705 | AP16: 1427.376 | AQ16: -3832.872 | AR16: -3158.3453 | AS16: -8509.4351 | AT16: -384.48432 | AU16: 5572.3185
B17: Ööpäevane MIN võrku sisenenud gaas | C17: 19432.501 | D17: 16971.705 | E17: 10455.931 | F17: 9417.9888 | G17: 5494.5581 | H17: 5063.8579 | I17: 0.17952 | J17: 0.3168 | K17: 4025.8944 | L17: 7660.3507 | M17: 14646.604 | N17: 14911.734 | O17: 17001.107 | P17: 14993.189 | Q17: 13788.444 | R17: 8598.8029 | S17: 4811.635 | T17: 2394.271 | U17: 3104.079 | V17: 2618.7148 | W17: 4598.7823 | X17: 7966.3343 | Y17: 11640.194 | Z17: 16917.54 | AA17: 14921.609 | AB17: 17016.3 | AC17: 16960.306 | AD17: 5106.69 | AE17: 4571.0051 | AF17: 105.709 | AG17: 4518.7151 | AH17: 3009.7625 | AI17: 4104.637 | AJ17: 6134.028 | AK17: 11112.092 | AL17: 16226.966 | AM17: 16310.457 | AN17: 16071.964 | AO17: 11525.386 | AP17: 5457.984 | AQ17: 6300.854 | AR17: 4799.99 | AS17: 4568.063 | AT17: 3902.055 | AU17: 5555.093
B18: Ööpäevane MAX võrku sisenenud gaas | C18: 52498.649 | D18: 27007.073 | E18: 29682.523 | F18: 18408.709 | G18: 10844.106 | H18: 11591.237 | I18: 8914.0867 | J18: 15526.104 | K18: 15608.715 | L18: 20203.17 | M18: 27277.98 | N18: 27800.552 | O18: 41631.706 | P18: 38990.973 | Q18: 29922.263 | R18: 18628.253 | S18: 15173.162 | T18: 11328.698 | U18: 9077.86 | V18: 8517.6939 | W18: 11696.942 | X18: 22997.808 | Y18: 22793.335 | Z18: 22525.367 | AA18: 32052.95 | AB18: 48615.653 | AC18: 38586.847 | AD18: 24313.984 | AE18: 13561.787 | AF18: 10456.438 | AG18: 14389.358 | AH18: 8360.598 | AI18: 15001.673 | AJ18: 25431.322 | AK18: 27104.629 | AL18: 30278.246 | AM18: 35490.818 | AN18: 26144.55 | AO18: 26280.185 | AP18: 19868.008 | AQ18: 13679.312 | AR18: 8474.316 | AS18: 6653.888 | AT18: 12480.276 | AU18: 13652.499
B20: Maagaasi import | O20: =O3/C3-1 -> -0.285985 | P20: =P3/D3-1 -> 0.040516759 | Q20: =Q3/E3-1 -> -0.037273894 | R20: =R3/F3-1 -> 0.048336957 | S20: =S3/G3-1 -> 0.28542162 | T20: =T3/H3-1 -> -0.041468319 | U20: =U3/I3-1 -> 0.090107171 | V20: =V3/J3-1 -> 0.12019619 | ... AX20: =AX3/AL3-1 -> -1
B21: Siseriiklik ülekandeteenus | O21: =O11/C11-1 -> -0.28447389 | P21: =P11/D11-1 -> 0.0561343 | Q21: =Q11/E11-1 -> -0.035401255 | R21: =R11/F11-1 -> 0.070555862 | S21: =S11/G11-1 -> 0.27632236 | T21: =T11/H11-1 -> -0.032938071 | U21: =U11/I11-1 -> 0.089159648 | V21: =V11/J11-1 -> 0.12274518 | ... AX21: =AX11/AL11-1 -> -1
B22: Transiit | O22: =O8/C8-1 -> -1 | P22: =P8/D8-1 -> -0.98803677 | Q22: =Q8/E8-1 -> -1 | R22: =R8/F8-1 -> -1 | S22: =S8/G8-1 -> 0.38676456 | T22: =T8/H8-1 -> -0.75268809 | U22: =U8/I8-1 -> -0.7387634 | V22: =V8/J8-1 -> -0.49970474 | ... AX22: =AX8/AL8-1 -> -1
B23: Mahuvaru muutus | O23: =O15/C15-1 -> 0.37775505 | P23: =P15/D15-1 -> 0.11795685 | Q23: =Q15/E15-1 -> 0.11351072 | R23: =R15/F15-1 -> -0.077872707 | S23: =S15/G15-1 -> -0.037609772 | T23: =T15/H15-1 -> -0.075834996 | U23: =U15/I15-1 -> -0.10422888 | V23: =V15/J15-1 -> -0.099974506 | ... AX23: =AX15/AL15-1 -> -1

Sheet Quarterly
B1: Eesti gaasibilanss, MWh | C1: 2016-Q1 | D1: 2016-Q2 | E1: 2016-Q3 | F1: 2016-Q4 | G1: 2017-Q1 | H1: 2017-Q2 | I1: 2017-Q3 | J1: 2017-Q4 | K1: 2018-Q1 | L1: 2018-Q2 | M1: 2018-Q3 | N1: 2018-Q4 | O1: 2019-Q1 | P1: 2019-Q2
B2: Ülekandevõrku sisenenud gaas kokku | C2: =SUM(Monthly!C2:E2) -> 4258857.9 | D2: =SUM(Monthly!F2:H2) -> 4145692.6 | E2: =SUM(Monthly!I2:K2) -> 13658929 | F2: =SUM(Monthly!L2:N2) -> 2404911 | G2: =SUM(Monthly!O2:Q2) -> 2043308.8 | H2: =SUM(Monthly!R2:T2) -> 2094353.8 | I2: =SUM(Monthly!U2:W2) -> 8466068.7 | J2: =SUM(Monthly!X2:Z2) -> 5612578.8 | K2: =SUM(Monthly!AA2:AC2) -> 2938759.1 | L2: =SUM(Monthly!AD2:AF2) -> 1350070.9 | M2: =SUM(Monthly!AG2:AI2) -> 11530187 | N2: =SUM(Monthly!AJ2:AL2) -> 4576529.3 | O2: =SUM(Monthly!AM2:AO2) -> 3146116.8 | P2: =SUM(Monthly!AP2:AR2) -> 6374697.5
B3: Ülekandevõrku piiripunktidest sisenenud gaas (ilma transiidita) | C3: =SUM(Monthly!C3:E3) -> 2329586.6 | D3: =SUM(Monthly!F3:H3) -> 863602.94 | E3: =SUM(Monthly!I3:K3) -> 569251.39 | F3: =SUM(Monthly!L3:N3) -> 1767068.2 | G3: =SUM(Monthly!O3:Q3) -> 2033695.8 | H3: =SUM(Monthly!R3:T3) -> 943904.75 | I3: =SUM(Monthly!U3:W3) -> 647527.71 | J3: =SUM(Monthly!X3:Z3) -> 1608681 | K3: =SUM(Monthly!AA3:AC3) -> 2257643.3 | L3: =SUM(Monthly!AD3:AF3) -> 800505.23 | M3: =SUM(Monthly!AG3:AI3) -> 595505.23 | N3: =SUM(Monthly!AJ3:AL3) -> 1587382.9 | O3: =SUM(Monthly!AM3:AO3) -> 1919911.7 | P3: =SUM(Monthly!AP3:AR3) -> 802828.38
B4: Karksi GMJ | C4: =SUM(Monthly!C4:E4) -> 2329050.6 | D4: =SUM(Monthly!F4:H4) -> 706307.89 | E4: =SUM(Monthly!I4:K4) -> 243646.73 | F4: =SUM(Monthly!L4:N4) -> 204174.66 | G4: =SUM(Monthly!O4:Q4) -> 260855.03 | H4: =SUM(Monthly!R4:T4) -> 329345.28 | I4: =SUM(Monthly!U4:W4) -> 385909.02 | J4: =SUM(Monthly!X4:Z4) -> 590224.75 | K4: =SUM(Monthly!AA4:AC4) -> 738466.68 | L4: =SUM(Monthly!AD4:AF4) -> 172643.22 | M4: =SUM(Monthly!AG4:AI4) -> 949.76 | N4: =SUM(Monthly!AJ4:AL4) -> 211600.33 | O4: =SUM(Monthly!AM4:AO4) -> 1155122.7 | P4: =SUM(Monthly!AP4:AR4) -> 95412.581
B5: Värska GMJ | C5: =SUM(Monthly!C5:E5) -> 0 | D5: =SUM(Monthly!F5:H5) -> 157166.61 | E5: =SUM(Monthly!I5:K5) -> 325553.96 | F5: =SUM(Monthly!L5:N5) -> 1562465.9 | G5: =SUM(Monthly!O5:Q5) -> 1772357.7 | H5: =SUM(Monthly!R5:T5) -> 614379.91 | I5: =SUM(Monthly!U5:W5) -> 261557.12 | J5: =SUM(Monthly!X5:Z5) -> 1018061.9 | K5: =SUM(Monthly!AA5:AC5) -> 1518634 | L5: =SUM(Monthly!AD5:AF5) -> 474688.33 | M5: =SUM(Monthly!AG5:AI5) -> 345176.43 | N5: =SUM(Monthly!AJ5:AL5) -> 1375394.8 | O5: =SUM(Monthly!AM5:AO5) -> 764300.52 | P5: =SUM(Monthly!AP5:AR5) -> 707293.03
B6: Narva GMJ | C6: =SUM(Monthly!C6:E6) -> 0 | D6: =SUM(Monthly!F6:H6) -> 0 | E6: =SUM(Monthly!I6:K6) -> 0 | F6: =SUM(Monthly!L6:N6) -> 0 | G6: =SUM(Monthly!O6:Q6) -> 0 | H6: =SUM(Monthly!R6:T6) -> 0 | I6: =SUM(Monthly!U6:W6) -> 0 | J6: =SUM(Monthly!X6:Z6) -> 0 | K6: =SUM(Monthly!AA6:AC6) -> 0 | L6: =SUM(Monthly!AD6:AF6) -> 153060.47 | M6: =SUM(Monthly!AG6:AI6) -> 249335.79 | N6: =SUM(Monthly!AJ6:AL6) -> 0 | O6: =SUM(Monthly!AM6:AO6) -> 0 | P6: =SUM(Monthly!AP6:AR6) -> 0
B7: Misso GMJ | C7: =SUM(Monthly!C7:E7) -> 536.01459 | D7: =SUM(Monthly!F7:H7) -> 128.43534 | E7: =SUM(Monthly!I7:K7) -> 50.70266 | F7: =SUM(Monthly!L7:N7) -> 427.58697 | G7: =SUM(Monthly!O7:Q7) -> 483.08645 | H7: =SUM(Monthly!R7:T7) -> 179.563 | I7: =SUM(Monthly!U7:W7) -> 61.56154 | J7: =SUM(Monthly!X7:Z7) -> 394.28432 | K7: =SUM(Monthly!AA7:AC7) -> 542.63596 | L7: =SUM(Monthly!AD7:AF7) -> 113.209 | M7: =SUM(Monthly!AG7:AI7) -> 43.249 | N7: =SUM(Monthly!AJ7:AL7) -> 387.766 | O7: =SUM(Monthly!AM7:AO7) -> 488.504 | P7: =SUM(Monthly!AP7:AR7) -> 122.769
B8: Transiit | C8: =SUM(Monthly!C8:E8) -> 1929271.3 | D8: =SUM(Monthly!F8:H8) -> 3282089.7 | E8: =SUM(Monthly!I8:K8) -> 13089677 | F8: =SUM(Monthly!L8:N8) -> 637842.82 | G8: =SUM(Monthly!O8:Q8) -> 9612.9416 | H8: =SUM(Monthly!R8:T8) -> 1150449 | I8: =SUM(Monthly!U8:W8) -> 7818541 | J8: =SUM(Monthly!X8:Z8) -> 4003897.9 | K8: =SUM(Monthly!AA8:AC8) -> 681115.83 | L8: =SUM(Monthly!AD8:AF8) -> 549565.63 | M8: =SUM(Monthly!AG8:AI8) -> 10934682 | N8: =SUM(Monthly!AJ8:AL8) -> 2989146.4 | O8: =SUM(Monthly!AM8:AO8) -> 1226205.1 | P8: =SUM(Monthly!AP8:AR8) -> 5571869.1
B9: Tootmine | C9: =SUM(Monthly!C9:E9) -> 0 | D9: =SUM(Monthly!F9:H9) -> 0 | E9: =SUM(Monthly!I9:K9) -> 0 | F9: =SUM(Monthly!L9:N9) -> 0 | G9: =SUM(Monthly!O9:Q9) -> 0 | H9: =SUM(Monthly!R9:T9) -> 0 | I9: =SUM(Monthly!U9:W9) -> 0 | J9: =SUM(Monthly!X9:Z9) -> 0 | K9: =SUM(Monthly!AA9:AC9) -> 0 | L9: =SUM(Monthly!AD9:AF9) -> 0 | M9: =SUM(Monthly!AG9:AI9) -> 0 | N9: =SUM(Monthly!AJ9:AL9) -> 0 | O9: =SUM(Monthly!AM9:AO9) -> 0 | P9: =SUM(Monthly!AP9:AR9) -> 0
B10: Ülekandevõrgust väljunud gaas kokku | C10: =SUM(Monthly!C10:E10) -> 4249308.2 | D10: =SUM(Monthly!F10:H10) -> 4136617.7 | E10: =SUM(Monthly!I10:K10) -> 13660332 | F10: =SUM(Monthly!L10:N10) -> 2391301.4 | G10: =SUM(Monthly!O10:Q10) -> 2046421.2 | H10: =SUM(Monthly!R10:T10) -> 2094341.1 | I10: =SUM(Monthly!U10:W10) -> 8468871.8 | J10: =SUM(Monthly!X10:Z10) -> 5594501.4 | K10: =SUM(Monthly!AA10:AC10) -> 2937657.1 | L10: =SUM(Monthly!AD10:AF10) -> 1356617.3 | M10: =SUM(Monthly!AG10:AI10) -> 11529163 | N10: =SUM(Monthly!AJ10:AL10) -> 4556319 | O10: =SUM(Monthly!AM10:AO10) -> 3143247.8 | P10: =SUM(Monthly!AP10:AR10) -> 6381182.3
B11: Sisemaine ülekandeteenus | C11: =SUM(Monthly!C11:E11) -> 2320036.9 | D11: =SUM(Monthly!F11:H11) -> 854325.62 | E11: =SUM(Monthly!I11:K11) -> 570225.02 | F11: =SUM(Monthly!L11:N11) -> 1752111.1 | G11: =SUM(Monthly!O11:Q11) -> 2036808.2 | H11: =SUM(Monthly!R11:T11) -> 942913.92 | I11: =SUM(Monthly!U11:W11) -> 649590.74 | J11: =SUM(Monthly!X11:Z11) -> 1589657.7 | K11: =SUM(Monthly!AA11:AC11) -> 2256541.3 | L11: =SUM(Monthly!AD11:AF11) -> 803813.38 | M11: =SUM(Monthly!AG11:AI11) -> 588875.89 | N11: =SUM(Monthly!AJ11:AL11) -> 1567172.6 | O11: =SUM(Monthly!AM11:AO11) -> 1917042.7 | P11: =SUM(Monthly!AP11:AR11) -> 802569.54
B12: Kaod ülekandevõrgus | C12: =SUM(Monthly!C12:E12) -> 5953.3587 | D12: =SUM(Monthly!F12:H12) -> 2820.8162 | E12: =SUM(Monthly!I12:K12) -> 2823.1975 | F12: =SUM(Monthly!L12:N12) -> 3287.1002 | G12: =SUM(Monthly!O12:Q12) -> 3922.4343 | H12: =SUM(Monthly!R12:T12) -> 2480.6829 | I12: =SUM(Monthly!U12:W12) -> 3922.2941 | J12: =SUM(Monthly!X12:Z12) -> 5512.5297 | K12: =SUM(Monthly!AA12:AC12) -> 5995.1627 | L12: =SUM(Monthly!AD12:AF12) -> 4055.8754 | M12: =SUM(Monthly!AG12:AI12) -> -2387.3125 | N12: =SUM(Monthly!AJ12:AL12) -> 4717.4884 | O12: =SUM(Monthly!AM12:AO12) -> 8035.0263 | P12: =SUM(Monthly!AP12:AR12) -> 1391.6225
B13: Transiit | C13: =SUM(Monthly!C13:E13) -> 1929271.3 | D13: =SUM(Monthly!F13:H13) -> 3282089.7 | E13: =SUM(Monthly!I13:K13) -> 13089677 | F13: =SUM(Monthly!L13:N13) -> 637842.82 | G13: =SUM(Monthly!O13:Q13) -> 9612.9416 | H13: =SUM(Monthly!R13:T13) -> 1150449 | I13: =SUM(Monthly!U13:W13) -> 7818541 | J13: =SUM(Monthly!X13:Z13) -> 4003897.9 | K13: =SUM(Monthly!AA13:AC13) -> 681115.83 | L13: =SUM(Monthly!AD13:AF13) -> 549565.63 | M13: =SUM(Monthly!AG13:AI13) -> 10934682 | N13: =SUM(Monthly!AJ13:AL13) -> 2989146.4 | O13: =SUM(Monthly!AM13:AO13) -> 1226205.1 | P13: =SUM(Monthly!AP13:AR13) -> 5571869.1
B14: Võrgust väljastatud tööde käigus | C14: =SUM(Monthly!C14:E14) -> 0 | D14: =SUM(Monthly!F14:H14) -> 202.43844 | E14: =SUM(Monthly!I14:K14) -> 429.3748 | F14: =SUM(Monthly!L14:N14) -> 1347.4781 | G14: =SUM(Monthly!O14:Q14) -> 0 | H14: =SUM(Monthly!R14:T14) -> 978.17927 | I14: =SUM(Monthly!U14:W14) -> 739.99346 | J14: =SUM(Monthly!X14:Z14) -> 945.8598 | K14: =SUM(Monthly!AA14:AC14) -> 0 | L14: =SUM(Monthly!AD14:AF14) -> 3238.28 | M14: =SUM(Monthly!AG14:AI14) -> 5605.1968 | N14: =SUM(Monthly!AJ14:AL14) -> 0 | O14: =SUM(Monthly!AM14:AO14) -> 0 | P14: =SUM(Monthly!AP14:AR14) -> 6743.6698
B15: Mahuvaru perioodi lõpus
B16: Mahuvaru muutus
B17: Ööpäevane MIN võrku sisenenud gaas
B18: Ööpäevane MAX võrku sisenenud gaas
B20: Maagaasi import | G20: =G3/C3-1 -> -0.1270143 | H20: =H3/D3-1 -> 0.092984646 | I20: =I3/E3-1 -> 0.13750747 | J20: =J3/F3-1 -> -0.089632776 | K20: =K3/G3-1 -> 0.11011845 | L20: =L3/H3-1 -> -0.1519216 | M20: =M3/I3-1 -> -0.080340155 | N20: =N3/J3-1 -> -0.013239439 | ... P20: =P3/L3-1 -> 0.0029020939
B21: Siseriiklik ülekandeteenus | G21: =G11/C11-1 -> -0.12207938 | H21: =H11/D11-1 -> 0.10369384 | I21: =I11/E11-1 -> 0.13918317 | J21: =J11/F11-1 -> -0.092718648 | K21: =K11/G11-1 -> 0.10788108 | L21: =L11/H11-1 -> -0.14752199 | M21: =M11/I11-1 -> -0.093466309 | N21: =N11/J11-1 -> -0.014144623 | ... P21: =P11/L11-1 -> -0.0015474239
B22: Transiit | G22: =G8/C8-1 -> -0.99501732 | H22: =H8/D8-1 -> -0.64947666 | I22: =I8/E8-1 -> -0.40269413 | J22: =J8/F8-1 -> 5.2772485 | K22: =K8/G8-1 -> 69.854049 | L22: =L8/H8-1 -> -0.52230337 | M22: =M8/I8-1 -> 0.39855788 | N22: =N8/J8-1 -> -0.2534409 | ... P22: =P8/L8-1 -> 9.1386783

Sheet Yearly
B1: Eesti gaasibilanss, MWh | C1: 2016 | D1: 2017 | E1: 2018
B2: Ülekandevõrku sisenenud gaas kokku | C2: =SUM(Monthly!C2:N2) -> 24468390 | D2: =SUM(Monthly!O2:Z2) -> 18216310 | E2: =SUM(Monthly!AA2:AL2) -> 20395547
B3: Ülekandevõrku piiripunktidest sisenenud gaas (ilma transiidita) | C3: =SUM(Monthly!C3:N3) -> 5529509.2 | D3: =SUM(Monthly!O3:Z3) -> 5233809.3 | E3: =SUM(Monthly!AA3:AL3) -> 5241036.7
B4: Karksi GMJ | C4: =SUM(Monthly!C4:N4) -> 3483179.9 | D4: =SUM(Monthly!O4:Z4) -> 1566334.1 | E4: =SUM(Monthly!AA4:AL4) -> 1123660
B5: Värska GMJ | C5: =SUM(Monthly!C5:N5) -> 2045186.5 | D5: =SUM(Monthly!O5:Z5) -> 3666356.7 | E5: =SUM(Monthly!AA5:AL5) -> 3713893.6
B6: Narva GMJ | C6: =SUM(Monthly!C6:N6) -> 0 | D6: =SUM(Monthly!O6:Z6) -> 0 | E6: =SUM(Monthly!AA6:AL6) -> 402396.26
B7: Misso GMJ | C7: =SUM(Monthly!C7:N7) -> 1142.7396 | D7: =SUM(Monthly!O7:Z7) -> 1118.4953 | E7: =SUM(Monthly!AA7:AL7) -> 1086.86
B8: Transiit | C8: =SUM(Monthly!C8:N8) -> 18938881 | D8: =SUM(Monthly!O8:Z8) -> 12982501 | E8: =SUM(Monthly!AA8:AL8) -> 15154510
B9: Tootmine | C9: =SUM(Monthly!C9:N9) -> 0 | D9: =SUM(Monthly!O9:Z9) -> 0 | E9: =SUM(Monthly!AA9:AL9) -> 0
B10: Ülekandevõrgust väljunud gaas kokku | C10: =SUM(Monthly!C10:N10) -> 24437559 | D10: =SUM(Monthly!O10:Z10) -> 18204136 | E10: =SUM(Monthly!AA10:AL10) -> 20379757
B11: Sisemaine ülekandeteenus | C11: =SUM(Monthly!C11:N11) -> 5496698.6 | D11: =SUM(Monthly!O11:Z11) -> 5218970.6 | E11: =SUM(Monthly!AA11:AL11) -> 5216403.2
B12: Kaod ülekandevõrgus | C12: =SUM(Monthly!C12:N12) -> 14884.473 | D12: =SUM(Monthly!O12:Z12) -> 15837.941 | E12: =SUM(Monthly!AA12:AL12) -> 12381.214
B13: Transiit | C13: =SUM(Monthly!C13:N13) -> 18938881 | D13: =SUM(Monthly!O13:Z13) -> 12982501 | E13: =SUM(Monthly!AA13:AL13) -> 15154510
B14: Võrgust väljastatud tööde käigus | C14: =SUM(Monthly!C14:N14) -> 1979.2914 | D14: =SUM(Monthly!O14:Z14) -> 2664.0325 | E14: =SUM(Monthly!AA14:AL14) -> 8843.4768
B15: Mahuvaru perioodi lõpus
B16: Mahuvaru muutus
B17: Ööpäevane MIN võrku sisenenud gaas
B18: Ööpäevane MAX võrku sisenenud gaas
B20: Maagaasi import | D20: =D3/C3-1 -> -0.0534767 | E20: =E3/D3-1 -> 0.0013809067
B21: Siseriiklik ülekandeteenus | D21: =D11/C11-1 -> -0.05052633 | E21: =E11/D11-1 -> -0.00049194072
B22: Transiit | D22: =D8/C8-1 -> -0.31450539 | E22: =E8/D8-1 -> 0.16730283
