Workbook

Sheet Monthly
B1: Eesti elektribilanss, GWh | C1: 41640 | D1: 41671 | E1: 41699 | F1: 41730 | G1: 41760 | H1: 41791 | I1: 41821 | J1: 41852 | K1: 41883 | L1: 41913 | M1: 41944 | N1: 41974 | O1: 42005 | P1: 42036 | Q1: 42064 | R1: 42095 | S1: 42125 | T1: 42156 | U1: 42186 | V1: 42217 | W1: 42248 | X1: 42278 | Y1: 42309 | Z1: 42339 | AA1: 42370 | AB1: 42401 | AC1: 42430 | AD1: 42461 | AE1: 42491 | AF1: 42522 | AG1: 42552 | AH1: 42583 | AI1: 42614 | AJ1: 42644 | AK1: 42675 | AL1: 42705 | AM1: 42736 | AN1: 42767 | AO1: 42795 | AP1: 42826 | AQ1: 42856 | AR1: 42887 | AS1: 42917 | AT1: 42948 | AU1: 42979 | AV1: 43009 | AW1: 43040 | AX1: 43070 | AY1: 43101 | AZ1: 43132 | BA1: 43160 | BB1: 43191 | BC1: 43221 | BD1: 43252 | BE1: 43282 | BF1: 43313 | BG1: 43344 | BH1: 43374 | BI1: 43405 | BJ1: 43435
B2: Võrku sisenenud | C2: 1411.0657 | D2: 1299.1118 | E2: 1235.8286 | F2: 1202.7466 | G2: 1198.1123 | H2: 1134.2389 | I2: 1143.5612 | J2: 1087.0559 | K2: 1126.177 | L2: 1228.7228 | M2: 1226.4412 | N2: 1375.7619 | O2: 1431.5562 | P2: 1261.9887 | Q2: 1195.307 | R2: 1210.1116 | S2: 1171.2688 | T2: 1130.9192 | U2: 1090.5893 | V2: 1045.5041 | W2: 1176.5459 | X2: 1338.4815 | Y2: 1159.19 | Z2: 1195.0113 | AA2: 1440.0302 | AB2: 1249.3158 | AC2: 1252.1315 | AD2: 1095.9381 | AE2: 1074.3078 | AF2: 1019.611 | AG2: 1103.079 | AH2: 1130.2723 | AI2: 1106.0602 | AJ2: 1161.54 | AK2: 1216.3706 | AL2: 1145.3022 | AM2: 1333.841 | AN2: 1176.912 | AO2: 1162.7509 | AP2: 1031.3139 | AQ2: 1120.3794 | AR2: 1072.9094 | AS2: 1049.1574 | AT2: 1068.6336 | AU2: 980.35191 | AV2: 1168.1061 | AW2: 1205.453 | AX2: 1177.5114 | AY2: 1262.1204 | AZ2: 1213.0233 | BA2: 1394.2048 | BB2: 1142.9818 | BC2: 1035.0009 | BD2: 1007.587 | BE2: 1039.9261 | BF2: 1155.4302
B3: Sisemaine tootmine | C3: 939.04095 | D3: 865.09609 | E3: 861.68021 | F3: 807.03357 | G3: 890.96699 | H3: 935.65034 | I3: 918.32671 | J3: 854.32996 | K3: 874.05451 | L3: 975.5436 | M3: 952.71444 | N3: 1030.4353 | O3: 993.78633 | P3: 947.39136 | Q3: 743.4607 | R3: 687.4944 | S3: 764.22763 | T3: 538.18101 | U3: 570.41532 | V3: 674.91568 | W3: 797.61126 | X3: 779.78904 | Y3: 774.97132 | Z3: 790.0453 | AA3: 1088.5844 | AB3: 743.87135 | AC3: 672.33488 | AD3: 740.70149 | AE3: 611.79942 | AF3: 664.15756 | AG3: 834.12163 | AH3: 1005.9356 | AI3: 969.98328 | AJ3: 1066.42 | AK3: 1081.7503 | AL3: 942.45332 | AM3: 1142.1535 | AN3: 992.27169 | AO3: 1039.1216 | AP3: 889.67267 | AQ3: 1017.711 | AR3: 874.12369 | AS3: 768.94887 | AT3: 852.45582 | AU3: 827.05718 | AV3: 971.2165 | AW3: 979.99332 | AX3: 879.62035 | AY3: 1020.0869 | AZ3: 941.85109 | BA3: 1140.8879 | BB3: 997.51879 | BC3: 710.69136 | BD3: 696.14492 | BE3: 822.29145 | BF3: 935.70548
B4: Taastuvenergia | C4: 109.19142 | D4: 108.97868 | E4: 127.94899 | F4: 108.96843 | G4: 88.192291 | H4: 98.022337 | I4: 84.926206 | J4: 109.70645 | K4: 103.04761 | L4: 146.86877 | M4: 114.74688 | N4: 155.3761 | O4: 159.20499 | P4: 135.06806 | Q4: 148.27587 | R4: 133.41375 | S4: 112.29723 | T4: 106.07171 | U4: 82.791841 | V4: 97.301799 | W4: 103.90651 | X4: 125.54082 | Y4: 137.08314 | Z4: 165.96754 | AA4: 110.57721 | AB4: 128.9609 | AC4: 105.78407 | AD4: 113.43916 | AE4: 86.550501 | AF4: 99.847643 | AG4: 75.112697 | AH4: 124.15644 | AI4: 104.04433 | AJ4: 153.83474 | AK4: 159.79446 | AL4: 150.19102 | AM4: 148.37804 | AN4: 126.54856 | AO4: 156.78 | AP4: 150.32637 | AQ4: 117.83887 | AR4: 121.91472 | AS4: 99.84318 | AT4: 116.39701 | AU4: 121.89529 | AV4: 145.19448 | AW4: 156.85159 | AX4: 158.5265 | AY4: 141.39779 | AZ4: 115.92151 | BA4: 139.28087 | BB4: 145.16402 | BC4: 110.38823 | BD4: 120.55692 | BE4: 114.6959 | BF4: 129.00737
B5: sh tuuleenergia | C5: 46.218744 | D5: 50.21718 | E5: 65.629281 | F5: 44.330951 | G5: 35.742035 | H5: 33.024287 | I5: 29.932522 | J5: 42.232788 | K5: 38.681941 | L5: 63.048926 | M5: 43.965878 | N5: 83.010144 | O5: 87.708179 | P5: 69.406785 | Q5: 75.293617 | R5: 57.957676 | S5: 45.195772 | T5: 50.610305 | U5: 41.511383 | V5: 29.668325 | W5: 36.88062 | X5: 42.546099 | Y5: 63.117187 | Z5: 94.495032 | AA5: 46.331685 | AB5: 62.086089 | AC5: 36.108042 | AD5: 40.941833 | AE5: 21.799259 | AF5: 38.649464 | AG5: 37.493983 | AH5: 48.507564 | AI5: 36.70291 | AJ5: 72.071345 | AK5: 69.467773 | AL5: 79.826225 | AM5: 68.849613 | AN5: 53.563928 | AO5: 68.11518 | AP5: 56.271071 | AQ5: 30.896096 | AR5: 55.694168 | AS5: 34.133613 | AT5: 48.888393 | AU5: 45.971327 | AV5: 60.958503 | AW5: 67.633444 | AX5: 78.478187 | AY5: 59.558927 | AZ5: 34.667484 | BA5: 48.826256 | BB5: 49.752518 | BC5: 30.015123 | BD5: 45.043323 | BE5: 33.441824 | BF5: 39.453922
B6: sh hüdroenergia | C6: 3.7236597 | D6: 2.6173218 | E6: 3.6869666 | F6: 2.9486666 | G6: 2.7002781 | H6: 2.0273313 | I6: 1.518451 | J6: 1.0162894 | K6: 1.3019122 | L6: 1.2142346 | M6: 1.4275844 | N6: 2.4270183 | O6: 4.2103423 | P6: 3.540838 | Q6: 4.4585762 | R6: 3.750123 | S6: 2.9129253 | T6: 0.9302098 | U6: 0.70461799 | V6: 0.44168346 | W6: 0.78384553 | X6: 0.55446485 | Y6: 1.159811 | Z6: 3.1546062 | AA6: 1.5762232 | AB6: 4.0687105 | AC6: 3.8169652 | AD6: 4.3296054 | AE6: 2.8683726 | AF6: 1.3592425 | AG6: 2.103561 | AH6: 2.8688279 | AI6: 2.8326562 | AJ6: 1.8971962 | AK6: 3.1572912 | AL6: 3.7656162 | AM6: 2.8858955 | AN6: 1.8543971 | AO6: 3.30878 | AP6: 3.392911 | AQ6: 2.1291064 | AR6: 0.85232046 | AS6: 0.75766471 | AT6: 1.3641021 | AU6: 1.8865612 | AV6: 3.0200108 | AW6: 3.57194 | AX6: 4.0944937 | AY6: 3.4204168 | AZ6: 2.3231016 | BA6: 1.8429165 | BB6: 3.7609314 | BC6: 2.7916469 | BD6: 0.56505718 | BE6: 0.35241141 | BF6: 0.2723009
B7: sh biomass, biogaas | C7: 59.247078 | D7: 56.140207 | E7: 58.600606 | F7: 61.620988 | G7: 49.684017 | H7: 62.901651 | I7: 53.368488 | J7: 66.371182 | K7: 62.987983 | L7: 82.577029 | M7: 69.349661 | N7: 69.937979 | O7: 67.28512 | P7: 62.099636 | Q7: 68.441187 | R7: 71.598742 | S7: 63.980149 | T7: 54.29905 | U7: 40.340833 | V7: 66.903205 | W7: 66.117251 | X7: 82.286602 | Y7: 72.75431 | Z7: 68.272564 | AA7: 62.659957 | AB7: 62.766355 | AC7: 65.724916 | AD7: 67.923842 | AE7: 61.400765 | AF7: 59.388841 | AG7: 35.06529 | AH7: 72.435763 | AI7: 64.194191 | AJ7: 79.724182 | AK7: 87.079079 | AL7: 66.506271 | AM7: 76.623349 | AN7: 71.021356 | AO7: 85.051117 | AP7: 90.156708 | AQ7: 83.903459 | AR7: 64.49357 | AS7: 64.1547 | AT7: 65.438598 | AU7: 73.628519 | AV7: 81.033047 | AW7: 85.576647 | AX7: 75.918953 | AY7: 78.300186 | AZ7: 78.766518 | BA7: 87.953336 | BB7: 90.582588 | BC7: 75.433685 | BD7: 72.928418 | BE7: 78.968739 | BF7: 87.60427
B8: Mittetaastuv | C8: 829.84953 | D8: 756.11741 | E8: 733.73122 | F8: 698.06513 | G8: 802.77469 | H8: 837.62801 | I8: 833.40051 | J8: 744.6235 | K8: 771.0069 | L8: 828.67483 | M8: 837.96756 | N8: 875.05918 | O8: 834.58133 | P8: 812.32331 | Q8: 595.18483 | R8: 554.08065 | S8: 651.93039 | T8: 432.1093 | U8: 487.62348 | V8: 577.61388 | W8: 693.70475 | X8: 654.24822 | Y8: 637.88818 | Z8: 624.07777 | AA8: 978.00718 | AB8: 614.91045 | AC8: 566.55082 | AD8: 627.26233 | AE8: 525.24892 | AF8: 564.30991 | AG8: 759.00893 | AH8: 881.77912 | AI8: 865.93895 | AJ8: 912.58529 | AK8: 921.95588 | AL8: 792.2623 | AM8: 993.77541 | AN8: 865.72314 | AO8: 882.34162 | AP8: 739.3463 | AQ8: 899.87216 | AR8: 752.20897 | AS8: 669.10569 | AT8: 736.05881 | AU8: 705.16189 | AV8: 826.02202 | AW8: 823.14174 | AX8: 721.09385 | AY8: 878.68914 | AZ8: 825.92958 | BA8: 1001.6071 | BB8: 852.35477 | BC8: 600.30312 | BD8: 575.58799 | BE8: 707.59555 | BF8: 806.69811
B9: Välisliinidelt import | C9: 472.02474 | D9: 434.01575 | E9: 374.14837 | F9: 395.71305 | G9: 307.14532 | H9: 198.58853 | I9: 225.23453 | J9: 232.72591 | K9: 252.12253 | L9: 253.17917 | M9: 273.72679 | N9: 345.32663 | O9: 437.76988 | P9: 314.59732 | Q9: 451.84632 | R9: 522.61719 | S9: 407.04122 | T9: 592.73819 | U9: 520.17402 | V9: 370.58839 | W9: 378.93464 | X9: 558.69242 | Y9: 384.21868 | Z9: 404.96604 | AA9: 351.44581 | AB9: 505.44444 | AC9: 579.79667 | AD9: 355.23659 | AE9: 462.50835 | AF9: 355.45349 | AG9: 268.95734 | AH9: 124.33674 | AI9: 136.07697 | AJ9: 95.119938 | AK9: 134.6203 | AL9: 202.84888 | AM9: 191.68758 | AN9: 184.64028 | AO9: 123.62926 | AP9: 141.64125 | AQ9: 102.66842 | AR9: 198.7857 | AS9: 280.20849 | AT9: 216.17781 | AU9: 153.29473 | AV9: 196.88961 | AW9: 225.4597 | AX9: 297.89102 | AY9: 242.03349 | AZ9: 271.17218 | BA9: 253.3169 | BB9: 145.46299 | BC9: 324.3095 | BD9: 311.44208 | BE9: 217.6347 | BF9: 219.72475
B10: sh füüsiline import | C10: 5.864609 | D10: 0.189285 | E10: 4.410409 | F10: 1.836926 | G10: 0.28845 | H10: 0 | I10: 0 | J10: 0.027877 | K10: 0.020847 | L10: 0 | M10: 1.813479 | N10: 1.33823 | O10: 4.259038 | P10: 2.46921 | Q10: 50.934026 | R10: 37.412684 | S10: 28.092576 | T10: 59.851571 | U10: 48.008097 | V10: 41.099975 | W10: 14.759048 | X10: 26.952122 | Y10: 34.026454 | Z10: 53.926207 | AA10: 25.082841 | AB10: 69.961034 | AC10: 124.41512 | AD10: 34.268745 | AE10: 72.74711 | AF10: 13.168487 | AG10: 0.3508 | AH10: 0 | AI10: 0.167811 | AJ10: 0.813735 | AK10: 1.525494 | AL10: 30.114246 | AM10: 4.360725 | AN10: 6.737949 | AO10: 3.136643 | AP10: 13.132551 | AQ10: 0.02469 | AR10: 2.228327 | AS10: 22.615959 | AT10: 18.690313 | AU10: 5.960739 | AV10: 13.214138 | AW10: 8.780464 | AX10: 25.542464 | AY10: 18.900416 | AZ10: 19.986241 | BA10: 0.255665 | BB10: 2.386407 | BC10: 44.871978 | BD10: 18.917784 | BE10: 56.411774 | BF10: 110.86361
B11: sh füüsiline transiit | C11: 466.16013 | D11: 433.82647 | E11: 369.73796 | F11: 393.87612 | G11: 306.85687 | H11: 198.58853 | I11: 225.23453 | J11: 232.69803 | K11: 252.10168 | L11: 253.17917 | M11: 271.91331 | N11: 343.9884 | O11: 433.51085 | P11: 312.12811 | Q11: 400.91229 | R11: 485.20451 | S11: 378.94864 | T11: 532.88662 | U11: 472.16592 | V11: 329.48842 | W11: 364.1756 | X11: 531.74029 | Y11: 350.19223 | Z11: 351.03983 | AA11: 326.36297 | AB11: 435.4834 | AC11: 455.38155 | AD11: 320.9679 | AE11: 389.76124 | AF11: 342.28502 | AG11: 268.60654 | AH11: 124.33674 | AI11: 135.90915 | AJ11: 94.306203 | AK11: 133.0948 | AL11: 172.73464 | AM11: 187.32686 | AN11: 177.90233 | AO11: 120.49262 | AP11: 128.5087 | AQ11: 102.64373 | AR11: 196.55737 | AS11: 257.59253 | AT11: 197.48749 | AU11: 147.33399 | AV11: 183.67552 | AW11: 216.67923 | AX11: 272.34855 | AY11: 223.13307 | AZ11: 251.18594 | BA11: 253.06124 | BB11: 143.07659 | BC11: 279.43752 | BD11: 292.52358 | BE11: 135.50163 | BF11: 115.42652
B12: Võrku läbinud | C12: 1411.0657 | D12: 1299.1118 | E12: 1235.8286 | F12: 1202.7466 | G12: 1198.1123 | H12: 1134.2389 | I12: 1143.5612 | J12: 1087.0559 | K12: 1126.177 | L12: 1228.7228 | M12: 1226.4412 | N12: 1375.7619 | O12: 1431.5562 | P12: 1261.9887 | Q12: 1195.307 | R12: 1210.1116 | S12: 1171.2688 | T12: 1130.9192 | U12: 1090.5893 | V12: 1045.5041 | W12: 1176.5459 | X12: 1338.4815 | Y12: 1159.19 | Z12: 1195.0113 | AA12: 1440.0302 | AB12: 1249.3158 | AC12: 1252.1315 | AD12: 1095.9381 | AE12: 1074.3078 | AF12: 1019.611 | AG12: 1103.079 | AH12: 1130.2723 | AI12: 1106.0602 | AJ12: 1161.54 | AK12: 1216.3706 | AL12: 1145.3022 | AM12: 1333.841 | AN12: 1176.912 | AO12: 1162.7509 | AP12: 1031.3139 | AQ12: 1120.3794 | AR12: 1072.9094 | AS12: 1049.1574 | AT12: 1068.6336 | AU12: 980.35191 | AV12: 1168.1061 | AW12: 1205.453 | AX12: 1177.5114 | AY12: 1262.1204 | AZ12: 1213.0233 | BA12: 1394.2048 | BB12: 1142.9818 | BC12: 1035.0009 | BD12: 1007.587 | BE12: 1039.9261 | BF12: 1155.4302
B13: Sisemaine tarbimine | C13: 857.70051 | D13: 724.14925 | E13: 724.89953 | F13: 651.02309 | G13: 619.72588 | H13: 560.89947 | I13: 567.19015 | J13: 587.79386 | K13: 606.1323 | L13: 694.89404 | M13: 730.2924 | N13: 795.72743 | O13: 815.4273 | P13: 718.5617 | Q13: 744.67547 | R13: 678.69407 | S13: 634.13973 | T13: 572.99703 | U13: 573.01918 | V13: 592.98455 | W13: 623.61881 | X13: 716.43985 | Y13: 714.50013 | Z13: 752.05804 | AA13: 905.58011 | AB13: 747.67661 | AC13: 770.7474 | AD13: 671.85311 | AE13: 621.97291 | AF13: 566.79021 | AG13: 572.22327 | AH13: 614.30122 | AI13: 613.7484 | AJ13: 710.13106 | AK13: 792.09948 | AL13: 797.46726 | AM13: 845.97933 | AN13: 755.64222 | AO13: 779.20893 | AP13: 695.32354 | AQ13: 650.93782 | AR13: 583.34807 | AS13: 571.25074 | AT13: 621.71286 | AU13: 653.48921 | AV13: 750.968 | AW13: 781.93757 | AX13: 810.18019 | AY13: 857.48726 | AZ13: 829.70466 | BA13: 862.31528 | BB13: 701.39124 | BC13: 651.34832 | BD13: 600.84081 | BE13: 606.08155 | BF13: 632.62852
... B16: sh füüsiline transiit | C16: 466.16013 | D16: 433.82647 | E16: 369.73796 | F16: 393.87612 | G16: 306.85687 | H16: 198.58853 | I16: 225.23453 | J16: 232.69803 | K16: 252.10168 | L16: 253.17917 | M16: 271.91331 | N16: 343.9884 | O16: 433.51085 | P16: 312.12811 | Q16: 400.91229 | R16: 485.20451 | S16: 378.94864 | T16: 532.88662 | U16: 472.16592 | V16: 329.48842 | W16: 364.1756 | X16: 531.74029 | Y16: 350.19223 | Z16: 351.03983 | AA16: 326.36297 | AB16: 435.4834 | AC16: 455.38155 | AD16: 320.9679 | AE16: 389.76124 | AF16: 342.28502 | AG16: 268.60654 | AH16: 124.33674 | AI16: 135.90915 | AJ16: 94.306203 | AK16: 133.0948 | AL16: 172.73464 | AM16: 187.32686 | AN16: 177.90233 | AO16: 120.49262 | AP16: 128.5087 | AQ16: 102.64373 | AR16: 196.55737 | AS16: 257.59253 | AT16: 197.48749 | AU16: 147.33399 | AV16: 183.67552 | AW16: 216.67923 | AX16: 272.34855 | AY16: 223.13307 | AZ16: 251.18594 | BA16: 253.06124 | BB16: 143.07659 | BC16: 279.43752 | BD16: 292.52358 | BE16: 135.50163 | BF16: 115.42652
B17: Bilanss | C17: =C3-C13 -> 81.340443 | D17: =D3-D13 -> 140.94683 | E17: =E3-E13 -> 136.78067 | F17: =F3-F13 -> 156.01047 | G17: =G3-G13 -> 271.24111 | H17: =H3-H13 -> 374.75087 | I17: =I3-I13 -> 351.13656 | J17: =J3-J13 -> 266.5361 | ... BJ17: =BJ3-BJ13 -> 0
B19: Taastuvenergia osakaal tarbimisest | C19: =C4/(C3*9.5%+C13) -> 0.11531348 | D19: =D4/(D3*9.5%+D13) -> 0.13515338 | E19: =E4/(E3*9.5%+E13) -> 0.15859627 | F19: =F4/(F3*9.5%+F13) -> 0.14974542 | G19: =G4/(G3*9.5%+G13) -> 0.12520774 | H19: =H4/(H3*9.5%+H13) -> 0.1508532 | I19: =I4/(I3*9.5%+I13) -> 0.12977102 | J19: =J4/(J3*9.5%+J13) -> 0.16399671 | ... BJ19: =BJ4/(BJ3*9.5%+BJ13) -> #DIV/0!
B21: Sisemaine tootmine | O21: =O3/C3-1 -> 0.058299239 | P21: =P3/D3-1 -> 0.095128482 | Q21: =Q3/E3-1 -> -0.1371965 | R21: =R3/F3-1 -> -0.14812167 | S21: =S3/G3-1 -> -0.14224922 | T21: =T3/H3-1 -> -0.42480542 | U21: =U3/I3-1 -> -0.37885361 | V21: =V3/J3-1 -> -0.21000584 | ... BF21: =BF3/AT3-1 -> 0.097658628
B22: Taastuvenergia | O22: =O4/C4-1 -> 0.45803571 | P22: =P4/D4-1 -> 0.23939892 | Q22: =Q4/E4-1 -> 0.15886702 | R22: =R4/F4-1 -> 0.22433392 | S22: =S4/G4-1 -> 0.27332256 | T22: =T4/H4-1 -> 0.0821177 | U22: =U4/I4-1 -> -0.025131995 | V22: =V4/J4-1 -> -0.11307134 | ... BF22: =BF4/AT4-1 -> 0.10833921
B23: sh tuuleenergia | O23: =O5/C5-1 -> 0.89767549 | P23: =P5/D5-1 -> 0.38213226 | Q23: =Q5/E5-1 -> 0.14725647 | R23: =R5/F5-1 -> 0.30738626 | S23: =S5/G5-1 -> 0.26449914 | T23: =T5/H5-1 -> 0.53251775 | U23: =U5/I5-1 -> 0.38683212 | V23: =V5/J5-1 -> -0.29750492 | ... BF23: =BF5/AT5-1 -> -0.19297978
B24: sh hüdroenergia | O24: =O6/C6-1 -> 0.13070008 | P24: =P6/D6-1 -> 0.35284778 | Q24: =Q6/E6-1 -> 0.20928031 | R24: =R6/F6-1 -> 0.27180301 | S24: =S6/G6-1 -> 0.078750114 | T24: =T6/H6-1 -> -0.54116537 | U24: =U6/I6-1 -> -0.53596264 | V24: =V6/J6-1 -> -0.565396 | ... BF24: =BF6/AT6-1 -> -0.80038085
B25: sh biomass, biogaas | O25: =O7/C7-1 -> 0.13566983 | P25: =P7/D7-1 -> 0.10615261 | Q25: =Q7/E7-1 -> 0.16792626 | R25: =R7/F7-1 -> 0.16192135 | S25: =S7/G7-1 -> 0.28774106 | T25: =T7/H7-1 -> -0.13676272 | U25: =U7/I7-1 -> -0.24410763 | V25: =V7/J7-1 -> 0.0080158798 | ... BF25: =BF7/AT7-1 -> 0.33872473
B26: Mittetaastuv | O26: =O8/C8-1 -> 0.0057019995 | P26: =P8/D8-1 -> 0.074334884 | Q26: =Q8/E8-1 -> -0.18882444 | R26: =R8/F8-1 -> -0.20626224 | S26: =S8/G8-1 -> -0.18790366 | T26: =T8/H8-1 -> -0.48412744 | U26: =U8/I8-1 -> -0.41489899 | V26: =V8/J8-1 -> -0.22428734 | ... BF26: =BF8/AT8-1 -> 0.095969649
B27: Sisemaine tarbimine | O27: =O13/C13-1 -> -0.049286679 | P27: =P13/D13-1 -> -0.0077160172 | Q27: =Q13/E13-1 -> 0.027280938 | R27: =R13/F13-1 -> 0.042503836 | S27: =S13/G13-1 -> 0.023258426 | T27: =T13/H13-1 -> 0.021568129 | U27: =U13/I13-1 -> 0.010277027 | V27: =V13/J13-1 -> 0.0088308069 | ... BF27: =BF13/AT13-1 -> 0.017557402
B29: Baltikumi elektribilanss, GWh | C29: 41640 | D29: 41671 | E29: 41699 | F29: 41730 | G29: 41760 | H29: 41791 | I29: 41821 | J29: 41852 | K29: 41883 | L29: 41913 | M29: 41944 | N29: 41974 | O29: 42005 | P29: 42036 | Q29: 42064 | R29: 42095 | S29: 42125 | T29: 42156 | U29: 42186 | V29: 42217 | W29: 42248 | X29: 42278 | Y29: 42309 | Z29: 42339 | AA29: 42370 | AB29: 42401 | AC29: 42430 | AD29: 42461 | AE29: 42491 | AF29: 42522 | AG29: 42552 | AH29: 42583 | AI29: 42614 | AJ29: 42644 | AK29: 42675 | AL29: 42705 | AM29: 42736 | AN29: 42767 | AO29: 42795 | AP29: 42826 | AQ29: 42856 | AR29: 42887 | AS29: 42917 | AT29: 42948 | AU29: 42979 | AV29: 43009 | AW29: 43040 | AX29: 43070 | AY29: 43101 | AZ29: 43132 | BA29: 43160 | BB29: 43191 | BC29: 43221 | BD29: 43252 | BE29: 43282 | BF29: 43313 | BG29: 43344 | BH29: 43374 | BI29: 43405 | BJ29: 43435
B30: Tootmine Eestis | C30: =C3 -> 939.04095 | D30: =D3 -> 865.09609 | E30: =E3 -> 861.68021 | F30: =F3 -> 807.03357 | G30: =G3 -> 890.96699 | H30: =H3 -> 935.65034 | I30: =I3 -> 918.32671 | J30: =J3 -> 854.32996 | ... BJ30: =BJ3 -> 0
B31: Tootmine Lätis | C31: 594.40696 | D31: 489.13662 | E31: 505.2732 | F31: 533.32499 | G31: 401.71834 | H31: 274.72509 | I31: 293.53103 | J31: 294.40114 | K31: 234.42123 | L31: 433.00182 | M31: 430.51258 | N31: 441.59638 | O31: 439.10425 | P31: 388.60796 | Q31: 608.11508 | R31: 574.53421 | S31: 386.76581 | T31: 279.03842 | U31: 303.55181 | V31: 421.78267 | W31: 338.80469 | X31: 481.95762 | Y31: 571.15223 | Z31: 528.99944 | AA31: 642.92032 | AB31: 440.52435 | AC31: 577.92215 | AD31: 595.26371 | AE31: 528.31959 | AF31: 414.17598 | AG31: 330.264 | AH31: 354.31202 | AI31: 266.10568 | AJ31: 525.0736 | AK31: 814.51651 | AL31: 727.58272 | AM31: 739.68237 | AN31: 596.99442 | AO31: 948.57826 | AP31: 735.46 | AQ31: 581.11607 | AR31: 361.51 | AS31: 360.466 | AT31: 391.178 | AU31: 526.167 | AV31: 618.19 | AW31: 725.053 | AX31: 719.098 | AY31: 876.823 | AZ31: 716.196 | BA31: 723.588 | BB31: 816.677 | BC31: 431.337 | BD31: 299.3 | BE31: 373.756 | BF31: 444.315
B32: Tootmine Leedus | C32: 304.85888 | D32: 236.89263 | E32: 227.61889 | F32: 128.25952 | G32: 137.36032 | H32: 216.88982 | I32: 336.04483 | J32: 312.66815 | K32: 337.25712 | L32: 243.1139 | M32: 217.7584 | N32: 282.50936 | O32: 270.45375 | P32: 230.00628 | Q32: 243.00924 | R32: 236.20631 | S32: 297.30612 | T32: 296.85377 | U32: 302.72509 | V32: 278.94248 | W32: 298.06698 | X32: 251.5516 | Y32: 236.10923 | Z32: 327.31978 | AA32: 259.189 | AB32: 228.07 | AC32: 179.225 | AD32: 169.669 | AE32: 165.16 | AF32: 243.155 | AG32: 170.247 | AH32: 181.336 | AI32: 224.807 | AJ32: 217.336 | AK32: 328.785 | AL32: 292.943 | AM32: 202.406 | AN32: 205.716 | AO32: 203.29 | AP32: 182.595 | AQ32: 193.59134 | AR32: 201.274 | AS32: 161.796 | AT32: 197.623 | AU32: 206.637 | AV32: 258.166 | AW32: 226.713 | AX32: 243.602 | AY32: 356.548 | AZ32: 251.494 | BA32: 303.507 | BB32: 314.671 | BC32: 267.447 | BD32: 205.137 | BE32: 185.606 | BF32: 267.426
B33: Kokku | C33: =SUM(C30:C32) -> 1838.3068 | D33: =SUM(D30:D32) -> 1591.1253 | E33: =SUM(E30:E32) -> 1594.5723 | F33: =SUM(F30:F32) -> 1468.6181 | G33: =SUM(G30:G32) -> 1430.0456 | H33: =SUM(H30:H32) -> 1427.2653 | I33: =SUM(I30:I32) -> 1547.9026 | J33: =SUM(J30:J32) -> 1461.3993 | ... BJ33: =SUM(BJ30:BJ32) -> 0
B34: Tarbimine Eestis | C34: =C13 -> 857.70051 | D34: =D13 -> 724.14925 | E34: =E13 -> 724.89953 | F34: =F13 -> 651.02309 | G34: =G13 -> 619.72588 | H34: =H13 -> 560.89947 | I34: =I13 -> 567.19015 | J34: =J13 -> 587.79386 | ... BJ34: =BJ13 -> 0
B35: Tarbimine Lätis | C35: 725.53364 | D35: 626.70218 | E35: 629.30559 | F35: 558.25538 | G35: 547.04 | H35: 510.31754 | I35: 552.61576 | J35: 554.6592 | K35: 550.1055 | L35: 620.86733 | M35: 628.76375 | N35: 681.04601 | O35: 679.99592 | P35: 605.24753 | Q35: 630.4987 | R35: 580.25967 | S35: 554.39111 | T35: 510.85598 | U35: 537.91774 | V35: 556.48102 | W35: 552.44688 | X35: 614.82722 | Y35: 616.23812 | Z35: 646.69423 | AA35: 724.86334 | AB35: 620.3649 | AC35: 640.37351 | AD35: 576.68596 | AE35: 557.5625 | AF35: 526.04404 | AG35: 540.611 | AH35: 558.92194 | AI35: 550.44234 | AJ35: 615.91032 | AK35: 647.01138 | AL35: 665.25331 | AM35: 695.04173 | AN35: 621.81278 | AO35: 645.62902 | AP35: 575.261 | AQ35: 567.76678 | AR35: 524.555 | AS35: 536.122 | AT35: 567.136 | AU35: 565.365 | AV35: 631.466 | AW35: 638.768 | AX35: 658.815 | AY35: 691.686 | AZ35: 644.592 | BA35: 675.107 | BB35: 577.536 | BC35: 569.807 | BD35: 541.775 | BE35: 569.385 | BF35: 583.925
B36: Tarbimine Leedus | C36: 980.95231 | D36: 851.17588 | E36: 840.9355 | F36: 798.50277 | G36: 828.77194 | H36: 788.69783 | I36: 875.5875 | J36: 872.21561 | K36: 879.14305 | L36: 935.94286 | M36: 953.91726 | N36: 1012.2567 | O36: 971.74313 | P36: 855.92093 | Q36: 866.2349 | R36: 824.87703 | S36: 823.52436 | T36: 807.7118 | U36: 833.18658 | V36: 850.28286 | W36: 873.99158 | X36: 907.96909 | Y36: 921.20738 | Z36: 907.88258 | AA36: 962.781 | AB36: 820.838 | AC36: 865.642 | AD36: 785.879 | AE36: 783.498 | AF36: 771.91 | AG36: 795.853 | AH36: 838.847 | AI36: 800.68 | AJ36: 875.62 | AK36: 891.49 | AL36: 921.24 | AM36: 980.269 | AN36: 855.444 | AO36: 873.995 | AP36: 792.622 | AQ36: 810.413 | AR36: 789.368 | AS36: 796.299 | AT36: 860.785 | AU36: 844.041 | AV36: 893.564 | AW36: 908.394 | AX36: 947.464 | AY36: 1123.494 | AZ36: 1031.11 | BA36: 1103.237 | BB36: 912.466 | BC36: 961.745 | BD36: 923.159 | BE36: 958.953 | BF36: 973.201
B37: Kokku | C37: =SUM(C34:C36) -> 2564.1865 | D37: =SUM(D34:D36) -> 2202.0273 | E37: =SUM(E34:E36) -> 2195.1406 | F37: =SUM(F34:F36) -> 2007.7812 | G37: =SUM(G34:G36) -> 1995.5378 | H37: =SUM(H34:H36) -> 1859.9148 | I37: =SUM(I34:I36) -> 1995.3934 | J37: =SUM(J34:J36) -> 2014.6687 | ... BJ37: =SUM(BJ34:BJ36) -> 0
B38: Eesti saldo | C38: =C30-C34 -> 81.340443 | D38: =D30-D34 -> 140.94683 | E38: =E30-E34 -> 136.78067 | F38: =F30-F34 -> 156.01047 | G38: =G30-G34 -> 271.24111 | H38: =H30-H34 -> 374.75087 | I38: =I30-I34 -> 351.13656 | J38: =J30-J34 -> 266.5361 | ... BJ38: =BJ30-BJ34 -> 0
B39: Läti saldo | C39: =C31-C35 -> -131.12668 | D39: =D31-D35 -> -137.56556 | E39: =E31-E35 -> -124.03239 | F39: =F31-F35 -> -24.930385 | G39: =G31-G35 -> -145.32166 | H39: =H31-H35 -> -235.59245 | I39: =I31-I35 -> -259.08473 | J39: =J31-J35 -> -260.25806 | ... BJ39: =BJ31-BJ35 -> 0
B40: Leedu saldo | C40: =C32-C36 -> -676.09343 | D40: =D32-D36 -> -614.28325 | E40: =E32-E36 -> -613.31661 | F40: =F32-F36 -> -670.24324 | G40: =G32-G36 -> -691.41162 | H40: =H32-H36 -> -571.80801 | I40: =I32-I36 -> -539.54267 | J40: =J32-J36 -> -559.54746 | ... BJ40: =BJ32-BJ36 -> 0
B41: Saldo Kokku | C41: =C33-C37 -> -725.87966 | D41: =D33-D37 -> -610.90198 | E41: =E33-E37 -> -600.56833 | F41: =F33-F37 -> -539.16316 | G41: =G33-G37 -> -565.49217 | H41: =H33-H37 -> -432.64959 | I41: =I33-I37 -> -447.49083 | J41: =J33-J37 -> -553.26942 | ... BJ41: =BJ33-BJ37 -> 0
B43: Tootmine Eestis | O43: =O30/C30-1 -> 0.058299239 | P43: =P30/D30-1 -> 0.095128482 | Q43: =Q30/E30-1 -> -0.1371965 | R43: =R30/F30-1 -> -0.14812167 | S43: =S30/G30-1 -> -0.14224922 | T43: =T30/H30-1 -> -0.42480542 | U43: =U30/I30-1 -> -0.37885361 | V43: =V30/J30-1 -> -0.21000584 | ... BF43: =BF30/AT30-1 -> 0.097658628
B44: Tootmine Lätis | O44: =O31/C31-1 -> -0.26127337 | P44: =P31/D31-1 -> -0.20552266 | Q44: =Q31/E31-1 -> 0.20353718 | R44: =R31/F31-1 -> 0.077268494 | S44: =S31/G31-1 -> -0.037221433 | T44: =T31/H31-1 -> 0.015700523 | U44: =U31/I31-1 -> 0.03413874 | V44: =V31/J31-1 -> 0.43268013 | ... BF44: =BF31/AT31-1 -> 0.13583842
B45: Tootmine Leedus | O45: =O32/C32-1 -> -0.11285592 | P45: =P32/D32-1 -> -0.029069486 | Q45: =Q32/E32-1 -> 0.067614568 | R45: =R32/F32-1 -> 0.84162784 | S45: =S32/G32-1 -> 1.164425 | T45: =T32/H32-1 -> 0.36868463 | U45: =U32/I32-1 -> -0.099152663 | V45: =V32/J32-1 -> -0.1078641 | ... BF45: =BF32/AT32-1 -> 0.35321294
B46: Kokku | O46: =O33/C33-1 -> -0.073416726 | P46: =P33/D33-1 -> -0.015787396 | Q46: =Q33/E33-1 -> 7.9800505e-06 | R46: =R33/F33-1 -> 0.02016647 | S46: =S33/G33-1 -> 0.012764561 | T46: =T33/H33-1 -> -0.21943508 | U46: =U33/I33-1 -> -0.23981506 | V46: =V33/J33-1 -> -0.058682405 | ... BF46: =BF33/AT33-1 -> 0.1430624
B47: Tarbimine Eestis | O47: =O34/C34-1 -> -0.049286679 | P47: =P34/D34-1 -> -0.0077160172 | Q47: =Q34/E34-1 -> 0.027280938 | R47: =R34/F34-1 -> 0.042503836 | S47: =S34/G34-1 -> 0.023258426 | T47: =T34/H34-1 -> 0.021568129 | U47: =U34/I34-1 -> 0.010277027 | V47: =V34/J34-1 -> 0.0088308069 | ... BF47: =BF34/AT34-1 -> 0.017557402
B48: Tarbimine Lätis | O48: =O35/C35-1 -> -0.062764451 | P48: =P35/D35-1 -> -0.034234207 | Q48: =Q35/E35-1 -> 0.0018959242 | R48: =R35/F35-1 -> 0.039416182 | S48: =S35/G35-1 -> 0.013437984 | T48: =T35/H35-1 -> 0.0010551026 | U48: =U35/I35-1 -> -0.026597187 | V48: =V35/J35-1 -> 0.0032845757 | ... BF48: =BF35/AT35-1 -> 0.029603129
B49: Tarbimine Leedus | O49: =O36/C36-1 -> -0.0093879959 | P49: =P36/D36-1 -> 0.0055747009 | Q49: =Q36/E36-1 -> 0.030084827 | R49: =R36/F36-1 -> 0.033029648 | S49: =S36/G36-1 -> -0.0063317455 | T49: =T36/H36-1 -> 0.024108053 | U49: =U36/I36-1 -> -0.048425676 | V49: =V36/J36-1 -> -0.025146024 | ... BF49: =BF36/AT36-1 -> 0.13059707
B50: Kokku | O50: =O37/C37-1 -> -0.037836604 | P50: =P37/D37-1 -> -0.010125737 | Q50: =Q37/E37-1 -> 0.021077672 | R50: =R37/F37-1 -> 0.037877403 | S50: =S37/G37-1 -> 0.0082771622 | T50: =T37/H37-1 -> 0.017016886 | U50: =U37/I37-1 -> -0.025694137 | V50: =V37/J37-1 -> -0.0074058036 | ... BF50: =BF37/AT37-1 -> 0.068363753
B52: Põhjamaade elektribilanss, GWh | C52: 41640 | D52: 41671 | E52: 41699 | F52: 41730 | G52: 41760 | H52: 41791 | I52: 41821 | J52: 41852 | K52: 41883 | L52: 41913 | M52: 41944 | N52: 41974 | O52: 42005 | P52: 42036 | Q52: 42064 | R52: 42095 | S52: 42125 | T52: 42156 | U52: 42186 | V52: 42217 | W52: 42248 | X52: 42278 | Y52: 42309 | Z52: 42339 | AA52: 42370 | AB52: 42401 | AC52: 42430 | AD52: 42461 | AE52: 42491 | AF52: 42522 | AG52: 42552 | AH52: 42583 | AI52: 42614 | AJ52: 42644 | AK52: 42675 | AL52: 42705 | AM52: 42736 | AN52: 42767 | AO52: 42795 | AP52: 42826 | AQ52: 42856 | AR52: 42887 | AS52: 42917 | AT52: 42948 | AU52: 42979 | AV52: 43009 | AW52: 43040 | AX52: 43070 | AY52: 43101 | AZ52: 43132 | BA52: 43160 | BB52: 43191 | BC52: 43221 | BD52: 43252 | BE52: 43282 | BF52: 43313 | BG52: 43344 | BH52: 43374 | BI52: 43405 | BJ52: 43435
B53: Tootmine Norras | C53: 14671.76 | D53: 11868.973 | E53: 12262.42 | F53: 11487.09 | G53: 11070.779 | H53: 10376.4 | I53: 10228.065 | J53: 9825.466 | K53: 10552.998 | L53: 11741.681 | M53: 13062.531 | N53: 14430.572 | O53: 14794.161 | P53: 12893.355 | Q53: 13175.532 | R53: 10992.884 | S53: 10850.073 | T53: 10767.245 | U53: 9554.242 | V53: 10358.506 | W53: 11056.36 | X53: 11961.258 | Y53: 13105.895 | Z53: 13865.77 | AA53: 16433.821 | AB53: 14120.587 | AC53: 14383.087 | AD53: 11700.034 | AE53: 11254.757 | AF53: 10829.795 | AG53: 10036.568 | AH53: 10185.494 | AI53: 10519.199 | AJ53: 12099.064 | AK53: 13162.091 | AL53: 14072.541 | AM53: 15313.037 | AN53: 13184.151 | AO53: 12835.646 | AP53: 11535.399 | AQ53: 11093.402 | AR53: 10652.41 | AS53: 10420.581 | AT53: 10976.816 | AU53: 11278.599 | AV53: 12343.666 | AW53: 13731.648 | AX53: 14830.873 | AY53: 15634.773 | AZ53: 14813.537 | BA53: 14099.103 | BB53: 10489.439 | BC53: 9903.61 | BD53: 9565.489 | BE53: 9338.58 | BF53: 10446.533
B54: Tootmine Rootsis | C54: 16177.073 | D54: 14660.409 | E54: 15647.323 | F54: 12835.912 | G54: 10730.239 | H54: 10126.191 | I54: 10315.348 | J54: 9733.611 | K54: 10008.947 | L54: 12246.302 | M54: 13149.801 | N54: 14531.78 | O54: 14977.811 | P54: 14317.34 | Q54: 14621.145 | R54: 13148.517 | S54: 12189.681 | T54: 11618.503 | U54: 12071.28 | V54: 12043.124 | W54: 11211.469 | X54: 13994.042 | Y54: 13338.214 | Z54: 14350.45 | AA54: 16447.559 | AB54: 15216.909 | AC54: 14838.778 | AD54: 13207.569 | AE54: 11523.656 | AF54: 9171.34 | AG54: 9742.721 | AH54: 10197.584 | AI54: 10806.119 | AJ54: 11998.622 | AK54: 12926.471 | AL54: 14334.481 | AM54: 16437.661 | AN54: 14530.007 | AO54: 15262.469 | AP54: 13610.202 | AQ54: 12279.508 | AR54: 10630.081 | AS54: 11220.198 | AT54: 10830.787 | AU54: 10793.222 | AV54: 12678.727 | AW54: 14567.61 | AX54: 15689.994 | AY54: 16190.394 | AZ54: 15185.192 | BA54: 15731.215 | BB54: 12845.752 | BC54: 12743.584 | BD54: 11261.118 | BE54: 9925.456 | BF54: 10187.12
B55: Tootmine Soomes | C55: 7092.724 | D55: 5948.68 | E55: 5917.125 | F55: 5275.526 | G55: 5155.194 | H55: 4462.759 | I55: 4277.666 | J55: 4425.504 | K55: 4778 | L55: 5740.145 | M55: 5685.772 | N55: 6015.177 | O55: 6353.723 | P55: 5506.508 | Q55: 6083.677 | R55: 5433.204 | S55: 5093.147 | T55: 4917.174 | U55: 4719.608 | V55: 4524.531 | W55: 4801.994 | X55: 5865.451 | Y55: 5710.032 | Z55: 6228.514 | AA55: 7016.47 | AB55: 5992.581 | AC55: 6157.034 | AD55: 5479.904 | AE55: 4654.639 | AF55: 4330.813 | AG55: 4425.714 | AH55: 4615.091 | AI55: 4567.923 | AJ55: 5681.452 | AK55: 6203.758 | AL55: 6193.972 | AM55: 6497.572 | AN55: 5914.088 | AO55: 6267.382 | AP55: 5093.884 | AQ55: 4758.901 | AR55: 4141.189 | AS55: 4215.912 | AT55: 4248.129 | AU55: 4673.639 | AV55: 5415.754 | AW55: 5797.465 | AX55: 6315.574 | AY55: 6701.215 | AZ55: 6504.378 | BA55: 6981.195 | BB55: 5281.943 | BC55: 4695.051 | BD55: 4030.945 | BE55: 4494.66 | BF55: 4503.169
B56: Tootmine Taanis | C56: 4122.372 | D56: 3122.923 | E56: 2742.845 | F56: 2371.947 | G56: 2063.656 | H56: 1718.35 | I56: 1691.213 | J56: 2278.515 | K56: 2027.156 | L56: 2550.833 | M56: 2768.188 | N56: 3291.185 | O56: 3421.391 | P56: 2895.467 | Q56: 2664.271 | R56: 2300.688 | S56: 2151.659 | T56: 1778.602 | U56: 1549.785 | V56: 1412.311 | W56: 1581.402 | X56: 1868.067 | Y56: 2421.547 | Z56: 2979.659 | AA56: 3234.262 | AB56: 2632.179 | AC56: 2463.216 | AD56: 2300.905 | AE56: 1697.767 | AF56: 1404.073 | AG56: 1629.065 | AH56: 1856.365 | AI56: 1563.128 | AJ56: 2625.698 | AK56: 2987.045 | AL56: 2945.284 | AM56: 2877.281 | AN56: 3006.508 | AO56: 2989.988 | AP56: 2588.43 | AQ56: 1930.57 | AR56: 1764.525 | AS56: 1476.27 | AT56: 1579.636 | AU56: 1660.772 | AV56: 2457.376 | AW56: 2606.485 | AX56: 3058.572 | AY56: 2988.811 | AZ56: 3061.53 | BA56: 3494.914 | BB56: 2533.933 | BC56: 1635.019 | BD56: 1494.39 | BE56: 1508.05 | BF56: 1643
B57: Kokku | C57: =SUM(C53:C56) -> 42063.929 | D57: =SUM(D53:D56) -> 35600.985 | E57: =SUM(E53:E56) -> 36569.713 | F57: =SUM(F53:F56) -> 31970.475 | G57: =SUM(G53:G56) -> 29019.868 | H57: =SUM(H53:H56) -> 26683.7 | I57: =SUM(I53:I56) -> 26512.292 | J57: =SUM(J53:J56) -> 26263.096 | ... BJ57: =SUM(BJ53:BJ56) -> 0
B58: Tarbimine Norras | C58: 13949.644 | D58: 11669.59 | E58: 11950.736 | F58: 10161.54 | G58: 9386.777 | H58: 8264.632 | I58: 7876.265 | J58: 8311.596 | K58: 8801.246 | L58: 10508.366 | M58: 11587.988 | N58: 13407.458 | O58: 13589.398 | P58: 12111.63 | Q58: 12273.211 | R58: 10422.576 | S58: 9908.725 | T58: 8910.272 | U58: 8412.552 | V58: 8596.086 | W58: 9022.107 | X58: 10672.133 | Y58: 11765.793 | Z58: 12920.835 | AA58: 15116.565 | AB58: 13151.72 | AC58: 12678.552 | AD58: 11024.35 | AE58: 9600.148 | AF58: 8464.327 | AG58: 8208.456 | AH58: 8709 | AI58: 8635.059 | AJ58: 10997.705 | AK58: 12693.239 | AL58: 13054.847 | AM58: 13883.171 | AN58: 12611.753 | AO58: 12832.107 | AP58: 11042.49 | AQ58: 9761.291 | AR58: 8679.422 | AS58: 8420.631 | AT58: 8916.002 | AU58: 9176.918 | AV58: 10909.526 | AW58: 12607.731 | AX58: 14046.321 | AY58: 14516.141 | AZ58: 13432.543 | BA58: 14166.6 | BB58: 11143.514 | BC58: 9431.698 | BD58: 8707.038 | BE58: 8358.617 | BF58: 8886.409
B59: Tarbimine Rootsis | C59: 14817.526 | D59: 12411.512 | E59: 12532.248 | F59: 10870.957 | G59: 10088.868 | H59: 9160.756 | I59: 8581.528 | J59: 9227.174 | K59: 9675.084 | L59: 11029.598 | M59: 11861.605 | N59: 13536.762 | O59: 14033.346 | P59: 12568.177 | Q59: 12805.15 | R59: 10973.074 | S59: 10358.612 | T59: 9629.687 | U59: 8937.097 | V59: 9414.25 | W59: 9775.171 | X59: 11428.029 | Y59: 12008.166 | Z59: 12999.558 | AA59: 15623.223 | AB59: 13628.079 | AC59: 13123.475 | AD59: 11408.652 | AE59: 9992.234 | AF59: 9123.238 | AG59: 8635.978 | AH59: 9258.075 | AI59: 9520.709 | AJ59: 11420.732 | AK59: 13000.888 | AL59: 13450.366 | AM59: 14944.208 | AN59: 13117.86 | AO59: 13283.456 | AP59: 11507.321 | AQ59: 10358.806 | AR59: 9201.998 | AS59: 8849.997 | AT59: 9394.857 | AU59: 9932.5 | AV59: 11130.399 | AW59: 12617.789 | AX59: 13776.586 | AY59: 14430.78 | AZ59: 13794.772 | BA59: 14388.399 | BB59: 11173.989 | BC59: 9887.21 | BD59: 9099.857 | BE59: 8779.809 | BF59: 9334.234
B60: Tarbimine Soomes | C60: 8724.546 | D60: 7339.849 | E60: 7495.12 | F60: 6698.285 | G60: 6341.757 | H60: 5691.19 | I60: 5890.668 | J60: 6083.534 | K60: 6183 | L60: 7091.738 | M60: 7258.114 | N60: 7716.739 | O60: 8265.021 | P60: 7178.08 | Q60: 7487.422 | R60: 6605.998 | S60: 6151.708 | T60: 5781.552 | U60: 5941.527 | V60: 5992.214 | W60: 6126.756 | X60: 7061.645 | Y60: 7167.456 | Z60: 7556.085 | AA60: 9176.586 | AB60: 7518.538 | AC60: 7659.418 | AD60: 6757.715 | AE60: 6066.854 | AF60: 5689.906 | AG60: 5910.532 | AH60: 6164.633 | AI60: 6181.815 | AJ60: 7179.794 | AK60: 7705.643 | AL60: 7937.361 | AM60: 8394.621 | AN60: 7679.497 | AO60: 7797.595 | AP60: 6943.219 | AQ60: 6342.665 | AR60: 5738.132 | AS60: 5868.381 | AT60: 6139.871 | AU60: 6286.503 | AV60: 7096.18 | AW60: 7323.793 | AX60: 7792.909 | AY60: 8492.225 | AZ60: 8175.434 | BA60: 8565.833 | BB60: 6879.589 | BC60: 6136.374 | BD60: 5781.598 | BE60: 6073.151 | BF60: 6312.254
B61: Tarbimine Taanis | C61: 3304.98 | D61: 2869.194 | E61: 2940.579 | F61: 2630.96 | G61: 2626.907 | H61: 2554.602 | I61: 2535.286 | J61: 2646.967 | K61: 2610.68 | L61: 2827.181 | M61: 2872.741 | N61: 3084.258 | O61: 3170.531 | P61: 2830.123 | Q61: 2939.808 | R61: 2628.098 | S61: 2598.622 | T61: 2489.506 | U61: 2443.915 | V61: 2607.561 | W61: 2605.292 | X61: 2795.433 | Y61: 2805.514 | Z61: 2893.723 | AA61: 3123.546 | AB61: 2841.295 | AC61: 2886.708 | AD61: 2624.903 | AE61: 2510.973 | AF61: 2526.021 | AG61: 2359.769 | AH61: 2552.747 | AI61: 2498.421 | AJ61: 2669.718 | AK61: 2843.279 | AL61: 2846.085 | AM61: 2998.894 | AN61: 2668.021 | AO61: 2875.345 | AP61: 2521.923 | AQ61: 2543.019 | AR61: 2463.274 | AS61: 2394.195 | AT61: 2601.153 | AU61: 2589.001 | AV61: 2810.169 | AW61: 2928.307 | AX61: 3046.838 | AY61: 3127.534 | AZ61: 2900.735 | BA61: 3166.898 | BB61: 2619.867 | BC61: 2666.136 | BD61: 2594.174 | BE61: 2564.602 | BF61: 2613.587
B62: Kokku | C62: =SUM(C58:C61) -> 40796.696 | D62: =SUM(D58:D61) -> 34290.145 | E62: =SUM(E58:E61) -> 34918.683 | F62: =SUM(F58:F61) -> 30361.742 | G62: =SUM(G58:G61) -> 28444.309 | H62: =SUM(H58:H61) -> 25671.18 | I62: =SUM(I58:I61) -> 24883.747 | J62: =SUM(J58:J61) -> 26269.271 | ... BJ62: =SUM(BJ58:BJ61) -> 0
B63: Norra saldo | C63: =C53-C58 -> 722.116 | D63: =D53-D58 -> 199.383 | E63: =E53-E58 -> 311.684 | F63: =F53-F58 -> 1325.55 | G63: =G53-G58 -> 1684.002 | H63: =H53-H58 -> 2111.768 | I63: =I53-I58 -> 2351.8 | J63: =J53-J58 -> 1513.87 | ... BJ63: =BJ53-BJ58 -> 0
B64: Rootsi saldo | C64: =C54-C59 -> 1359.547 | D64: =D54-D59 -> 2248.897 | E64: =E54-E59 -> 3115.075 | F64: =F54-F59 -> 1964.955 | G64: =G54-G59 -> 641.371 | H64: =H54-H59 -> 965.435 | I64: =I54-I59 -> 1733.82 | J64: =J54-J59 -> 506.437 | ... BJ64: =BJ54-BJ59 -> 0
B65: Soome saldo | C65: =C55-C60 -> -1631.822 | D65: =D55-D60 -> -1391.169 | E65: =E55-E60 -> -1577.995 | F65: =F55-F60 -> -1422.759 | G65: =G55-G60 -> -1186.563 | H65: =H55-H60 -> -1228.431 | I65: =I55-I60 -> -1613.002 | J65: =J55-J60 -> -1658.03 | ... BJ65: =BJ55-BJ60 -> 0
B66: Taani saldo | C66: =C56-C61 -> 817.392 | D66: =D56-D61 -> 253.729 | E66: =E56-E61 -> -197.734 | F66: =F56-F61 -> -259.013 | G66: =G56-G61 -> -563.251 | H66: =H56-H61 -> -836.252 | I66: =I56-I61 -> -844.073 | J66: =J56-J61 -> -368.452 | ... BJ66: =BJ56-BJ61 -> 0
B67: Saldo Kokku | C67: =C57-C62 -> 1267.233 | D67: =D57-D62 -> 1310.84 | E67: =E57-E62 -> 1651.03 | F67: =F57-F62 -> 1608.733 | G67: =G57-G62 -> 575.559 | H67: =H57-H62 -> 1012.52 | I67: =I57-I62 -> 1628.545 | J67: =J57-J62 -> -6.175 | ... BJ67: =BJ57-BJ62 -> 0
B69: Tootmine Norras | O69: =O53/C53-1 -> 0.0083426256 | P69: =P53/D53-1 -> 0.086307552 | Q69: =Q53/E53-1 -> 0.074464257 | R69: =R53/F53-1 -> -0.043022732 | S69: =S53/G53-1 -> -0.019935905 | T69: =T53/H53-1 -> 0.037666724 | U69: =U53/I53-1 -> -0.065879812 | V69: =V53/J53-1 -> 0.054250862 | ... BF69: =BF53/AT53-1 -> -0.048309364
B70: Tootmine Rootsis | O70: =O54/C54-1 -> -0.074133436 | P70: =P54/D54-1 -> -0.023401052 | Q70: =Q54/E54-1 -> -0.065581697 | R70: =R54/F54-1 -> 0.024353938 | S70: =S54/G54-1 -> 0.13601207 | T70: =T54/H54-1 -> 0.1473715 | U70: =U54/I54-1 -> 0.17022518 | V70: =V54/J54-1 -> 0.23727196 | ... BF70: =BF54/AT54-1 -> -0.059429384
B71: Tootmine Soomes | O71: =O55/C55-1 -> -0.10419142 | P71: =P55/D55-1 -> -0.074331112 | Q71: =Q55/E55-1 -> 0.028147453 | R71: =R55/F55-1 -> 0.029888584 | S71: =S55/G55-1 -> -0.012035823 | T71: =T55/H55-1 -> 0.10182378 | U71: =U55/I55-1 -> 0.10331382 | V71: =V55/J55-1 -> 0.022376434 | ... BF71: =BF55/AT55-1 -> 0.060035842
B72: Tootmine Taanis | O72: =O56/C56-1 -> -0.17004312 | P72: =P56/D56-1 -> -0.072834329 | Q72: =Q56/E56-1 -> -0.028646898 | R72: =R56/F56-1 -> -0.030042408 | S72: =S56/G56-1 -> 0.04264422 | T72: =T56/H56-1 -> 0.035063869 | U72: =U56/I56-1 -> -0.083625185 | V72: =V56/J56-1 -> -0.38016164 | ... BF72: =BF56/AT56-1 -> 0.040113039
B73: Kokku | O73: =O57/C57-1 -> -0.059833759 | P73: =P57/D57-1 -> 0.00032822126 | Q73: =Q57/E57-1 -> -0.00068603218 | R73: =R57/F57-1 -> -0.0029771844 | S73: =S57/G57-1 -> 0.043580212 | T73: =T57/H57-1 -> 0.089861001 | U73: =U57/I57-1 -> 0.052150263 | V73: =V57/J57-1 -> 0.079022519 | ... BF73: =BF57/AT57-1 -> -0.030958372
B74: Tarbimine Norras | O74: =O58/C58-1 -> -0.025824745 | P74: =P58/D58-1 -> 0.037879651 | Q74: =Q58/E58-1 -> 0.026983694 | R74: =R58/F58-1 -> 0.025688626 | S74: =S58/G58-1 -> 0.055604602 | T74: =T58/H58-1 -> 0.078120841 | U74: =U58/I58-1 -> 0.068088999 | V74: =V58/J58-1 -> 0.034228083 | ... BF74: =BF58/AT58-1 -> -0.0033190885
B75: Tarbimine Rootsis | O75: =O59/C59-1 -> -0.052922465 | P75: =P59/D59-1 -> 0.012622556 | Q75: =Q59/E59-1 -> 0.021775981 | R75: =R59/F59-1 -> 0.0093935612 | S75: =S59/G59-1 -> 0.026736795 | T75: =T59/H59-1 -> 0.051189116 | U75: =U59/I59-1 -> 0.041434229 | V75: =V59/J59-1 -> 0.020274463 | ... BF75: =BF59/AT59-1 -> -0.0064527858
B76: Tarbimine Soomes | O76: =O60/C60-1 -> -0.052670362 | P76: =P60/D60-1 -> -0.022039827 | Q76: =Q60/E60-1 -> -0.0010270683 | R76: =R60/F60-1 -> -0.013777706 | S76: =S60/G60-1 -> -0.029967878 | T76: =T60/H60-1 -> 0.015877523 | U76: =U60/I60-1 -> 0.0086338256 | V76: =V60/J60-1 -> -0.015011012 | ... BF76: =BF60/AT60-1 -> 0.028075997
B77: Tarbimine Taanis | O77: =O61/C61-1 -> -0.04068073 | P77: =P61/D61-1 -> -0.013617413 | Q77: =Q61/E61-1 -> -0.00026219326 | R77: =R61/F61-1 -> -0.0010878159 | S77: =S61/G61-1 -> -0.010767416 | T77: =T61/H61-1 -> -0.025481856 | U77: =U61/I61-1 -> -0.036039721 | V77: =V61/J61-1 -> -0.014887228 | ... BF77: =BF61/AT61-1 -> 0.0047801879
B78: Kokku | O78: =O62/C62-1 -> -0.042611294 | P78: =P62/D62-1 -> 0.011602896 | Q78: =Q62/E62-1 -> 0.01680785 | R78: =R62/F62-1 -> 0.0088270298 | S78: =S62/G62-1 -> 0.020157213 | T78: =T62/H62-1 -> 0.044401426 | U78: =U62/I62-1 -> 0.034212854 | V78: =V62/J62-1 -> 0.012974856 | ... BF78: =BF62/AT62-1 -> 0.0034970209
B80: Eesti elektrikaubandusbilanss, GWh | C80: 41640 | D80: 41671 | E80: 41699 | F80: 41730 | G80: 41760 | H80: 41791 | I80: 41821 | J80: 41852 | K80: 41883 | L80: 41913 | M80: 41944 | N80: 41974 | O80: 42005 | P80: 42036 | Q80: 42064 | R80: 42095 | S80: 42125 | T80: 42156 | U80: 42186 | V80: 42217 | W80: 42248 | X80: 42278 | Y80: 42309 | Z80: 42339 | AA80: 42370 | AB80: 42401 | AC80: 42430 | AD80: 42461 | AE80: 42491 | AF80: 42522 | AG80: 42552 | AH80: 42583 | AI80: 42614 | AJ80: 42644 | AK80: 42675 | AL80: 42705 | AM80: 42736 | AN80: 42767 | AO80: 42795 | AP80: 42826 | AQ80: 42856 | AR80: 42887 | AS80: 42917 | AT80: 42948 | AU80: 42979 | AV80: 43009 | AW80: 43040 | AX80: 43070 | AY80: 43101 | AZ80: 43132 | BA80: 43160 | BB80: 43191 | BC80: 43221 | BD80: 43252 | BE80: 43282 | BF80: 43313 | BG80: 43344 | BH80: 43374 | BI80: 43405 | BJ80: 43435
B81: Import Lätist | C81: 11.5068 | D81: 3.0514 | E81: 5.7874 | F81: 2.1017 | G81: 3.2388 | H81: 1.4719 | I81: 3.4781 | J81: 0.8378 | K81: 2.9733 | L81: 4.971 | M81: 2.8215 | N81: 4.0542 | O81: 8.4668 | P81: 10.9216 | Q81: 13.0644 | R81: 2.1611 | S81: 2.3939 | T81: 1.3088 | U81: 0.8291 | V81: 2.3666 | W81: 4.3182 | X81: 2.2558 | Y81: 4.9978 | Z81: 6.6453 | AA81: 11.6809 | AB81: 11.7926 | AC81: 10.8829 | AD81: 22.2396 | AE81: 5.0107 | AF81: 8.7502 | AG81: 2.7173 | AH81: 16.0737 | AI81: 14.1906 | AJ81: 12.8256 | AK81: 79.5429 | AL81: 35.4446 | AM81: 25.6017 | AN81: 26.3773 | AO81: 54.7848 | AP81: 57.5881 | AQ81: 24.7818 | AR81: 9.3624 | AS81: 10.3988 | AT81: 9.9116 | AU81: 18.2156 | AV81: 27.2603 | AW81: 26.5921 | AX81: 23.827 | AY81: 39.5464 | AZ81: 60.8165 | BA81: 48.8024 | BB81: 50.1363 | BC81: 11.5812 | BD81: 10.3224 | BE81: 18.1585 | BF81: 28.4523
B82: Import Soomest | C82: 431.8461 | D82: 433.1604 | E82: 373.1817 | F82: 366.7407 | G82: 302.8986 | H82: 179.3574 | I82: 171.198 | J82: 229.2626 | K82: 246.5011 | L82: 255.8656 | M82: 280.6799 | N82: 351.6627 | O82: 443.7217 | P82: 322.5782 | Q82: 458.9316 | R82: 467.9494 | S82: 408.118 | T82: 596.4651 | U82: 529.4005 | V82: 378.9134 | W82: 337.7866 | X82: 472.8008 | Y82: 388.8976 | Z82: 407.8518 | AA82: 319.222 | AB82: 513.4159 | AC82: 588.089 | AD82: 319.1482 | AE82: 448.5872 | AF82: 336.9618 | AG82: 209.5251 | AH82: 107.9387 | AI82: 119.8454 | AJ82: 59.3432 | AK82: 16.7898 | AL82: 134.0154 | AM82: 162.6308 | AN82: 160.2764 | AO82: 38.2122 | AP82: 66.366 | AQ82: 72.4893 | AR82: 189.8719 | AS82: 252.5859 | AT82: 175.258 | AU82: 132.7103 | AV82: 164.3394 | AW82: 178.0507 | AX82: 201.9294 | AY82: 162.6259 | AZ82: 167.1495 | BA82: 85.587 | BB82: 57.7714 | BC82: 288.1921 | BD82: 270.0884 | BE82: 117.3851 | BF82: 125.5319
B83: Import D-1 | C83: 414.5714 | D83: 430.1408 | E83: 365.0301 | F83: 358.5896 | G83: 293.3786 | H83: 174.5211 | I83: 160.8115 | J83: 215.4979 | K83: 238.5973 | L83: 245.4285 | M83: 261.3347 | N83: 334.7166 | O83: 429.8464 | P83: 310.6272 | Q83: 451.0072 | R83: 461.8753 | S83: 399.6382 | T83: 592.0476 | U83: 518.7331 | V83: 371.1041 | W83: 324.6494 | X83: 461.4052 | Y83: 380.0504 | Z83: 398.8272 | AA83: 305.922 | AB83: 510.0121 | AC83: 585.8544 | AD83: 316.6123 | AE83: 438.1448 | AF83: 319.7343 | AG83: 198.4114 | AH83: 92.3839 | AI83: 113.0873 | AJ83: 52.8707 | AK83: 67.7355 | AL83: 135.9642 | AM83: 158.3339 | AN83: 154.2791 | AO83: 63.6633 | AP83: 88.2198 | AQ83: 75.3594 | AR83: 179.8461 | AS83: 237.6483 | AT83: 156.8993 | AU83: 110.9301 | AV83: 148.4823 | AW83: 156.5385 | AX83: 190.3258 | AY83: 165.1025 | AZ83: 191.0451 | BA83: 104.7589 | BB83: 79.9034 | BC83: 275.4577 | BD83: 264.9851 | BE83: 109.1044 | BF83: 136.4789
B84: Import Elbas | C84: 28.7815 | D84: 6.071 | E84: 13.939 | F84: 10.2528 | G84: 12.7588 | H84: 6.3082 | I84: 13.8646 | J84: 14.6025 | K84: 10.8771 | L84: 15.4081 | M84: 22.1667 | N84: 21.0003 | O84: 22.3421 | P84: 22.8726 | Q84: 20.9888 | R84: 8.2352 | S84: 10.8737 | T84: 5.7263 | U84: 11.4965 | V84: 10.1759 | W84: 17.4554 | X84: 13.6514 | Y84: 13.845 | Z84: 15.6699 | AA84: 24.9809 | AB84: 15.1964 | AC84: 13.1175 | AD84: 24.7755 | AE84: 15.4531 | AF84: 25.9777 | AG84: 13.831 | AH84: 31.6285 | AI84: 20.9487 | AJ84: 19.2981 | AK84: 28.5972 | AL84: 33.4958 | AM84: 29.8986 | AN84: 32.3746 | AO84: 29.3337 | AP84: 35.7343 | AQ84: 21.9117 | AR84: 19.3882 | AS84: 25.3364 | AT84: 28.2703 | AU84: 39.9958 | AV84: 43.1174 | AW84: 48.1043 | AX84: 35.4306 | AY84: 37.0698 | AZ84: 36.9209 | BA84: 29.6305 | BB84: 28.0043 | BC84: 24.3156 | BD84: 15.4257 | BE84: 26.4392 | BF84: 17.5053
B85: Import kokku | C85: =C81+C82 -> 443.3529 | D85: =D81+D82 -> 436.2118 | E85: =E81+E82 -> 378.9691 | F85: =F81+F82 -> 368.8424 | G85: =G81+G82 -> 306.1374 | H85: =H81+H82 -> 180.8293 | I85: =I81+I82 -> 174.6761 | J85: =J81+J82 -> 230.1004 | ... BJ85: =BJ81+BJ82 -> 0
B86: Eksport Lätti | C86: 503.6621 | D86: 555.0013 | E86: 500.0221 | F86: 500.916 | G86: 554.4564 | H86: 532.0428 | I86: 516.2467 | J86: 486.3737 | K86: 501.8188 | L86: 530.6589 | M86: 495.3087 | N86: 575.1656 | O86: 609.3903 | P86: 540.6275 | Q86: 448.0866 | R86: 460.0208 | S86: 510.7788 | T86: 544.8665 | U86: 505.8694 | V86: 431.3993 | W86: 491.4527 | X86: 519.3534 | Y86: 431.5637 | Z86: 431.5191 | AA86: 439.2936 | AB86: 492.6656 | AC86: 471.1253 | AD86: 374.7594 | AE86: 422.7718 | AF86: 424.8025 | AG86: 455.706 | AH86: 456.1021 | AI86: 416.3674 | AJ86: 304.7098 | AK86: 98.5786 | AL86: 194.962 | AM86: 393.4306 | AN86: 336.934 | AO86: 177.3075 | AP86: 137.374 | AQ86: 337.0031 | AR86: 433.0547 | AS86: 421.2115 | AT86: 342.3442 | AU86: 295.9968 | AV86: 314.3039 | AW86: 342.296 | AX86: 255.6762 | AY86: 265.0623 | AZ86: 240.7287 | BA86: 242.3188 | BB86: 224.4123 | BC86: 344.9459 | BD86: 356.6046 | BE86: 254.9221 | BF86: 341.8901
B87: Eksport Soome | C87: 12.8424 | D87: 4.0334 | E87: 6.1019 | F87: 4.6891 | G87: 8.041 | H87: 15.5133 | I87: 7.1947 | J87: 5.0195 | K87: 3.5695 | L87: 6.3304 | M87: 8.9954 | N87: 11.3345 | O87: 12.2124 | P87: 15.1501 | Q87: 11.3028 | R87: 3.7982 | S87: 3.0779 | T87: 2.5322 | U87: 5.5837 | V87: 11.622 | W87: 4.9582 | X87: 6.5943 | Y87: 10.4724 | Z87: 13.775 | AA87: 63.0791 | AB87: 14.8755 | AC87: 11.7661 | AD87: 23.6049 | AE87: 12.1439 | AF87: 19.2565 | AG87: 13.1735 | AH87: 49.6987 | AI87: 70.463 | AJ87: 115.1088 | AK87: 271.4875 | AL87: 101.3551 | AM87: 75.7561 | AN87: 82.3036 | AO87: 164.5582 | AP87: 168.6837 | AQ87: 112.1055 | AR87: 42.7882 | AS87: 32.6067 | AT87: 74.0136 | AU87: 28.6403 | AV87: 94.875 | AW87: 57.3758 | AX87: 40.8483 | AY87: 97.2755 | AZ87: 95.9038 | BA87: 169.4112 | BB87: 190.5664 | BC87: 18.0283 | BD87: 21.6779 | BE87: 96.2156 | BF87: 127.3446
B88: Eksport D-1 | C88: 500.595 | D88: 552.979 | E88: 495.0432 | F88: 500.0575 | G88: 552.2275 | H88: 541.243 | I88: 518.7946 | J88: 485.9076 | K88: 499.2264 | L88: 529.8962 | M88: 493.681 | N88: 572.6604 | O88: 606.6796 | P88: 541.7401 | Q88: 445.145 | R88: 458.7376 | S88: 508.6371 | T88: 543.6494 | U88: 504.1986 | V88: 434.6749 | W88: 489.5501 | X88: 517.0744 | Y88: 435.0528 | Z88: 432.1347 | AA88: 483.6566 | AB88: 494.1323 | AC88: 468.2393 | AD88: 383.1607 | AE88: 417.814 | AF88: 425.6295 | AG88: 460.6398 | AH88: 493.2066 | AI88: 475.6791 | AJ88: 400.7359 | AK88: 347.3253 | AL88: 273.1977 | AM88: 450.0607 | AN88: 398.1257 | AO88: 324.1659 | AP88: 283.9223 | AQ88: 430.4786 | AR88: 459.5541 | AS88: 436.2331 | AT88: 386.9579 | AU88: 302.2079 | AV88: 374.7908 | AW88: 371.7862 | AX88: 268.4353 | AY88: 327.0072 | AZ88: 303.0243 | BA88: 389.3963 | BB88: 396.4346 | BC88: 344.2283 | BD88: 366.1338 | BE88: 333.1944 | BF88: 117.1484
B89: Eksport Elbas | C89: 15.9095 | D89: 6.0557 | E89: 11.0808 | F89: 5.5476 | G89: 10.2699 | H89: 6.3131 | I89: 4.6468 | J89: 5.4856 | K89: 6.1619 | L89: 7.0931 | M89: 10.6231 | N89: 13.8397 | O89: 14.9231 | P89: 14.0375 | Q89: 14.2444 | R89: 5.0814 | S89: 5.2196 | T89: 3.7493 | U89: 7.2545 | V89: 8.3464 | W89: 6.8608 | X89: 8.8733 | Y89: 6.9833 | Z89: 13.1594 | AA89: 18.7161 | AB89: 13.4088 | AC89: 14.6521 | AD89: 15.2036 | AE89: 17.1017 | AF89: 18.4295 | AG89: 8.2397 | AH89: 12.5942 | AI89: 11.1513 | AJ89: 19.0827 | AK89: 22.7408 | AL89: 23.1194 | AM89: 19.126 | AN89: 21.1119 | AO89: 17.6998 | AP89: 22.1354 | AQ89: 18.63 | AR89: 16.2888 | AS89: 17.5851 | AT89: 29.3999 | AU89: 22.4292 | AV89: 34.3881 | AW89: 27.8856 | AX89: 28.0892 | AY89: 35.3306 | AZ89: 33.6082 | BA89: 22.3337 | BB89: 18.5441 | BC89: 18.7459 | BD89: 12.1487 | BE89: 17.9433 | BF89: 352.0863
B90: Eksport kokku | C90: =C86+C87 -> 516.5045 | D90: =D86+D87 -> 559.0347 | E90: =E86+E87 -> 506.124 | F90: =F86+F87 -> 505.6051 | G90: =G86+G87 -> 562.4974 | H90: =H86+H87 -> 547.5561 | I90: =I86+I87 -> 523.4414 | J90: =J86+J87 -> 491.3932 | ... BJ90: =BJ86+BJ87 -> 0
B91: Netoeksport kokku | C91: =C90-C85 -> 73.1516 | D91: =D90-D85 -> 122.8229 | E91: =E90-E85 -> 127.1549 | F91: =F90-F85 -> 136.7627 | G91: =G90-G85 -> 256.36 | H91: =H90-H85 -> 366.7268 | I91: =I90-I85 -> 348.7653 | J91: =J90-J85 -> 261.2928 | ... BJ91: =BJ90-BJ85 -> 0
B92: Netoeksport Läti | C92: =C86-C81 -> 492.1553 | D92: =D86-D81 -> 551.9499 | E92: =E86-E81 -> 494.2347 | F92: =F86-F81 -> 498.8143 | G92: =G86-G81 -> 551.2176 | H92: =H86-H81 -> 530.5709 | I92: =I86-I81 -> 512.7686 | J92: =J86-J81 -> 485.5359 | ... BJ92: =BJ86-BJ81 -> 0
B93: Netoeksport Soome | C93: =C87-C82 -> -419.0037 | D93: =D87-D82 -> -429.127 | E93: =E87-E82 -> -367.0798 | F93: =F87-F82 -> -362.0516 | G93: =G87-G82 -> -294.8576 | H93: =H87-H82 -> -163.8441 | I93: =I87-I82 -> -164.0033 | J93: =J87-J82 -> -224.2431 | ... BJ93: =BJ87-BJ82 -> 0
B96: Import Lätist | O96: =O81/C81-1 -> -0.26419161 | P96: =P81/D81-1 -> 2.5792095 | Q96: =Q81/E81-1 -> 1.2573867 | R96: =R81/F81-1 -> 0.028262835 | S96: =S81/G81-1 -> -0.26086822 | T96: =T81/H81-1 -> -0.11080916 | U96: =U81/I81-1 -> -0.76162273 | V96: =V81/J81-1 -> 1.8247792 | ... BF96: =BF81/AT81-1 -> 1.8706062
B97: Import Soomest | O97: =O82/C82-1 -> 0.027499612 | P97: =P82/D82-1 -> -0.25529157 | Q97: =Q82/E82-1 -> 0.22978056 | R97: =R82/F82-1 -> 0.27596801 | S97: =S82/G82-1 -> 0.347375 | T97: =T82/H82-1 -> 2.3255673 | U97: =U82/I82-1 -> 2.0923288 | V97: =V82/J82-1 -> 0.65274842 | ... BF97: =BF82/AT82-1 -> -0.28373084
B98: Import D-1 | O98: =O83/C83-1 -> 0.036845282 | P98: =P83/D83-1 -> -0.27784763 | Q98: =Q83/E83-1 -> 0.23553428 | R98: =R83/F83-1 -> 0.28803317 | S98: =S83/G83-1 -> 0.36219274 | T98: =T83/H83-1 -> 2.3924127 | U98: =U83/I83-1 -> 2.2257214 | V98: =V83/J83-1 -> 0.72207757 | ... BF98: =BF83/AT83-1 -> -0.13014972
B99: Import Elbas | O99: =O84/C84-1 -> -0.223734 | P99: =P84/D84-1 -> 2.7675177 | Q99: =Q84/E84-1 -> 0.50576081 | R99: =R84/F84-1 -> -0.19678527 | S99: =S84/G84-1 -> -0.147749 | T99: =T84/H84-1 -> -0.092245014 | U99: =U84/I84-1 -> -0.1708019 | V99: =V84/J84-1 -> -0.30313987 | ... BF99: =BF84/AT84-1 -> -0.38078832
B100: Import kokku | O100: =O85/C85-1 -> 0.019929045 | P100: =P85/D85-1 -> -0.2354636 | Q100: =Q85/E85-1 -> 0.24547358 | R100: =R85/F85-1 -> 0.27455656 | S100: =S85/G85-1 -> 0.34094005 | T100: =T85/H85-1 -> 2.3057359 | U100: =U85/I85-1 -> 2.0355017 | V100: =V85/J85-1 -> 0.65701581 | ... BF100: =BF85/AT85-1 -> -0.16841533
B101: Eksport Lätti | O101: =O86/C86-1 -> 0.20991891 | P101: =P86/D86-1 -> -0.025898678 | Q101: =Q86/E86-1 -> -0.10386641 | R101: =R86/F86-1 -> -0.081640834 | S101: =S86/G86-1 -> -0.078775536 | T101: =T86/H86-1 -> 0.02410276 | U101: =U86/I86-1 -> -0.020101436 | V101: =V86/J86-1 -> -0.11302914 | ... BF101: =BF86/AT86-1 -> -0.0013264428
B102: Eksport Soome | O102: =O87/C87-1 -> -0.049056251 | P102: =P87/D87-1 -> 2.7561611 | Q102: =Q87/E87-1 -> 0.85234107 | R102: =R87/F87-1 -> -0.18999382 | S102: =S87/G87-1 -> -0.61722423 | T102: =T87/H87-1 -> -0.83677232 | U102: =U87/I87-1 -> -0.22391483 | V102: =V87/J87-1 -> 1.3153701 | ... BF102: =BF87/AT87-1 -> 0.72055676
B103: Eksport D-1 | O103: =O88/C88-1 -> 0.21191702 | P103: =P88/D88-1 -> -0.02032428 | Q103: =Q88/E88-1 -> -0.10079565 | R103: =R88/F88-1 -> -0.082630298 | S103: =S88/G88-1 -> -0.078935584 | T103: =T88/H88-1 -> 0.0044460621 | U103: =U88/I88-1 -> -0.028134449 | V103: =V88/J88-1 -> -0.10543712 | ... BF103: =BF88/AT88-1 -> -0.69725802
B104: Eksport Elbas | O104: =O89/C89-1 -> -0.062000691 | P104: =P89/D89-1 -> 1.318064 | Q104: =Q89/E89-1 -> 0.28550285 | R104: =R89/F89-1 -> -0.08403634 | S104: =S89/G89-1 -> -0.49175747 | T104: =T89/H89-1 -> -0.40610793 | U104: =U89/I89-1 -> 0.56118189 | V104: =V89/J89-1 -> 0.52151086 | ... BF104: =BF89/AT89-1 -> 10.975765
B105: Eksport kokku | O105: =O90/C90-1 -> 0.20347974 | P105: =P90/D90-1 -> -0.0058262931 | Q105: =Q90/E90-1 -> -0.092338241 | R105: =R90/F90-1 -> -0.082645725 | S105: =S90/G90-1 -> -0.086472755 | T105: =T90/H90-1 -> -0.00028745913 | U105: =U90/I90-1 -> -0.02290285 | V105: =V90/J90-1 -> -0.098438277 | ... BF105: =BF90/AT90-1 -> 0.1269987
B106: Netoeksport kokku | O106: =O91/C91-1 -> 1.3159329 | P106: =P91/D91-1 -> 0.80974232 | Q106: =Q91/E91-1 -> -1.0991436 | R106: =R91/F91-1 -> -1.046003 | S106: =S91/G91-1 -> -0.59687627 | T106: =T91/H91-1 -> -1.1373644 | U106: =U91/I91-1 -> -1.0538371 | V106: =V91/J91-1 -> -0.76370838 | ... BF106: =BF91/AT91-1 -> 0.36360982
B107: Netoeksport Läti | O107: =O92/C92-1 -> 0.22100382 | P107: =P92/D92-1 -> -0.040300759 | Q107: =Q92/E92-1 -> -0.11980644 | R107: =R92/F92-1 -> -0.082103901 | S107: =S92/G92-1 -> -0.07770561 | T107: =T92/H92-1 -> 0.02447703 | U107: =U92/I92-1 -> -0.015071711 | V107: =V92/J92-1 -> -0.11637286 | ... BF107: =BF92/AT92-1 -> -0.0571388
B108: Netoeksport Soome | O108: =O93/C93-1 -> 0.029846037 | P108: =P93/D93-1 -> -0.28359646 | Q108: =Q93/E93-1 -> 0.21943185 | R108: =R93/F93-1 -> 0.2820029 | S108: =S93/G93-1 -> 0.37368038 | T108: =T93/H93-1 -> 2.624988 | U108: =U93/I93-1 -> 2.1939406 | V108: =V93/J93-1 -> 0.63791617 | ... BF108: =BF93/AT93-1 -> -1.0179042

Sheet Quarterly
B1: Eesti elektribilanss, GWh | C1: 2014-Q1 | D1: 2014-Q2 | E1: 2014-Q3 | F1: 2014-Q4 | G1: 2015-Q1 | H1: 2015-Q2 | I1: 2015-Q3 | J1: 2015-Q4 | K1: 2016-Q1 | L1: 2016-Q2 | M1: 2016-Q3 | N1: 2016-Q4 | O1: 2017-Q1 | P1: 2017-Q2 | Q1: 2017-Q3 | R1: 2017-Q4 | S1: 2018-Q1 | T1: 2018-Q2 | U1: 2018-Q3 | V1: 2018-Q4
B2: Võrku sisenenud | C2: =SUM(Monthly!C2:E2) -> 3946.0061 | D2: =SUM(Monthly!F2:H2) -> 3535.0978 | E2: =SUM(Monthly!I2:K2) -> 3356.7942 | F2: =SUM(Monthly!L2:N2) -> 3830.9259 | G2: =SUM(Monthly!O2:Q2) -> 3888.8519 | H2: =SUM(Monthly!R2:T2) -> 3512.2996 | I2: =SUM(Monthly!U2:W2) -> 3312.6393 | J2: =SUM(Monthly!X2:Z2) -> 3692.6828 | K2: =SUM(Monthly!AA2:AC2) -> 3941.4775 | L2: =SUM(Monthly!AD2:AF2) -> 3189.8569 | M2: =SUM(Monthly!AG2:AI2) -> 3339.4115 | N2: =SUM(Monthly!AJ2:AL2) -> 3523.2128 | O2: =SUM(Monthly!AM2:AO2) -> 3673.5039 | P2: =SUM(Monthly!AP2:AR2) -> 3224.6028 | Q2: =SUM(Monthly!AS2:AU2) -> 3098.1429 | R2: =SUM(Monthly!AV2:AX2) -> 3551.0705 | S2: =SUM(Monthly!AY2:BA2) -> 3869.3485 | T2: =SUM(Monthly!BB2:BD2) -> 3185.5696 | U2: =SUM(Monthly!BE2:BG2) -> 2195.3564 | V2: =SUM(Monthly!BH2:BJ2) -> 0
B3: Sisemaine tootmine | C3: =SUM(Monthly!C3:E3) -> 2665.8172 | D3: =SUM(Monthly!F3:H3) -> 2633.6509 | E3: =SUM(Monthly!I3:K3) -> 2646.7112 | F3: =SUM(Monthly!L3:N3) -> 2958.6933 | G3: =SUM(Monthly!O3:Q3) -> 2684.6384 | H3: =SUM(Monthly!R3:T3) -> 1989.903 | I3: =SUM(Monthly!U3:W3) -> 2042.9423 | J3: =SUM(Monthly!X3:Z3) -> 2344.8057 | K3: =SUM(Monthly!AA3:AC3) -> 2504.7906 | L3: =SUM(Monthly!AD3:AF3) -> 2016.6585 | M3: =SUM(Monthly!AG3:AI3) -> 2810.0405 | N3: =SUM(Monthly!AJ3:AL3) -> 3090.6237 | O3: =SUM(Monthly!AM3:AO3) -> 3173.5468 | P3: =SUM(Monthly!AP3:AR3) -> 2781.5074 | Q3: =SUM(Monthly!AS3:AU3) -> 2448.4619 | R3: =SUM(Monthly!AV3:AX3) -> 2830.8302 | S3: =SUM(Monthly!AY3:BA3) -> 3102.826 | T3: =SUM(Monthly!BB3:BD3) -> 2404.3551 | U3: =SUM(Monthly!BE3:BG3) -> 1757.9969 | V3: =SUM(Monthly!BH3:BJ3) -> 0
B4: Taastuvenergia | C4: =SUM(Monthly!C4:E4) -> 346.11909 | D4: =SUM(Monthly!F4:H4) -> 295.18306 | E4: =SUM(Monthly!I4:K4) -> 297.68027 | F4: =SUM(Monthly!L4:N4) -> 416.99175 | G4: =SUM(Monthly!O4:Q4) -> 442.54892 | H4: =SUM(Monthly!R4:T4) -> 351.78269 | I4: =SUM(Monthly!U4:W4) -> 284.00015 | J4: =SUM(Monthly!X4:Z4) -> 428.5915 | K4: =SUM(Monthly!AA4:AC4) -> 345.32217 | L4: =SUM(Monthly!AD4:AF4) -> 299.8373 | M4: =SUM(Monthly!AG4:AI4) -> 303.31347 | N4: =SUM(Monthly!AJ4:AL4) -> 463.82022 | O4: =SUM(Monthly!AM4:AO4) -> 431.7066 | P4: =SUM(Monthly!AP4:AR4) -> 390.07995 | Q4: =SUM(Monthly!AS4:AU4) -> 338.13547 | R4: =SUM(Monthly!AV4:AX4) -> 460.57256 | S4: =SUM(Monthly!AY4:BA4) -> 396.60017 | T4: =SUM(Monthly!BB4:BD4) -> 376.10917 | U4: =SUM(Monthly!BE4:BG4) -> 243.70327 | V4: =SUM(Monthly!BH4:BJ4) -> 0
B5: sh tuuleenergia | C5: =SUM(Monthly!C5:E5) -> 162.06521 | D5: =SUM(Monthly!F5:H5) -> 113.09727 | E5: =SUM(Monthly!I5:K5) -> 110.84725 | F5: =SUM(Monthly!L5:N5) -> 190.02495 | G5: =SUM(Monthly!O5:Q5) -> 232.40858 | H5: =SUM(Monthly!R5:T5) -> 153.76375 | I5: =SUM(Monthly!U5:W5) -> 108.06033 | J5: =SUM(Monthly!X5:Z5) -> 200.15832 | K5: =SUM(Monthly!AA5:AC5) -> 144.52582 | L5: =SUM(Monthly!AD5:AF5) -> 101.39056 | M5: =SUM(Monthly!AG5:AI5) -> 122.70446 | N5: =SUM(Monthly!AJ5:AL5) -> 221.36534 | O5: =SUM(Monthly!AM5:AO5) -> 190.52872 | P5: =SUM(Monthly!AP5:AR5) -> 142.86133 | Q5: =SUM(Monthly!AS5:AU5) -> 128.99333 | R5: =SUM(Monthly!AV5:AX5) -> 207.07013 | S5: =SUM(Monthly!AY5:BA5) -> 143.05267 | T5: =SUM(Monthly!BB5:BD5) -> 124.81096 | U5: =SUM(Monthly!BE5:BG5) -> 72.895745 | V5: =SUM(Monthly!BH5:BJ5) -> 0
B6: sh hüdroenergia | C6: =SUM(Monthly!C6:E6) -> 10.027948 | D6: =SUM(Monthly!F6:H6) -> 7.6762759 | E6: =SUM(Monthly!I6:K6) -> 3.8366526 | F6: =SUM(Monthly!L6:N6) -> 5.0688374 | G6: =SUM(Monthly!O6:Q6) -> 12.209756 | H6: =SUM(Monthly!R6:T6) -> 7.5932581 | I6: =SUM(Monthly!U6:W6) -> 1.930147 | J6: =SUM(Monthly!X6:Z6) -> 4.868882 | K6: =SUM(Monthly!AA6:AC6) -> 9.4618989 | L6: =SUM(Monthly!AD6:AF6) -> 8.5572205 | M6: =SUM(Monthly!AG6:AI6) -> 7.8050451 | N6: =SUM(Monthly!AJ6:AL6) -> 8.8201036 | O6: =SUM(Monthly!AM6:AO6) -> 8.0490726 | P6: =SUM(Monthly!AP6:AR6) -> 6.3743379 | Q6: =SUM(Monthly!AS6:AU6) -> 4.008328 | R6: =SUM(Monthly!AV6:AX6) -> 10.686445 | S6: =SUM(Monthly!AY6:BA6) -> 7.586435 | T6: =SUM(Monthly!BB6:BD6) -> 7.1176355 | U6: =SUM(Monthly!BE6:BG6) -> 0.62471231 | V6: =SUM(Monthly!BH6:BJ6) -> 0
B7: sh biomass, biogaas | C7: =SUM(Monthly!C7:E7) -> 173.98789 | D7: =SUM(Monthly!F7:H7) -> 174.20666 | E7: =SUM(Monthly!I7:K7) -> 182.72765 | F7: =SUM(Monthly!L7:N7) -> 221.86467 | G7: =SUM(Monthly!O7:Q7) -> 197.82594 | H7: =SUM(Monthly!R7:T7) -> 189.87794 | I7: =SUM(Monthly!U7:W7) -> 173.36129 | J7: =SUM(Monthly!X7:Z7) -> 223.31348 | K7: =SUM(Monthly!AA7:AC7) -> 191.15123 | L7: =SUM(Monthly!AD7:AF7) -> 188.71345 | M7: =SUM(Monthly!AG7:AI7) -> 171.69524 | N7: =SUM(Monthly!AJ7:AL7) -> 233.30953 | O7: =SUM(Monthly!AM7:AO7) -> 232.69582 | P7: =SUM(Monthly!AP7:AR7) -> 238.55374 | Q7: =SUM(Monthly!AS7:AU7) -> 203.22182 | R7: =SUM(Monthly!AV7:AX7) -> 242.52865 | S7: =SUM(Monthly!AY7:BA7) -> 245.02004 | T7: =SUM(Monthly!BB7:BD7) -> 238.94469 | U7: =SUM(Monthly!BE7:BG7) -> 166.57301 | V7: =SUM(Monthly!BH7:BJ7) -> 0
B8: Mittetaastuv | C8: =SUM(Monthly!C8:E8) -> 2319.6982 | D8: =SUM(Monthly!F8:H8) -> 2338.4678 | E8: =SUM(Monthly!I8:K8) -> 2349.0309 | F8: =SUM(Monthly!L8:N8) -> 2541.7016 | G8: =SUM(Monthly!O8:Q8) -> 2242.0895 | H8: =SUM(Monthly!R8:T8) -> 1638.1203 | I8: =SUM(Monthly!U8:W8) -> 1758.9421 | J8: =SUM(Monthly!X8:Z8) -> 1916.2142 | K8: =SUM(Monthly!AA8:AC8) -> 2159.4684 | L8: =SUM(Monthly!AD8:AF8) -> 1716.8212 | M8: =SUM(Monthly!AG8:AI8) -> 2506.727 | N8: =SUM(Monthly!AJ8:AL8) -> 2626.8035 | O8: =SUM(Monthly!AM8:AO8) -> 2741.8402 | P8: =SUM(Monthly!AP8:AR8) -> 2391.4274 | Q8: =SUM(Monthly!AS8:AU8) -> 2110.3264 | R8: =SUM(Monthly!AV8:AX8) -> 2370.2576 | S8: =SUM(Monthly!AY8:BA8) -> 2706.2258 | T8: =SUM(Monthly!BB8:BD8) -> 2028.2459 | U8: =SUM(Monthly!BE8:BG8) -> 1514.2937 | V8: =SUM(Monthly!BH8:BJ8) -> 0
B9: Välisliinidelt import | C9: =SUM(Monthly!C9:E9) -> 1280.1889 | D9: =SUM(Monthly!F9:H9) -> 901.4469 | E9: =SUM(Monthly!I9:K9) -> 710.08297 | F9: =SUM(Monthly!L9:N9) -> 872.23259 | G9: =SUM(Monthly!O9:Q9) -> 1204.2135 | H9: =SUM(Monthly!R9:T9) -> 1522.3966 | I9: =SUM(Monthly!U9:W9) -> 1269.6971 | J9: =SUM(Monthly!X9:Z9) -> 1347.8771 | K9: =SUM(Monthly!AA9:AC9) -> 1436.6869 | L9: =SUM(Monthly!AD9:AF9) -> 1173.1984 | M9: =SUM(Monthly!AG9:AI9) -> 529.37105 | N9: =SUM(Monthly!AJ9:AL9) -> 432.58912 | O9: =SUM(Monthly!AM9:AO9) -> 499.95712 | P9: =SUM(Monthly!AP9:AR9) -> 443.09537 | Q9: =SUM(Monthly!AS9:AU9) -> 649.68103 | R9: =SUM(Monthly!AV9:AX9) -> 720.24033 | S9: =SUM(Monthly!AY9:BA9) -> 766.52257 | T9: =SUM(Monthly!BB9:BD9) -> 781.21457 | U9: =SUM(Monthly!BE9:BG9) -> 437.35945 | V9: =SUM(Monthly!BH9:BJ9) -> 0
B10: sh füüsiline import | C10: =SUM(Monthly!C10:E10) -> 10.464303 | D10: =SUM(Monthly!F10:H10) -> 2.125376 | E10: =SUM(Monthly!I10:K10) -> 0.048724 | F10: =SUM(Monthly!L10:N10) -> 3.151709 | G10: =SUM(Monthly!O10:Q10) -> 57.662274 | H10: =SUM(Monthly!R10:T10) -> 125.35683 | I10: =SUM(Monthly!U10:W10) -> 103.86712 | J10: =SUM(Monthly!X10:Z10) -> 114.90478 | K10: =SUM(Monthly!AA10:AC10) -> 219.45899 | L10: =SUM(Monthly!AD10:AF10) -> 120.18434 | M10: =SUM(Monthly!AG10:AI10) -> 0.518611 | N10: =SUM(Monthly!AJ10:AL10) -> 32.453475 | O10: =SUM(Monthly!AM10:AO10) -> 14.235317 | P10: =SUM(Monthly!AP10:AR10) -> 15.385568 | Q10: =SUM(Monthly!AS10:AU10) -> 47.267011 | R10: =SUM(Monthly!AV10:AX10) -> 47.537066 | S10: =SUM(Monthly!AY10:BA10) -> 39.142322 | T10: =SUM(Monthly!BB10:BD10) -> 66.176169 | U10: =SUM(Monthly!BE10:BG10) -> 167.27539 | V10: =SUM(Monthly!BH10:BJ10) -> 0
B11: sh füüsiline transiit | C11: =SUM(Monthly!C11:E11) -> 1269.7246 | D11: =SUM(Monthly!F11:H11) -> 899.32153 | E11: =SUM(Monthly!I11:K11) -> 710.03424 | F11: =SUM(Monthly!L11:N11) -> 869.08088 | G11: =SUM(Monthly!O11:Q11) -> 1146.5513 | H11: =SUM(Monthly!R11:T11) -> 1397.0398 | I11: =SUM(Monthly!U11:W11) -> 1165.8299 | J11: =SUM(Monthly!X11:Z11) -> 1232.9724 | K11: =SUM(Monthly!AA11:AC11) -> 1217.2279 | L11: =SUM(Monthly!AD11:AF11) -> 1053.0142 | M11: =SUM(Monthly!AG11:AI11) -> 528.85244 | N11: =SUM(Monthly!AJ11:AL11) -> 400.13565 | O11: =SUM(Monthly!AM11:AO11) -> 485.7218 | P11: =SUM(Monthly!AP11:AR11) -> 427.7098 | Q11: =SUM(Monthly!AS11:AU11) -> 602.41402 | R11: =SUM(Monthly!AV11:AX11) -> 672.70331 | S11: =SUM(Monthly!AY11:BA11) -> 727.38025 | T11: =SUM(Monthly!BB11:BD11) -> 715.03769 | U11: =SUM(Monthly!BE11:BG11) -> 250.92815 | V11: =SUM(Monthly!BH11:BJ11) -> 0
B12: Võrku läbinud | C12: =SUM(Monthly!C12:E12) -> 3946.0061 | D12: =SUM(Monthly!F12:H12) -> 3535.0978 | E12: =SUM(Monthly!I12:K12) -> 3356.7942 | F12: =SUM(Monthly!L12:N12) -> 3830.9259 | G12: =SUM(Monthly!O12:Q12) -> 3888.8519 | H12: =SUM(Monthly!R12:T12) -> 3512.2996 | I12: =SUM(Monthly!U12:W12) -> 3312.6393 | J12: =SUM(Monthly!X12:Z12) -> 3692.6828 | K12: =SUM(Monthly!AA12:AC12) -> 3941.4775 | L12: =SUM(Monthly!AD12:AF12) -> 3189.8569 | M12: =SUM(Monthly!AG12:AI12) -> 3339.4115 | N12: =SUM(Monthly!AJ12:AL12) -> 3523.2128 | O12: =SUM(Monthly!AM12:AO12) -> 3673.5039 | P12: =SUM(Monthly!AP12:AR12) -> 3224.6028 | Q12: =SUM(Monthly!AS12:AU12) -> 3098.1429 | R12: =SUM(Monthly!AV12:AX12) -> 3551.0705 | S12: =SUM(Monthly!AY12:BA12) -> 3869.3485 | T12: =SUM(Monthly!BB12:BD12) -> 3185.5696 | U12: =SUM(Monthly!BE12:BG12) -> 2195.3564 | V12: =SUM(Monthly!BH12:BJ12) -> 0
B13: Sisemaine tarbimine | C13: =SUM(Monthly!C13:E13) -> 2306.7493 | D13: =SUM(Monthly!F13:H13) -> 1831.6484 | E13: =SUM(Monthly!I13:K13) -> 1761.1163 | F13: =SUM(Monthly!L13:N13) -> 2220.9139 | G13: =SUM(Monthly!O13:Q13) -> 2278.6645 | H13: =SUM(Monthly!R13:T13) -> 1885.8308 | I13: =SUM(Monthly!U13:W13) -> 1789.6225 | J13: =SUM(Monthly!X13:Z13) -> 2182.998 | K13: =SUM(Monthly!AA13:AC13) -> 2424.0041 | L13: =SUM(Monthly!AD13:AF13) -> 1860.6162 | M13: =SUM(Monthly!AG13:AI13) -> 1800.2729 | N13: =SUM(Monthly!AJ13:AL13) -> 2299.6978 | O13: =SUM(Monthly!AM13:AO13) -> 2380.8305 | P13: =SUM(Monthly!AP13:AR13) -> 1929.6094 | Q13: =SUM(Monthly!AS13:AU13) -> 1846.4528 | R13: =SUM(Monthly!AV13:AX13) -> 2343.0857 | S13: =SUM(Monthly!AY13:BA13) -> 2549.5072 | T13: =SUM(Monthly!BB13:BD13) -> 1953.5804 | U13: =SUM(Monthly!BE13:BG13) -> 1238.7101 | V13: =SUM(Monthly!BH13:BJ13) -> 0
... B16: sh füüsiline transiit | C16: =SUM(Monthly!C16:E16) -> 1269.7246 | D16: =SUM(Monthly!F16:H16) -> 899.32153 | E16: =SUM(Monthly!I16:K16) -> 710.03424 | F16: =SUM(Monthly!L16:N16) -> 869.08088 | G16: =SUM(Monthly!O16:Q16) -> 1146.5513 | H16: =SUM(Monthly!R16:T16) -> 1397.0398 | I16: =SUM(Monthly!U16:W16) -> 1165.8299 | J16: =SUM(Monthly!X16:Z16) -> 1232.9724 | K16: =SUM(Monthly!AA16:AC16) -> 1217.2279 | L16: =SUM(Monthly!AD16:AF16) -> 1053.0142 | M16: =SUM(Monthly!AG16:AI16) -> 528.85244 | N16: =SUM(Monthly!AJ16:AL16) -> 400.13565 | O16: =SUM(Monthly!AM16:AO16) -> 485.7218 | P16: =SUM(Monthly!AP16:AR16) -> 427.7098 | Q16: =SUM(Monthly!AS16:AU16) -> 602.41402 | R16: =SUM(Monthly!AV16:AX16) -> 672.70331 | S16: =SUM(Monthly!AY16:BA16) -> 727.38025 | T16: =SUM(Monthly!BB16:BD16) -> 715.03769 | U16: =SUM(Monthly!BE16:BG16) -> 250.92815 | V16: =SUM(Monthly!BH16:BJ16) -> 0
B17: Bilanss | C17: =C3-C13 -> 359.06795 | D17: =D3-D13 -> 802.00245 | E17: =E3-E13 -> 885.59488 | F17: =F3-F13 -> 737.77946 | G17: =G3-G13 -> 405.97391 | H17: =H3-H13 -> 104.07221 | I17: =I3-I13 -> 253.31971 | J17: =J3-J13 -> 161.80765 | ... V17: =V3-V13 -> 0
B19: Sisemaine tootmine | G19: =G3/C3-1 -> 0.0070601773 | H19: =H3/D3-1 -> -0.24443174 | I19: =I3/E3-1 -> -0.22812044 | J19: =J3/F3-1 -> -0.20748607 | K19: =K3/G3-1 -> -0.066991433 | L19: =L3/H3-1 -> 0.013445596 | M19: =M3/I3-1 -> 0.37548698 | N19: =N3/J3-1 -> 0.31807243 | ... R19: =R3/N3-1 -> -0.084058604
B20: Taastuvenergia | G20: =G4/C4-1 -> 0.27860302 | H20: =H4/D4-1 -> 0.19174416 | I20: =I4/E4-1 -> -0.045955762 | J20: =J4/F4-1 -> 0.027817709 | K20: =K4/G4-1 -> -0.21969717 | L20: =L4/H4-1 -> -0.14766329 | M20: =M4/I4-1 -> 0.068004632 | N20: =N4/J4-1 -> 0.082196479 | ... R20: =R4/N4-1 -> -0.0070019679
B21: sh tuuleenergia | G21: =G5/C5-1 -> 0.43404366 | H21: =H5/D5-1 -> 0.35957084 | I21: =I5/E5-1 -> -0.025142002 | J21: =J5/F5-1 -> 0.053326517 | K21: =K5/G5-1 -> -0.37813907 | L21: =L5/H5-1 -> -0.34060822 | M21: =M5/I5-1 -> 0.13551808 | N21: =N5/J5-1 -> 0.10595126 | ... R21: =R5/N5-1 -> -0.064577454
B22: sh hüdroenergia | G22: =G6/C6-1 -> 0.21757276 | H22: =H6/D6-1 -> -0.010814856 | I22: =I6/E6-1 -> -0.49691902 | J22: =J6/F6-1 -> -0.039447974 | K22: =K6/G6-1 -> -0.22505425 | L22: =L6/H6-1 -> 0.12694978 | M22: =M6/I6-1 -> 3.0437569 | N22: =N6/J6-1 -> 0.81152544 | ... R22: =R6/N6-1 -> 0.2116008
B23: sh biomass, biogaas | G23: =G7/C7-1 -> 0.13700983 | H23: =H7/D7-1 -> 0.08995801 | I23: =I7/E7-1 -> -0.051258596 | J23: =J7/F7-1 -> 0.0065301329 | K23: =K7/G7-1 -> -0.033740344 | L23: =L7/H7-1 -> -0.0061328423 | M23: =M7/I7-1 -> -0.0096102472 | N23: =N7/J7-1 -> 0.044762446 | ... R23: =R7/N7-1 -> 0.039514519
B24: Mittetaastuv | G24: =G8/C8-1 -> -0.033456371 | H24: =H8/D8-1 -> -0.2994899 | I24: =I8/E8-1 -> -0.25120521 | J24: =J8/F8-1 -> -0.24609003 | K24: =K8/G8-1 -> -0.036850015 | L24: =L8/H8-1 -> 0.04804337 | M24: =M8/I8-1 -> 0.42513331 | N24: =N8/J8-1 -> 0.3708298 | ... R24: =R8/N8-1 -> -0.097664656
B25: Sisemaine tarbimine | G25: =G8/C8-1 -> -0.033456371 | H25: =H8/D8-1 -> -0.2994899 | I25: =I8/E8-1 -> -0.25120521 | J25: =J8/F8-1 -> -0.24609003 | K25: =K8/G8-1 -> -0.036850015 | L25: =L8/H8-1 -> 0.04804337 | M25: =M8/I8-1 -> 0.42513331 | N25: =N8/J8-1 -> 0.3708298 | ... R25: =R8/N8-1 -> -0.097664656
B27: Baltikumi elektribilanss, GWh | C27: 2014-Q1 | D27: 2014-Q2 | E27: 2014-Q3 | F27: 2014-Q4 | G27: 2015-Q1 | H27: 2015-Q2 | I27: 2015-Q3 | J27: 2015-Q4 | K27: 2016-Q1 | L27: 2016-Q2 | M27: 2016-Q3 | N27: 2016-Q4 | O27: 2017-Q1 | P27: 2017-Q2 | Q27: 2017-Q3 | R27: 2017-Q4 | S27: 2018-Q1 | T27: 2018-Q2 | U27: 2018-Q3 | V27: 2018-Q4
B28: Tootmine Eestis | C28: =SUM(Monthly!C30:E30) -> 2665.8172 | D28: =SUM(Monthly!F30:H30) -> 2633.6509 | E28: =SUM(Monthly!I30:K30) -> 2646.7112 | F28: =SUM(Monthly!L30:N30) -> 2958.6933 | G28: =SUM(Monthly!O30:Q30) -> 2684.6384 | H28: =SUM(Monthly!R30:T30) -> 1989.903 | I28: =SUM(Monthly!U30:W30) -> 2042.9423 | J28: =SUM(Monthly!X30:Z30) -> 2344.8057 | K28: =SUM(Monthly!AA30:AC30) -> 2504.7906 | L28: =SUM(Monthly!AD30:AF30) -> 2016.6585 | M28: =SUM(Monthly!AG30:AI30) -> 2810.0405 | N28: =SUM(Monthly!AJ30:AL30) -> 3090.6237 | O28: =SUM(Monthly!AM30:AO30) -> 3173.5468 | P28: =SUM(Monthly!AP30:AR30) -> 2781.5074 | Q28: =SUM(Monthly!AS30:AU30) -> 2448.4619 | R28: =SUM(Monthly!AV30:AX30) -> 2830.8302 | S28: =SUM(Monthly!AY30:BA30) -> 3102.826 | T28: =SUM(Monthly!BB30:BD30) -> 2404.3551 | U28: =SUM(Monthly!BE30:BG30) -> 1757.9969 | V28: =SUM(Monthly!BH30:BJ30) -> 0
B29: Tootmine Lätis | C29: =SUM(Monthly!C31:E31) -> 1588.8168 | D29: =SUM(Monthly!F31:H31) -> 1209.7684 | E29: =SUM(Monthly!I31:K31) -> 822.35341 | F29: =SUM(Monthly!L31:N31) -> 1305.1108 | G29: =SUM(Monthly!O31:Q31) -> 1435.8273 | H29: =SUM(Monthly!R31:T31) -> 1240.3384 | I29: =SUM(Monthly!U31:W31) -> 1064.1392 | J29: =SUM(Monthly!X31:Z31) -> 1582.1093 | K29: =SUM(Monthly!AA31:AC31) -> 1661.3668 | L29: =SUM(Monthly!AD31:AF31) -> 1537.7593 | M29: =SUM(Monthly!AG31:AI31) -> 950.6817 | N29: =SUM(Monthly!AJ31:AL31) -> 2067.1728 | O29: =SUM(Monthly!AM31:AO31) -> 2285.255 | P29: =SUM(Monthly!AP31:AR31) -> 1678.0861 | Q29: =SUM(Monthly!AS31:AU31) -> 1277.811 | R29: =SUM(Monthly!AV31:AX31) -> 2062.341 | S29: =SUM(Monthly!AY31:BA31) -> 2316.607 | T29: =SUM(Monthly!BB31:BD31) -> 1547.314 | U29: =SUM(Monthly!BE31:BG31) -> 818.071 | V29: =SUM(Monthly!BH31:BJ31) -> 0
B30: Tootmine Leedus | C30: =SUM(Monthly!C32:E32) -> 769.37039 | D30: =SUM(Monthly!F32:H32) -> 482.50967 | E30: =SUM(Monthly!I32:K32) -> 985.97011 | F30: =SUM(Monthly!L32:N32) -> 743.38166 | G30: =SUM(Monthly!O32:Q32) -> 743.46927 | H30: =SUM(Monthly!R32:T32) -> 830.3662 | I30: =SUM(Monthly!U32:W32) -> 879.73455 | J30: =SUM(Monthly!X32:Z32) -> 814.98061 | K30: =SUM(Monthly!AA32:AC32) -> 666.484 | L30: =SUM(Monthly!AD32:AF32) -> 577.984 | M30: =SUM(Monthly!AG32:AI32) -> 576.39 | N30: =SUM(Monthly!AJ32:AL32) -> 839.064 | O30: =SUM(Monthly!AM32:AO32) -> 611.412 | P30: =SUM(Monthly!AP32:AR32) -> 577.46034 | Q30: =SUM(Monthly!AS32:AU32) -> 566.056 | R30: =SUM(Monthly!AV32:AX32) -> 728.481 | S30: =SUM(Monthly!AY32:BA32) -> 911.549 | T30: =SUM(Monthly!BB32:BD32) -> 787.255 | U30: =SUM(Monthly!BE32:BG32) -> 453.032 | V30: =SUM(Monthly!BH32:BJ32) -> 0
B31: Kokku | C31: =SUM(Monthly!C33:E33) -> 5024.0044 | D31: =SUM(Monthly!F33:H33) -> 4325.929 | E31: =SUM(Monthly!I33:K33) -> 4455.0347 | F31: =SUM(Monthly!L33:N33) -> 5007.1858 | G31: =SUM(Monthly!O33:Q33) -> 4863.935 | H31: =SUM(Monthly!R33:T33) -> 4060.6077 | I31: =SUM(Monthly!U33:W33) -> 3986.816 | J31: =SUM(Monthly!X33:Z33) -> 4741.8956 | K31: =SUM(Monthly!AA33:AC33) -> 4832.6414 | L31: =SUM(Monthly!AD33:AF33) -> 4132.4017 | M31: =SUM(Monthly!AG33:AI33) -> 4337.1122 | N31: =SUM(Monthly!AJ33:AL33) -> 5996.8605 | O31: =SUM(Monthly!AM33:AO33) -> 6070.2138 | P31: =SUM(Monthly!AP33:AR33) -> 5037.0538 | Q31: =SUM(Monthly!AS33:AU33) -> 4292.3289 | R31: =SUM(Monthly!AV33:AX33) -> 5621.6522 | S31: =SUM(Monthly!AY33:BA33) -> 6330.982 | T31: =SUM(Monthly!BB33:BD33) -> 4738.9241 | U31: =SUM(Monthly!BE33:BG33) -> 3029.0999 | V31: =SUM(Monthly!BH33:BJ33) -> 0
B32: Tarbimine Eestis | C32: =SUM(Monthly!C34:E34) -> 2306.7493 | D32: =SUM(Monthly!F34:H34) -> 1831.6484 | E32: =SUM(Monthly!I34:K34) -> 1761.1163 | F32: =SUM(Monthly!L34:N34) -> 2220.9139 | G32: =SUM(Monthly!O34:Q34) -> 2278.6645 | H32: =SUM(Monthly!R34:T34) -> 1885.8308 | I32: =SUM(Monthly!U34:W34) -> 1789.6225 | J32: =SUM(Monthly!X34:Z34) -> 2182.998 | K32: =SUM(Monthly!AA34:AC34) -> 2424.0041 | L32: =SUM(Monthly!AD34:AF34) -> 1860.6162 | M32: =SUM(Monthly!AG34:AI34) -> 1800.2729 | N32: =SUM(Monthly!AJ34:AL34) -> 2299.6978 | O32: =SUM(Monthly!AM34:AO34) -> 2380.8305 | P32: =SUM(Monthly!AP34:AR34) -> 1929.6094 | Q32: =SUM(Monthly!AS34:AU34) -> 1846.4528 | R32: =SUM(Monthly!AV34:AX34) -> 2343.0857 | S32: =SUM(Monthly!AY34:BA34) -> 2549.5072 | T32: =SUM(Monthly!BB34:BD34) -> 1953.5804 | U32: =SUM(Monthly!BE34:BG34) -> 1238.7101 | V32: =SUM(Monthly!BH34:BJ34) -> 0
B33: Tarbimine Lätis | C33: =SUM(Monthly!C35:E35) -> 1981.5414 | D33: =SUM(Monthly!F35:H35) -> 1615.6129 | E33: =SUM(Monthly!I35:K35) -> 1657.3805 | F33: =SUM(Monthly!L35:N35) -> 1930.6771 | G33: =SUM(Monthly!O35:Q35) -> 1915.7422 | H33: =SUM(Monthly!R35:T35) -> 1645.5068 | I33: =SUM(Monthly!U35:W35) -> 1646.8456 | J33: =SUM(Monthly!X35:Z35) -> 1877.7596 | K33: =SUM(Monthly!AA35:AC35) -> 1985.6017 | L33: =SUM(Monthly!AD35:AF35) -> 1660.2925 | M33: =SUM(Monthly!AG35:AI35) -> 1649.9753 | N33: =SUM(Monthly!AJ35:AL35) -> 1928.175 | O33: =SUM(Monthly!AM35:AO35) -> 1962.4835 | P33: =SUM(Monthly!AP35:AR35) -> 1667.5828 | Q33: =SUM(Monthly!AS35:AU35) -> 1668.623 | R33: =SUM(Monthly!AV35:AX35) -> 1929.049 | S33: =SUM(Monthly!AY35:BA35) -> 2011.385 | T33: =SUM(Monthly!BB35:BD35) -> 1689.118 | U33: =SUM(Monthly!BE35:BG35) -> 1153.31 | V33: =SUM(Monthly!BH35:BJ35) -> 0
B34: Tarbimine Leedus | C34: =SUM(Monthly!C36:E36) -> 2673.0637 | D34: =SUM(Monthly!F36:H36) -> 2415.9725 | E34: =SUM(Monthly!I36:K36) -> 2626.9462 | F34: =SUM(Monthly!L36:N36) -> 2902.1168 | G34: =SUM(Monthly!O36:Q36) -> 2693.899 | H34: =SUM(Monthly!R36:T36) -> 2456.1132 | I34: =SUM(Monthly!U36:W36) -> 2557.461 | J34: =SUM(Monthly!X36:Z36) -> 2737.059 | K34: =SUM(Monthly!AA36:AC36) -> 2649.261 | L34: =SUM(Monthly!AD36:AF36) -> 2341.287 | M34: =SUM(Monthly!AG36:AI36) -> 2435.38 | N34: =SUM(Monthly!AJ36:AL36) -> 2688.35 | O34: =SUM(Monthly!AM36:AO36) -> 2709.708 | P34: =SUM(Monthly!AP36:AR36) -> 2392.403 | Q34: =SUM(Monthly!AS36:AU36) -> 2501.125 | R34: =SUM(Monthly!AV36:AX36) -> 2749.422 | S34: =SUM(Monthly!AY36:BA36) -> 3257.841 | T34: =SUM(Monthly!BB36:BD36) -> 2797.37 | U34: =SUM(Monthly!BE36:BG36) -> 1932.154 | V34: =SUM(Monthly!BH36:BJ36) -> 0
B35: Kokku | C35: =SUM(Monthly!C37:E37) -> 6961.3544 | D35: =SUM(Monthly!F37:H37) -> 5863.2339 | E35: =SUM(Monthly!I37:K37) -> 6045.4429 | F35: =SUM(Monthly!L37:N37) -> 7053.7078 | G35: =SUM(Monthly!O37:Q37) -> 6888.3056 | H35: =SUM(Monthly!R37:T37) -> 5987.4508 | I35: =SUM(Monthly!U37:W37) -> 5993.9292 | J35: =SUM(Monthly!X37:Z37) -> 6797.8166 | K35: =SUM(Monthly!AA37:AC37) -> 7058.8669 | L35: =SUM(Monthly!AD37:AF37) -> 5862.1957 | M35: =SUM(Monthly!AG37:AI37) -> 5885.6282 | N35: =SUM(Monthly!AJ37:AL37) -> 6916.2228 | O35: =SUM(Monthly!AM37:AO37) -> 7053.022 | P35: =SUM(Monthly!AP37:AR37) -> 5989.5952 | Q35: =SUM(Monthly!AS37:AU37) -> 6016.2008 | R35: =SUM(Monthly!AV37:AX37) -> 7021.5567 | S35: =SUM(Monthly!AY37:BA37) -> 7818.7332 | T35: =SUM(Monthly!BB37:BD37) -> 6440.0684 | U35: =SUM(Monthly!BE37:BG37) -> 4324.1741 | V35: =SUM(Monthly!BH37:BJ37) -> 0
B36: Eesti saldo | C36: =C28-C32 -> 359.06795 | D36: =D28-D32 -> 802.00245 | E36: =E28-E32 -> 885.59488 | F36: =F28-F32 -> 737.77946 | G36: =G28-G32 -> 405.97391 | H36: =H28-H32 -> 104.07221 | I36: =I28-I32 -> 253.31971 | J36: =J28-J32 -> 161.80765 | ... V36: =V28-V32 -> 0
B37: Läti saldo | C37: =C29-C33 -> -392.72463 | D37: =D29-D33 -> -405.8445 | E37: =E29-E33 -> -835.02706 | F37: =F29-F33 -> -625.56633 | G37: =G29-G33 -> -479.91486 | H37: =H29-H33 -> -405.16833 | I37: =I29-I33 -> -582.70647 | J37: =J29-J33 -> -295.65028 | ... V37: =V29-V33 -> 0
B38: Leedu saldo | C38: =C30-C34 -> -1903.6933 | D38: =D30-D34 -> -1933.4629 | E38: =E30-E34 -> -1640.9761 | F38: =F30-F34 -> -2158.7352 | G38: =G30-G34 -> -1950.4297 | H38: =H30-H34 -> -1625.747 | I38: =I30-I34 -> -1677.7265 | J38: =J30-J34 -> -1922.0784 | ... V38: =V30-V34 -> 0
B39: Saldo Kokku | C39: =C31-C35 -> -1937.35 | D39: =D31-D35 -> -1537.3049 | E39: =E31-E35 -> -1590.4082 | F39: =F31-F35 -> -2046.522 | G39: =G31-G35 -> -2024.3706 | H39: =H31-H35 -> -1926.8431 | I39: =I31-I35 -> -2007.1132 | J39: =J31-J35 -> -2055.9211 | ... V39: =V31-V35 -> 0
B41: Tootmine Eestis | G41: =G28/C28-1 -> 0.0070601773 | H41: =H28/D28-1 -> -0.24443174 | I41: =I28/E28-1 -> -0.22812044 | J41: =J28/F28-1 -> -0.20748607 | K41: =K28/G28-1 -> -0.066991433 | L41: =L28/H28-1 -> 0.013445596 | M41: =M28/I28-1 -> 0.37548698 | N41: =N28/J28-1 -> 0.31807243 | ... R41: =R28/N28-1 -> -0.084058604
B42: Tootmine Lätis | G42: =G29/C29-1 -> -0.096291459 | H42: =H29/D29-1 -> 0.025269311 | I42: =I29/E29-1 -> 0.29401685 | J42: =J29/F29-1 -> 0.21224139 | K42: =K29/G29-1 -> 0.15707984 | L42: =L29/H29-1 -> 0.23979007 | M42: =M29/I29-1 -> -0.10661901 | N42: =N29/J29-1 -> 0.30659295 | ... R42: =R29/N29-1 -> -0.0023374136
B43: Tootmine Leedus | G43: =G30/C30-1 -> -0.03366535 | H43: =H30/D30-1 -> 0.72093172 | I43: =I30/E30-1 -> -0.10774724 | J43: =J30/F30-1 -> 0.096315199 | K43: =K30/G30-1 -> -0.10354869 | L43: =L30/H30-1 -> -0.30394084 | M43: =M30/I30-1 -> -0.34481373 | N43: =N30/J30-1 -> 0.029550871 | ... R43: =R30/N30-1 -> -0.13179328
B44: Kokku | G44: =G31/C31-1 -> -0.031860933 | H44: =H31/D31-1 -> -0.061332795 | I44: =I31/E31-1 -> -0.10509878 | J44: =J31/F31-1 -> -0.052981896 | K44: =K31/G31-1 -> -0.0064337858 | L44: =L31/H31-1 -> 0.017680624 | M44: =M31/I31-1 -> 0.087863647 | N44: =N31/J31-1 -> 0.2646547 | ... R44: =R31/N31-1 -> -0.062567463
B45: Tarbimine Eestis | G45: =G32/C32-1 -> -0.012175063 | H45: =H32/D32-1 -> 0.029581211 | I45: =I32/E32-1 -> 0.016186459 | J45: =J32/F32-1 -> -0.017072186 | K45: =K32/G32-1 -> 0.063782819 | L45: =L32/H32-1 -> -0.013370549 | M45: =M32/I32-1 -> 0.0059511655 | N45: =N32/J32-1 -> 0.053458494 | ... R45: =R32/N32-1 -> 0.018866806
B46: Tarbimine Lätis | G46: =G33/C33-1 -> -0.033206098 | H46: =H33/D33-1 -> 0.0185031 | I46: =I33/E33-1 -> -0.0063563142 | J46: =J33/F33-1 -> -0.02740879 | K46: =K33/G33-1 -> 0.036466073 | L46: =L33/H33-1 -> 0.0089855165 | M46: =M33/I33-1 -> 0.001900392 | N46: =N33/J33-1 -> 0.026848716 | ... R46: =R33/N33-1 -> 0.00045327721
B47: Tarbimine Leedus | G47: =G34/C34-1 -> 0.0077945295 | H47: =H34/D34-1 -> 0.016614701 | I47: =I34/E34-1 -> -0.02645092 | J47: =J34/F34-1 -> -0.056874965 | K47: =K34/G34-1 -> -0.016570019 | L47: =L34/H34-1 -> -0.046751184 | M47: =M34/I34-1 -> -0.047735241 | N47: =N34/J34-1 -> -0.017796127 | ... R47: =R34/N34-1 -> 0.02271728
B48: Kokku | G48: =G35/C35-1 -> -0.010493476 | H48: =H35/D35-1 -> 0.02118573 | I48: =I35/E35-1 -> -0.0085210858 | J48: =J35/F35-1 -> -0.036277541 | K48: =K35/G35-1 -> 0.024760992 | L48: =L35/H35-1 -> -0.020919598 | M48: =M35/I35-1 -> -0.018068453 | N48: =N35/J35-1 -> 0.017418265 | ... R48: =R35/N35-1 -> 0.015229982
B50: Põhjamaade elektribilanss, GWh | C50: 2014-Q1 | D50: 2014-Q2 | E50: 2014-Q3 | F50: 2014-Q4 | G50: 2015-Q1 | H50: 2015-Q2 | I50: 2015-Q3 | J50: 2015-Q4 | K50: 2016-Q1 | L50: 2016-Q2 | M50: 2016-Q3 | N50: 2016-Q4 | O50: 2017-Q1 | P50: 2017-Q2 | Q50: 2017-Q3 | R50: 2017-Q4 | S50: 2018-Q1 | T50: 2018-Q2 | U50: 2018-Q3 | V50: 2018-Q4
B51: Tootmine Norras | C51: =SUM(Monthly!C53:E53) -> 38803.153 | D51: =SUM(Monthly!F53:H53) -> 32934.269 | E51: =SUM(Monthly!I53:K53) -> 30606.529 | F51: =SUM(Monthly!L53:N53) -> 39234.784 | G51: =SUM(Monthly!O53:Q53) -> 40863.048 | H51: =SUM(Monthly!R53:T53) -> 32610.202 | I51: =SUM(Monthly!U53:W53) -> 30969.108 | J51: =SUM(Monthly!X53:Z53) -> 38932.923 | K51: =SUM(Monthly!AA53:AC53) -> 44937.495 | L51: =SUM(Monthly!AD53:AF53) -> 33784.586 | M51: =SUM(Monthly!AG53:AI53) -> 30741.261 | N51: =SUM(Monthly!AJ53:AL53) -> 39333.696 | O51: =SUM(Monthly!AM53:AO53) -> 41332.834 | P51: =SUM(Monthly!AP53:AR53) -> 33281.211 | Q51: =SUM(Monthly!AS53:AU53) -> 32675.996 | R51: =SUM(Monthly!AV53:AX53) -> 40906.187 | S51: =SUM(Monthly!AY53:BA53) -> 44547.413 | T51: =SUM(Monthly!BB53:BD53) -> 29958.538 | U51: =SUM(Monthly!BE53:BG53) -> 19785.113 | V51: =SUM(Monthly!BH53:BJ53) -> 0
B52: Tootmine Rootsis | C52: =SUM(Monthly!C54:E54) -> 46484.805 | D52: =SUM(Monthly!F54:H54) -> 33692.342 | E52: =SUM(Monthly!I54:K54) -> 30057.906 | F52: =SUM(Monthly!L54:N54) -> 39927.883 | G52: =SUM(Monthly!O54:Q54) -> 43916.296 | H52: =SUM(Monthly!R54:T54) -> 36956.701 | I52: =SUM(Monthly!U54:W54) -> 35325.873 | J52: =SUM(Monthly!X54:Z54) -> 41682.706 | K52: =SUM(Monthly!AA54:AC54) -> 46503.246 | L52: =SUM(Monthly!AD54:AF54) -> 33902.565 | M52: =SUM(Monthly!AG54:AI54) -> 30746.424 | N52: =SUM(Monthly!AJ54:AL54) -> 39259.574 | O52: =SUM(Monthly!AM54:AO54) -> 46230.137 | P52: =SUM(Monthly!AP54:AR54) -> 36519.791 | Q52: =SUM(Monthly!AS54:AU54) -> 32844.207 | R52: =SUM(Monthly!AV54:AX54) -> 42936.331 | S52: =SUM(Monthly!AY54:BA54) -> 47106.801 | T52: =SUM(Monthly!BB54:BD54) -> 36850.454 | U52: =SUM(Monthly!BE54:BG54) -> 20112.576 | V52: =SUM(Monthly!BH54:BJ54) -> 0
B53: Tootmine Soomes | C53: =SUM(Monthly!C55:E55) -> 18958.529 | D53: =SUM(Monthly!F55:H55) -> 14893.479 | E53: =SUM(Monthly!I55:K55) -> 13481.17 | F53: =SUM(Monthly!L55:N55) -> 17441.094 | G53: =SUM(Monthly!O55:Q55) -> 17943.908 | H53: =SUM(Monthly!R55:T55) -> 15443.525 | I53: =SUM(Monthly!U55:W55) -> 14046.133 | J53: =SUM(Monthly!X55:Z55) -> 17803.997 | K53: =SUM(Monthly!AA55:AC55) -> 19166.085 | L53: =SUM(Monthly!AD55:AF55) -> 14465.356 | M53: =SUM(Monthly!AG55:AI55) -> 13608.728 | N53: =SUM(Monthly!AJ55:AL55) -> 18079.182 | O53: =SUM(Monthly!AM55:AO55) -> 18679.042 | P53: =SUM(Monthly!AP55:AR55) -> 13993.974 | Q53: =SUM(Monthly!AS55:AU55) -> 13137.68 | R53: =SUM(Monthly!AV55:AX55) -> 17528.793 | S53: =SUM(Monthly!AY55:BA55) -> 20186.788 | T53: =SUM(Monthly!BB55:BD55) -> 14007.939 | U53: =SUM(Monthly!BE55:BG55) -> 8997.829 | V53: =SUM(Monthly!BH55:BJ55) -> 0
B54: Tootmine Taanis | C54: =SUM(Monthly!C56:E56) -> 9988.14 | D54: =SUM(Monthly!F56:H56) -> 6153.953 | E54: =SUM(Monthly!I56:K56) -> 5996.884 | F54: =SUM(Monthly!L56:N56) -> 8610.206 | G54: =SUM(Monthly!O56:Q56) -> 8981.129 | H54: =SUM(Monthly!R56:T56) -> 6230.949 | I54: =SUM(Monthly!U56:W56) -> 4543.498 | J54: =SUM(Monthly!X56:Z56) -> 7269.273 | K54: =SUM(Monthly!AA56:AC56) -> 8329.657 | L54: =SUM(Monthly!AD56:AF56) -> 5402.745 | M54: =SUM(Monthly!AG56:AI56) -> 5048.558 | N54: =SUM(Monthly!AJ56:AL56) -> 8558.027 | O54: =SUM(Monthly!AM56:AO56) -> 8873.777 | P54: =SUM(Monthly!AP56:AR56) -> 6283.525 | Q54: =SUM(Monthly!AS56:AU56) -> 4716.678 | R54: =SUM(Monthly!AV56:AX56) -> 8122.433 | S54: =SUM(Monthly!AY56:BA56) -> 9545.255 | T54: =SUM(Monthly!BB56:BD56) -> 5663.342 | U54: =SUM(Monthly!BE56:BG56) -> 3151.05 | V54: =SUM(Monthly!BH56:BJ56) -> 0
B55: Kokku | C55: =SUM(Monthly!C57:E57) -> 114234.63 | D55: =SUM(Monthly!F57:H57) -> 87674.043 | E55: =SUM(Monthly!I57:K57) -> 80142.489 | F55: =SUM(Monthly!L57:N57) -> 105213.97 | G55: =SUM(Monthly!O57:Q57) -> 111704.38 | H55: =SUM(Monthly!R57:T57) -> 91241.377 | I55: =SUM(Monthly!U57:W57) -> 84884.612 | J55: =SUM(Monthly!X57:Z57) -> 105688.9 | K55: =SUM(Monthly!AA57:AC57) -> 118936.48 | L55: =SUM(Monthly!AD57:AF57) -> 87555.252 | M55: =SUM(Monthly!AG57:AI57) -> 80144.971 | N55: =SUM(Monthly!AJ57:AL57) -> 105230.48 | O55: =SUM(Monthly!AM57:AO57) -> 115115.79 | P55: =SUM(Monthly!AP57:AR57) -> 90078.501 | Q55: =SUM(Monthly!AS57:AU57) -> 83374.561 | R55: =SUM(Monthly!AV57:AX57) -> 109493.74 | S55: =SUM(Monthly!AY57:BA57) -> 121386.26 | T55: =SUM(Monthly!BB57:BD57) -> 86480.273 | U55: =SUM(Monthly!BE57:BG57) -> 52046.568 | V55: =SUM(Monthly!BH57:BJ57) -> 0
B56: Tarbimine Norras | C56: =SUM(Monthly!C58:E58) -> 37569.97 | D56: =SUM(Monthly!F58:H58) -> 27812.949 | E56: =SUM(Monthly!I58:K58) -> 24989.107 | F56: =SUM(Monthly!L58:N58) -> 35503.812 | G56: =SUM(Monthly!O58:Q58) -> 37974.239 | H56: =SUM(Monthly!R58:T58) -> 29241.573 | I56: =SUM(Monthly!U58:W58) -> 26030.745 | J56: =SUM(Monthly!X58:Z58) -> 35358.761 | K56: =SUM(Monthly!AA58:AC58) -> 40946.837 | L56: =SUM(Monthly!AD58:AF58) -> 29088.825 | M56: =SUM(Monthly!AG58:AI58) -> 25552.515 | N56: =SUM(Monthly!AJ58:AL58) -> 36745.791 | O56: =SUM(Monthly!AM58:AO58) -> 39327.031 | P56: =SUM(Monthly!AP58:AR58) -> 29483.203 | Q56: =SUM(Monthly!AS58:AU58) -> 26513.551 | R56: =SUM(Monthly!AV58:AX58) -> 37563.578 | S56: =SUM(Monthly!AY58:BA58) -> 42115.284 | T56: =SUM(Monthly!BB58:BD58) -> 29282.25 | U56: =SUM(Monthly!BE58:BG58) -> 17245.026 | V56: =SUM(Monthly!BH58:BJ58) -> 0
B57: Tarbimine Rootsis | C57: =SUM(Monthly!C59:E59) -> 39761.286 | D57: =SUM(Monthly!F59:H59) -> 30120.581 | E57: =SUM(Monthly!I59:K59) -> 27483.786 | F57: =SUM(Monthly!L59:N59) -> 36427.965 | G57: =SUM(Monthly!O59:Q59) -> 39406.673 | H57: =SUM(Monthly!R59:T59) -> 30961.373 | I57: =SUM(Monthly!U59:W59) -> 28126.518 | J57: =SUM(Monthly!X59:Z59) -> 36435.753 | K57: =SUM(Monthly!AA59:AC59) -> 42374.777 | L57: =SUM(Monthly!AD59:AF59) -> 30524.124 | M57: =SUM(Monthly!AG59:AI59) -> 27414.762 | N57: =SUM(Monthly!AJ59:AL59) -> 37871.986 | O57: =SUM(Monthly!AM59:AO59) -> 41345.524 | P57: =SUM(Monthly!AP59:AR59) -> 31068.125 | Q57: =SUM(Monthly!AS59:AU59) -> 28177.354 | R57: =SUM(Monthly!AV59:AX59) -> 37524.774 | S57: =SUM(Monthly!AY59:BA59) -> 42613.951 | T57: =SUM(Monthly!BB59:BD59) -> 30161.056 | U57: =SUM(Monthly!BE59:BG59) -> 18114.043 | V57: =SUM(Monthly!BH59:BJ59) -> 0
B58: Tarbimine Soomes | C58: =SUM(Monthly!C60:E60) -> 23559.515 | D58: =SUM(Monthly!F60:H60) -> 18731.232 | E58: =SUM(Monthly!I60:K60) -> 18157.202 | F58: =SUM(Monthly!L60:N60) -> 22066.591 | G58: =SUM(Monthly!O60:Q60) -> 22930.523 | H58: =SUM(Monthly!R60:T60) -> 18539.258 | I58: =SUM(Monthly!U60:W60) -> 18060.497 | J58: =SUM(Monthly!X60:Z60) -> 21785.186 | K58: =SUM(Monthly!AA60:AC60) -> 24354.542 | L58: =SUM(Monthly!AD60:AF60) -> 18514.475 | M58: =SUM(Monthly!AG60:AI60) -> 18256.98 | N58: =SUM(Monthly!AJ60:AL60) -> 22822.798 | O58: =SUM(Monthly!AM60:AO60) -> 23871.713 | P58: =SUM(Monthly!AP60:AR60) -> 19024.016 | Q58: =SUM(Monthly!AS60:AU60) -> 18294.755 | R58: =SUM(Monthly!AV60:AX60) -> 22212.882 | S58: =SUM(Monthly!AY60:BA60) -> 25233.492 | T58: =SUM(Monthly!BB60:BD60) -> 18797.561 | U58: =SUM(Monthly!BE60:BG60) -> 12385.405 | V58: =SUM(Monthly!BH60:BJ60) -> 0
B59: Tarbimine Taanis | C59: =SUM(Monthly!C61:E61) -> 9114.753 | D59: =SUM(Monthly!F61:H61) -> 7812.469 | E59: =SUM(Monthly!I61:K61) -> 7792.933 | F59: =SUM(Monthly!L61:N61) -> 8784.18 | G59: =SUM(Monthly!O61:Q61) -> 8940.462 | H59: =SUM(Monthly!R61:T61) -> 7716.226 | I59: =SUM(Monthly!U61:W61) -> 7656.768 | J59: =SUM(Monthly!X61:Z61) -> 8494.67 | K59: =SUM(Monthly!AA61:AC61) -> 8851.549 | L59: =SUM(Monthly!AD61:AF61) -> 7661.897 | M59: =SUM(Monthly!AG61:AI61) -> 7410.937 | N59: =SUM(Monthly!AJ61:AL61) -> 8359.082 | O59: =SUM(Monthly!AM61:AO61) -> 8542.26 | P59: =SUM(Monthly!AP61:AR61) -> 7528.216 | Q59: =SUM(Monthly!AS61:AU61) -> 7584.349 | R59: =SUM(Monthly!AV61:AX61) -> 8785.314 | S59: =SUM(Monthly!AY61:BA61) -> 9195.167 | T59: =SUM(Monthly!BB61:BD61) -> 7880.177 | U59: =SUM(Monthly!BE61:BG61) -> 5178.189 | V59: =SUM(Monthly!BH61:BJ61) -> 0
B60: Kokku | C60: =SUM(Monthly!C62:E62) -> 110005.52 | D60: =SUM(Monthly!F62:H62) -> 84477.231 | E60: =SUM(Monthly!I62:K62) -> 78423.028 | F60: =SUM(Monthly!L62:N62) -> 102782.55 | G60: =SUM(Monthly!O62:Q62) -> 109251.9 | H60: =SUM(Monthly!R62:T62) -> 86458.43 | I60: =SUM(Monthly!U62:W62) -> 79874.528 | J60: =SUM(Monthly!X62:Z62) -> 102074.37 | K60: =SUM(Monthly!AA62:AC62) -> 116527.7 | L60: =SUM(Monthly!AD62:AF62) -> 85789.321 | M60: =SUM(Monthly!AG62:AI62) -> 78635.194 | N60: =SUM(Monthly!AJ62:AL62) -> 105799.66 | O60: =SUM(Monthly!AM62:AO62) -> 113086.53 | P60: =SUM(Monthly!AP62:AR62) -> 87103.56 | Q60: =SUM(Monthly!AS62:AU62) -> 80570.009 | R60: =SUM(Monthly!AV62:AX62) -> 106086.55 | S60: =SUM(Monthly!AY62:BA62) -> 119157.89 | T60: =SUM(Monthly!BB62:BD62) -> 86121.044 | U60: =SUM(Monthly!BE62:BG62) -> 52922.663 | V60: =SUM(Monthly!BH62:BJ62) -> 0
B61: Norra saldo | C61: =C51-C56 -> 1233.183 | D61: =D51-D56 -> 5121.32 | E61: =E51-E56 -> 5617.422 | F61: =F51-F56 -> 3730.972 | G61: =G51-G56 -> 2888.809 | H61: =H51-H56 -> 3368.629 | I61: =I51-I56 -> 4938.363 | J61: =J51-J56 -> 3574.162 | ... V61: =V51-V56 -> 0
B62: Rootsi saldo | C62: =C52-C57 -> 6723.519 | D62: =D52-D57 -> 3571.761 | E62: =E52-E57 -> 2574.12 | F62: =F52-F57 -> 3499.918 | G62: =G52-G57 -> 4509.623 | H62: =H52-H57 -> 5995.328 | I62: =I52-I57 -> 7199.355 | J62: =J52-J57 -> 5246.953 | ... V62: =V52-V57 -> 0
B63: Soome saldo | C63: =C53-C58 -> -4600.986 | D63: =D53-D58 -> -3837.753 | E63: =E53-E58 -> -4676.032 | F63: =F53-F58 -> -4625.497 | G63: =G53-G58 -> -4986.615 | H63: =H53-H58 -> -3095.733 | I63: =I53-I58 -> -4014.364 | J63: =J53-J58 -> -3981.189 | ... V63: =V53-V58 -> 0
B64: Taani saldo | C64: =C54-C59 -> 873.387 | D64: =D54-D59 -> -1658.516 | E64: =E54-E59 -> -1796.049 | F64: =F54-F59 -> -173.974 | G64: =G54-G59 -> 40.667 | H64: =H54-H59 -> -1485.277 | I64: =I54-I59 -> -3113.27 | J64: =J54-J59 -> -1225.397 | ... V64: =V54-V59 -> 0
B65: Saldo Kokku | C65: =C55-C60 -> 4229.103 | D65: =D55-D60 -> 3196.812 | E65: =E55-E60 -> 1719.461 | F65: =F55-F60 -> 2431.419 | G65: =G55-G60 -> 2452.484 | H65: =H55-H60 -> 4782.947 | I65: =I55-I60 -> 5010.084 | J65: =J55-J60 -> 3614.529 | ... V65: =V55-V60 -> 0
G67: =G51/C51-1 -> 0.053085763 | H67: =H51/D51-1 -> -0.0098398115 | I67: =I51/E51-1 -> 0.011846459 | J67: =J51/F51-1 -> -0.0076937087 | K67: =K51/G51-1 -> 0.099709816 | L67: =L51/H51-1 -> 0.036012779 | M67: =M51/I51-1 -> -0.0073572348 | N67: =N51/J51-1 -> 0.010293936 | ... R67: =R51/N51-1 -> 0.039978216
G68: =G52/C52-1 -> -0.055254809 | H68: =H52/D52-1 -> 0.096887269 | I68: =I52/E52-1 -> 0.17526061 | J68: =J52/F52-1 -> 0.043949813 | K68: =K52/G52-1 -> 0.05890638 | L68: =L52/H52-1 -> -0.082640926 | M68: =M52/I52-1 -> -0.12963442 | N68: =N52/J52-1 -> -0.05813279 | ... R68: =R52/N52-1 -> 0.093652494
G69: =G53/C53-1 -> -0.053517918 | H69: =H53/D53-1 -> 0.036932002 | I69: =I53/E53-1 -> 0.041907564 | J69: =J53/F53-1 -> 0.020807353 | K69: =K53/G53-1 -> 0.068110971 | L69: =L53/H53-1 -> -0.063338454 | M69: =M53/I53-1 -> -0.031140599 | N69: =N53/J53-1 -> 0.015456361 | ... R69: =R53/N53-1 -> -0.030443247
G70: =G54/C54-1 -> -0.10082067 | H70: =H54/D54-1 -> 0.012511633 | I70: =I54/E54-1 -> -0.24235686 | J70: =J54/F54-1 -> -0.15573762 | K70: =K54/G54-1 -> -0.072537874 | L70: =L54/H54-1 -> -0.13291779 | M70: =M54/I54-1 -> 0.11116105 | N70: =N54/J54-1 -> 0.17728788 | ... R70: =R54/N54-1 -> -0.050898881
G71: =G55/C55-1 -> -0.022149554 | H71: =H55/D55-1 -> 0.040688599 | I71: =I55/E55-1 -> 0.059171147 | J71: =J55/F55-1 -> 0.0045139634 | K71: =K55/G55-1 -> 0.064743226 | L71: =L55/H55-1 -> -0.040399708 | M71: =M55/I55-1 -> -0.05583628 | N71: =N55/J55-1 -> -0.004337447 | ... R71: =R55/N55-1 -> 0.040513595
G72: =G56/C56-1 -> 0.010760429 | H72: =H56/D56-1 -> 0.051365427 | I72: =I56/E56-1 -> 0.041683682 | J72: =J56/F56-1 -> -0.004085505 | K72: =K56/G56-1 -> 0.07827933 | L72: =L56/H56-1 -> -0.0052236588 | M72: =M56/I56-1 -> -0.018371737 | N72: =N56/J56-1 -> 0.039227336 | ... R72: =R56/N56-1 -> 0.022255256
G73: =G57/C57-1 -> -0.0089185496 | H73: =H57/D57-1 -> 0.027914203 | I73: =I57/E57-1 -> 0.023385861 | J73: =J57/F57-1 -> 0.00021379179 | K73: =K57/G57-1 -> 0.075319832 | L73: =L57/H57-1 -> -0.014122403 | M73: =M57/I57-1 -> -0.025305514 | N73: =N57/J57-1 -> 0.039418233 | ... R73: =R57/N57-1 -> -0.0091680431
G74: =G58/C58-1 -> -0.026698003 | H74: =H58/D58-1 -> -0.010248872 | I74: =I58/E58-1 -> -0.0053259858 | J74: =J58/F58-1 -> -0.012752536 | K74: =K58/G58-1 -> 0.062101462 | L74: =L58/H58-1 -> -0.0013367849 | M74: =M58/I58-1 -> 0.010879158 | N74: =N58/J58-1 -> 0.047629247 | ... R74: =R58/N58-1 -> -0.02672398
G75: =G59/C59-1 -> -0.019121857 | H75: =H59/D59-1 -> -0.012319153 | I75: =I59/E59-1 -> -0.017472882 | J75: =J59/F59-1 -> -0.032958113 | K75: =K59/G59-1 -> -0.0099450118 | L75: =L59/H59-1 -> -0.0070408772 | M75: =M59/I59-1 -> -0.032106367 | N75: =N59/J59-1 -> -0.015961538 | ... R75: =R59/N59-1 -> 0.050990288
G76: =G60/C60-1 -> -0.0068508105 | H76: =H60/D60-1 -> 0.023452461 | I76: =I60/E60-1 -> 0.018508594 | J76: =J60/F60-1 -> -0.0068900608 | K76: =K60/G60-1 -> 0.066596629 | L76: =L60/H60-1 -> -0.0077390834 | M76: =M60/I60-1 -> -0.01551601 | N76: =N60/J60-1 -> 0.036495812 | ... R76: =R60/N60-1 -> 0.002711644

Sheet Yearly
B1: Eesti elektribilanss, GWh | C1: 2014 | D1: 2015 | E1: 2016 | F1: 2017 | G1: 2018
B2: Võrku sisenenud | C2: =SUM(Monthly!C2:N2) -> 14668.824 | D2: =SUM(Monthly!O2:Z2) -> 14406.474 | E2: =SUM(Monthly!AA2:AL2) -> 13993.959 | F2: =SUM(Monthly!AM2:AX2) -> 13547.32 | G2: =SUM(Monthly!AY2:BJ2) -> 9250.2745
B3: Sisemaine tootmine | C3: =SUM(Monthly!C3:N3) -> 10904.873 | D3: =SUM(Monthly!O3:Z3) -> 9062.2893 | E3: =SUM(Monthly!AA3:AL3) -> 10422.113 | F3: =SUM(Monthly!AM3:AX3) -> 11234.346 | G3: =SUM(Monthly!AY3:BJ3) -> 7265.1779
B4: Taastuvenergia | C4: =SUM(Monthly!C4:N4) -> 1355.9742 | D4: =SUM(Monthly!O4:Z4) -> 1506.9233 | E4: =SUM(Monthly!AA4:AL4) -> 1412.2932 | F4: =SUM(Monthly!AM4:AX4) -> 1620.4946 | G4: =SUM(Monthly!AY4:BJ4) -> 1016.4126
B5: sh tuuleenergia | C5: =SUM(Monthly!C5:N5) -> 576.03468 | D5: =SUM(Monthly!O5:Z5) -> 694.39098 | E5: =SUM(Monthly!AA5:AL5) -> 589.98617 | F5: =SUM(Monthly!AM5:AX5) -> 669.45352 | G5: =SUM(Monthly!AY5:BJ5) -> 340.75938
B6: sh hüdroenergia | C6: =SUM(Monthly!C6:N6) -> 26.609714 | D6: =SUM(Monthly!O6:Z6) -> 26.602044 | E6: =SUM(Monthly!AA6:AL6) -> 34.644268 | F6: =SUM(Monthly!AM6:AX6) -> 29.118183 | G6: =SUM(Monthly!AY6:BJ6) -> 15.328783
B7: sh biomass, biogaas | C7: =SUM(Monthly!C7:N7) -> 752.78687 | D7: =SUM(Monthly!O7:Z7) -> 784.37865 | E7: =SUM(Monthly!AA7:AL7) -> 784.86945 | F7: =SUM(Monthly!AM7:AX7) -> 917.00002 | G7: =SUM(Monthly!AY7:BJ7) -> 650.53774
B8: Mittetaastuv | C8: =SUM(Monthly!C8:N8) -> 9548.8985 | D8: =SUM(Monthly!O8:Z8) -> 7555.3661 | E8: =SUM(Monthly!AA8:AL8) -> 9009.8201 | F8: =SUM(Monthly!AM8:AX8) -> 9613.8516 | G8: =SUM(Monthly!AY8:BJ8) -> 6248.7653
B9: Välisliinidelt import | C9: =SUM(Monthly!C9:N9) -> 3763.9513 | D9: =SUM(Monthly!O9:Z9) -> 5344.1843 | E9: =SUM(Monthly!AA9:AL9) -> 3571.8455 | F9: =SUM(Monthly!AM9:AX9) -> 2312.9738 | G9: =SUM(Monthly!AY9:BJ9) -> 1985.0966
B10: sh füüsiline import | C10: =SUM(Monthly!C10:N10) -> 15.790112 | D10: =SUM(Monthly!O10:Z10) -> 401.79101 | E10: =SUM(Monthly!AA10:AL10) -> 372.61542 | F10: =SUM(Monthly!AM10:AX10) -> 124.42496 | G10: =SUM(Monthly!AY10:BJ10) -> 272.59388
B11: sh füüsiline transiit | C11: =SUM(Monthly!C11:N11) -> 3748.1612 | D11: =SUM(Monthly!O11:Z11) -> 4942.3933 | E11: =SUM(Monthly!AA11:AL11) -> 3199.2302 | F11: =SUM(Monthly!AM11:AX11) -> 2188.5489 | G11: =SUM(Monthly!AY11:BJ11) -> 1693.3461
B12: Võrku läbinud | C12: =SUM(Monthly!C12:N12) -> 14668.824 | D12: =SUM(Monthly!O12:Z12) -> 14406.474 | E12: =SUM(Monthly!AA12:AL12) -> 13993.959 | F12: =SUM(Monthly!AM12:AX12) -> 13547.32 | G12: =SUM(Monthly!AY12:BJ12) -> 9250.2745
B13: Sisemaine tarbimine | C13: =SUM(Monthly!C13:N13) -> 8120.4279 | D13: =SUM(Monthly!O13:Z13) -> 8137.1159 | E13: =SUM(Monthly!AA13:AL13) -> 8384.591 | F13: =SUM(Monthly!AM13:AX13) -> 8499.9785 | G13: =SUM(Monthly!AY13:BJ13) -> 5741.7976
... B16: sh füüsiline transiit | C16: =SUM(Monthly!C16:N16) -> 3748.1612 | D16: =SUM(Monthly!O16:Z16) -> 4942.3933 | E16: =SUM(Monthly!AA16:AL16) -> 3199.2302 | F16: =SUM(Monthly!AM16:AX16) -> 2188.5489 | G16: =SUM(Monthly!AY16:BJ16) -> 1693.3461
B17: Bilanss | C17: =C3-C13 -> 2784.4447 | D17: =D3-D13 -> 925.17349 | E17: =E3-E13 -> 2037.5222 | F17: =F3-F13 -> 2734.3677 | G17: =G3-G13 -> 1523.3803
B19: Sisemaine tootmine | D19: =D3/C3-1 -> -0.16896881 | E19: =E3/D3-1 -> 0.15005302 | F19: =F3/E3-1 -> 0.077933615
B20: Taastuvenergia | D20: =D4/C4-1 -> 0.1113215 | E20: =E4/D4-1 -> -0.06279689 | F20: =F4/E4-1 -> 0.14742083
B21: sh tuuleenergia | D21: =D5/C5-1 -> 0.20546732 | E21: =E5/D5-1 -> -0.1503545 | F21: =F5/E5-1 -> 0.13469358
B22: sh hüdroenergia | D22: =D6/C6-1 -> -0.00028825875 | E22: =E6/D6-1 -> 0.30231604 | F22: =F6/E6-1 -> -0.15950936
B23: sh biomass, biogaas | D23: =D7/C7-1 -> 0.041966432 | E23: =E7/D7-1 -> 0.00062572539 | F23: =F7/E7-1 -> 0.16834719
B24: Mittetaastuv | D24: =D8/C8-1 -> -0.20877093 | E24: =E8/D8-1 -> 0.19250609 | F24: =F8/E8-1 -> 0.067041465
B25: Sisemaine tarbimine | D25: =D13/C13-1 -> 0.0020550572 | E25: =E13/D13-1 -> 0.030413132 | F25: =F13/E13-1 -> 0.013761843
B27: Baltikumi elektribilanss, GWh | C27: 2014 | D27: 2015 | E27: 2016 | F27: 2017 | G27: 2018
B28: Tootmine Eestis | C28: =SUM(Monthly!C30:N30) -> 10904.873 | D28: =SUM(Monthly!O30:Z30) -> 9062.2893 | E28: =SUM(Monthly!AA30:AL30) -> 10422.113 | F28: =SUM(Monthly!AM30:AX30) -> 11234.346 | G28: =SUM(Monthly!AY30:BJ30) -> 7265.1779
B29: Tootmine Lätis | C29: =SUM(Monthly!C31:N31) -> 4926.0494 | D29: =SUM(Monthly!O31:Z31) -> 5322.4142 | E29: =SUM(Monthly!AA31:AL31) -> 6216.9806 | F29: =SUM(Monthly!AM31:AX31) -> 7303.4931 | G29: =SUM(Monthly!AY31:BJ31) -> 4681.992
B30: Tootmine Leedus | C30: =SUM(Monthly!C32:N32) -> 2981.2318 | D30: =SUM(Monthly!O32:Z32) -> 3268.5506 | E30: =SUM(Monthly!AA32:AL32) -> 2659.922 | F30: =SUM(Monthly!AM32:AX32) -> 2483.4093 | G30: =SUM(Monthly!AY32:BJ32) -> 2151.836
B31: Kokku | C31: =SUM(Monthly!C33:N33) -> 18812.154 | D31: =SUM(Monthly!O33:Z33) -> 17653.254 | E31: =SUM(Monthly!AA33:AL33) -> 19299.016 | F31: =SUM(Monthly!AM33:AX33) -> 21021.249 | G31: =SUM(Monthly!AY33:BJ33) -> 14099.006
B32: Tarbimine Eestis | C32: =SUM(Monthly!C34:N34) -> 8120.4279 | D32: =SUM(Monthly!O34:Z34) -> 8137.1159 | E32: =SUM(Monthly!AA34:AL34) -> 8384.591 | F32: =SUM(Monthly!AM34:AX34) -> 8499.9785 | G32: =SUM(Monthly!AY34:BJ34) -> 5741.7976
B33: Tarbimine Lätis | C33: =SUM(Monthly!C35:N35) -> 7185.2119 | D33: =SUM(Monthly!O35:Z35) -> 7085.8541 | E33: =SUM(Monthly!AA35:AL35) -> 7224.0445 | F33: =SUM(Monthly!AM35:AX35) -> 7227.7383 | G33: =SUM(Monthly!AY35:BJ35) -> 4853.813
B34: Tarbimine Leedus | C34: =SUM(Monthly!C36:N36) -> 10618.099 | D34: =SUM(Monthly!O36:Z36) -> 10444.532 | E34: =SUM(Monthly!AA36:AL36) -> 10114.278 | F34: =SUM(Monthly!AM36:AX36) -> 10352.658 | G34: =SUM(Monthly!AY36:BJ36) -> 7987.365
B35: Kokku | C35: =SUM(Monthly!C37:N37) -> 25923.739 | D35: =SUM(Monthly!O37:Z37) -> 25667.502 | E35: =SUM(Monthly!AA37:AL37) -> 25722.914 | F35: =SUM(Monthly!AM37:AX37) -> 26080.375 | G35: =SUM(Monthly!AY37:BJ37) -> 18582.976
B36: Eesti saldo | C36: =C28-C32 -> 2784.4447 | D36: =D28-D32 -> 925.17349 | E36: =E28-E32 -> 2037.5222 | F36: =F28-F32 -> 2734.3677 | G36: =G28-G32 -> 1523.3803
B37: Läti saldo | C37: =C29-C33 -> -2259.1625 | D37: =D29-D33 -> -1763.4399 | E37: =E29-E33 -> -1007.0639 | F37: =F29-F33 -> 75.754812 | G37: =G29-G33 -> -171.821
B38: Leedu saldo | C38: =C30-C34 -> -7636.8674 | D38: =D30-D34 -> -7175.9816 | E38: =E30-E34 -> -7454.356 | F38: =F30-F34 -> -7869.2487 | G38: =G30-G34 -> -5835.529
B39: Saldo Kokku | C39: =C31-C35 -> -7111.5852 | D39: =D31-D35 -> -8014.248 | E39: =E31-E35 -> -6423.8977 | F39: =F31-F35 -> -5059.1261 | G39: =G31-G35 -> -4483.9697
B41: Tootmine Eestis | D41: =D28/C28-1 -> -0.16896881 | E41: =E28/D28-1 -> 0.15005302 | F41: =F28/E28-1 -> 0.077933615
B42: Tootmine Lätis | D42: =D29/C29-1 -> 0.08046302 | E42: =E29/D29-1 -> 0.16807532 | F42: =F29/E29-1 -> 0.1747653
B43: Tootmine Leedus | D43: =D30/C30-1 -> 0.096375866 | E43: =E30/D30-1 -> -0.1862075 | F43: =F30/E30-1 -> -0.066360089
B44: Kokku | D44: =D31/C31-1 -> -0.061603775 | E44: =E31/D31-1 -> 0.093227102 | F44: =F31/E31-1 -> 0.089239409
B45: Tarbimine Eestis | D45: =D32/C32-1 -> 0.0020550572 | E45: =E32/D32-1 -> 0.030413132 | F45: =F32/E32-1 -> 0.013761843
B46: Tarbimine Lätis | D46: =D33/C33-1 -> -0.013828091 | E46: =E33/D33-1 -> 0.019502294 | F46: =F33/E33-1 -> 0.00051131769
B47: Tarbimine Leedus | D47: =D34/C34-1 -> -0.016346335 | E47: =E34/D34-1 -> -0.03161982 | F47: =F34/E34-1 -> 0.023568662
B48: Kokku | D48: =D35/C35-1 -> -0.0098842541 | E48: =E35/D35-1 -> 0.0021588139 | F48: =F35/E35-1 -> 0.013896607
B50: Põhjamaade elektribilanss, GWh | C50: 2014 | D50: 2015 | E50: 2016 | F50: 2017 | G50: 2018
B51: Tootmine Norras | C51: =SUM(Monthly!C53:N53) -> 141578.73 | D51: =SUM(Monthly!O53:Z53) -> 143375.28 | E51: =SUM(Monthly!AA53:AL53) -> 148797.04 | F51: =SUM(Monthly!AM53:AX53) -> 148196.23 | G51: =SUM(Monthly!AY53:BJ53) -> 94291.064
B52: Tootmine Rootsis | C52: =SUM(Monthly!C54:N54) -> 150162.94 | D52: =SUM(Monthly!O54:Z54) -> 157881.58 | E52: =SUM(Monthly!AA54:AL54) -> 150411.81 | F52: =SUM(Monthly!AM54:AX54) -> 158530.47 | G52: =SUM(Monthly!AY54:BJ54) -> 104069.83
B53: Tootmine Soomes | C53: =SUM(Monthly!C55:N55) -> 64774.272 | D53: =SUM(Monthly!O55:Z55) -> 65237.563 | E53: =SUM(Monthly!AA55:AL55) -> 65319.351 | F53: =SUM(Monthly!AM55:AX55) -> 63339.489 | G53: =SUM(Monthly!AY55:BJ55) -> 43192.556
B54: Tootmine Taanis | C54: =SUM(Monthly!C56:N56) -> 30749.183 | D54: =SUM(Monthly!O56:Z56) -> 27024.849 | E54: =SUM(Monthly!AA56:AL56) -> 27338.987 | F54: =SUM(Monthly!AM56:AX56) -> 27996.413 | G54: =SUM(Monthly!AY56:BJ56) -> 18359.647
B55: Kokku | C55: =SUM(Monthly!C57:N57) -> 387265.13 | D55: =SUM(Monthly!O57:Z57) -> 393519.27 | E55: =SUM(Monthly!AA57:AL57) -> 391867.18 | F55: =SUM(Monthly!AM57:AX57) -> 398062.6 | G55: =SUM(Monthly!AY57:BJ57) -> 259913.1
B56: Tarbimine Norras | C56: =SUM(Monthly!C58:N58) -> 125875.84 | D56: =SUM(Monthly!O58:Z58) -> 128605.32 | E56: =SUM(Monthly!AA58:AL58) -> 132333.97 | F56: =SUM(Monthly!AM58:AX58) -> 132887.36 | G56: =SUM(Monthly!AY58:BJ58) -> 88642.56
B57: Tarbimine Rootsis | C57: =SUM(Monthly!C59:N59) -> 133793.62 | D57: =SUM(Monthly!O59:Z59) -> 134930.32 | E57: =SUM(Monthly!AA59:AL59) -> 138185.65 | F57: =SUM(Monthly!AM59:AX59) -> 138115.78 | G57: =SUM(Monthly!AY59:BJ59) -> 90889.05
B58: Tarbimine Soomes | C58: =SUM(Monthly!C60:N60) -> 82514.54 | D58: =SUM(Monthly!O60:Z60) -> 81315.464 | E58: =SUM(Monthly!AA60:AL60) -> 83948.795 | F58: =SUM(Monthly!AM60:AX60) -> 83403.366 | G58: =SUM(Monthly!AY60:BJ60) -> 56416.458
B59: Tarbimine Taanis | C59: =SUM(Monthly!C61:N61) -> 33504.335 | D59: =SUM(Monthly!O61:Z61) -> 32808.126 | E59: =SUM(Monthly!AA61:AL61) -> 32283.465 | F59: =SUM(Monthly!AM61:AX61) -> 32440.139 | G59: =SUM(Monthly!AY61:BJ61) -> 22253.533
B60: Kokku | C60: =SUM(Monthly!C62:N62) -> 375688.33 | D60: =SUM(Monthly!O62:Z62) -> 377659.22 | E60: =SUM(Monthly!AA62:AL62) -> 386751.88 | F60: =SUM(Monthly!AM62:AX62) -> 386846.64 | G60: =SUM(Monthly!AY62:BJ62) -> 258201.6
B61: Norra saldo | C61: =C51-C56 -> 15702.897 | D61: =D51-D56 -> 14769.963 | E61: =E51-E56 -> 16463.07 | F61: =F51-F56 -> 15308.865 | G61: =G51-G56 -> 5648.504
B62: Rootsi saldo | C62: =C52-C57 -> 16369.318 | D62: =D52-D57 -> 22951.259 | E62: =E52-E57 -> 12226.16 | F62: =F52-F57 -> 20414.689 | G62: =G52-G57 -> 13180.781
B63: Soome saldo | C63: =C53-C58 -> -17740.268 | D63: =D53-D58 -> -16077.901 | E63: =E53-E58 -> -18629.444 | F63: =F53-F58 -> -20063.877 | G63: =G53-G58 -> -13223.902
B64: Taani saldo | C64: =C54-C59 -> -2755.152 | D64: =D54-D59 -> -5783.277 | E64: =E54-E59 -> -4944.478 | F64: =F54-F59 -> -4443.726 | G64: =G54-G59 -> -3893.886
B65: Saldo Kokku | C65: =C55-C60 -> 11576.795 | D65: =D55-D60 -> 15860.044 | E65: =E55-E60 -> 5115.308 | F65: =F55-F60 -> 11215.951 | G65: =G55-G60 -> 1711.497
D67: =D51/C51-1 -> 0.012689377 | E67: =E51/D51-1 -> 0.037815145 | F67: =F51/E51-1 -> -0.004037782
D68: =D52/C52-1 -> 0.051401765 | E68: =E52/D52-1 -> -0.047312468 | F68: =F52/E52-1 -> 0.053976194
D69: =D53/C53-1 -> 0.0071523922 | E69: =E53/D53-1 -> 0.0012536949 | F69: =F53/E53-1 -> -0.030310497
D70: =D54/C54-1 -> -0.12111977 | E70: =E54/D54-1 -> 0.011624043 | F70: =F54/E54-1 -> 0.024047197
D71: =D55/C55-1 -> 0.016149513 | E71: =E55/D55-1 -> -0.004198229 | F71: =F55/E55-1 -> 0.015809977
D72: =D56/C56-1 -> 0.021683907 | E72: =E56/D56-1 -> 0.028992969 | F72: =F56/E56-1 -> 0.0041818061
D73: =D57/C57-1 -> 0.0084959135 | E73: =E57/D57-1 -> 0.024126024 | F73: =F57/E57-1 -> -0.00050563861
D74: =D58/C58-1 -> -0.014531693 | E74: =E58/D58-1 -> 0.032384135 | F74: =F58/E58-1 -> -0.0064971629
D75: =D59/C59-1 -> -0.020779669 | E75: =E59/D59-1 -> -0.0159918 | F75: =F59/E59-1 -> 0.0048530726
D76: =D60/C60-1 -> 0.0052460879 | E76: =E60/D60-1 -> 0.02407634 | F76: =F60/E60-1 -> 0.00024503566
